Workbook

Sheet Mau A2
Q1: Mẫu A2
A2: UBND THÀNH PHỐ HỒ CHÍ MINH | K2: CỘNG HÒA XÃ HỘI CHỦ NGHĨA VIỆT NAM
A3: TRƯỜNG CAO ĐẲNG LÝ TỰ TRỌNG THÀNH PHỐ HỒ CHÍ MINH | K3: Độc lập - Tự do - Hạnh phúc
A4: BẢNG TỔNG KẾT KHỐI LƯỢNG CÔNG VIỆC CỦA GIẢNG VIÊN TRONG NĂM HỌC 2017 - 2018
A5: KHOA : CÔNG NGHỆ THÔNG TIN
A7: TT | B7: Họ và Tên | D7: Thực hiện trong năm học | J7: Số tiết chuẩn giảng dạy cả năm còn lại | K7: Số tiết chuẩn "Học tập, bồi dưỡng chuẩn hóa, bồi dưỡng nâng cao, nghiên cứu khoa học" còn lại | L7: Số tiết chuẩn "Thực tập tại doanh nghiệp hoặc cơ quan chuyên môn" còn lại | M7: Số tiết thừa, thiếu giảng dạy | N7: Số tiết thừa, thiếu "Học tập, bồi dưỡng chuẩn hóa, bồi dưỡng nâng cao, nghiên cứu khoa học" | O7: Số tiết thừa, thiếu "Thực tập tại doanh nghiệp hoặc cơ quan chuyên môn" | P7: Tổng số tiết thừa, thiếu năm học 2017-2018 | Q7: Số tiết thiếu năm học 2016-2017 | R7: Tổng số tiết thừa, thiếu (sau khi cộng số tiết thiếu năm học 2016-2017)
D8: Số tiết quy đổi và đã nhân hệ số | E8: Kiêm nhiệm | F8: Số tiết soạn đề, coi thi, chấm thi | G8: Tổng tiết thực hiện | H8: Số tiết "Học tập, bồi dưỡng chuẩn hóa, bồi dưỡng nâng cao, nghiên cứu khoa học" | I8: Số tiết "Thực tập tại doanh nghiệp hoặc cơ quan chuyên môn"
R9: Khối lượng vượt giờ (tính phụ trội) | S9: Khối lượng thỉnh giảng (tiết thỉnh giảng) | T9: Số tiết thiếu năm học 2017-2018
A10: (1) | B10: (2) | D10: (3) | E10: (4) | F10: (5) | G10: (6) | H10: (7) | I10: (8) | J10: (9) | K10: (10) | L10: (11) | M10: (12) | N10: (13) | O10: (14) | Q10: (15) | R10: (16) | S10: (17) | T10: (18)
A11: 1 | B11: =IF('Mau A1'!#REF!="","",'Mau A1'!#REF!) -> #REF! | C11: =IF('Mau A1'!#REF!="","",'Mau A1'!#REF!) -> #REF! | D11: =SUM('Mau A1'!#REF!) -> #REF! | E11: =SUM('Mau A1'!#REF!) -> #REF! | F11: =SUM('Mau A1'!#REF!) -> #REF! | G11: =SUM('Mau A1'!#REF!) -> #REF! | H11: =SUM('Mau A1'!#REF!) -> #REF! | I11: =SUM('Mau A1'!#REF!) -> #REF! | J11: =SUM('Mau A1'!#REF!) -> #REF! | K11: =SUM('Mau A1'!#REF!) -> #REF! | ... Q11: =SUM('Mau A1'!#REF!) -> #REF! | R11: =ROUND(IF(AND(0<M11<200,0<(M11-Q11)<200,N11>=0,O11>=0),M11-Q11,IF(OR(AND(P11>0,P11>200),(P11-Q11)>200),"200",IF(OR(AND(N11<=0,O11=0,P11<200),AND(N11=0,O11<0,P11<200),AND(N11<0,O11<0,P11<200)),P11-Q11, ))),1) -> #REF! | S11: =ROUND(IF(AND(N11>0,O11>0,M11<=0,R11=0),P11-Q11,IF(AND(P11>0,R11=200),P11-Q11-R11, )),1) -> #REF! | T11: =ROUND(IF(SUM(M11:O11)-Q11<0,SUM(M11:O11)-Q11, ),1) -> #REF!
A12: 2 | B12: =IF('Mau A1'!#REF!="","",'Mau A1'!#REF!) -> #REF! | C12: =IF('Mau A1'!#REF!="","",'Mau A1'!#REF!) -> #REF! | D12: =SUM('Mau A1'!#REF!) -> #REF! | E12: =SUM('Mau A1'!#REF!) -> #REF! | F12: =SUM('Mau A1'!#REF!) -> #REF! | G12: =SUM('Mau A1'!#REF!) -> #REF! | H12: =SUM('Mau A1'!#REF!) -> #REF! | I12: =SUM('Mau A1'!#REF!) -> #REF! | J12: =SUM('Mau A1'!#REF!) -> #REF! | K12: =SUM('Mau A1'!#REF!) -> #REF! | ... Q12: =SUM('Mau A1'!#REF!) -> #REF! | R12: =ROUND(IF(AND(0<M12<200,0<(M12-Q12)<200,N12>=0,O12>=0),M12-Q12,IF(OR(AND(P12>0,P12>200),(P12-Q12)>200),"200",IF(OR(AND(N12<=0,O12=0,P12<200),AND(N12=0,O12<0,P12<200),AND(N12<0,O12<0,P12<200)),P12-Q12, ))),1) -> #REF! | S12: =ROUND(IF(AND(N12>0,O12>0,M12<=0,R12=0),P12-Q12,IF(AND(P12>0,R12=200),P12-Q12-R12, )),1) -> #REF! | T12: =ROUND(IF(SUM(M12:O12)-Q12<0,SUM(M12:O12)-Q12, ),1) -> #REF!
A13: 3 | B13: =IF('Mau A1'!#REF!="","",'Mau A1'!#REF!) -> #REF! | C13: =IF('Mau A1'!#REF!="","",'Mau A1'!#REF!) -> #REF! | D13: =SUM('Mau A1'!#REF!) -> #REF! | E13: =SUM('Mau A1'!#REF!) -> #REF! | F13: =SUM('Mau A1'!#REF!) -> #REF! | G13: =SUM('Mau A1'!#REF!) -> #REF! | H13: =SUM('Mau A1'!#REF!) -> #REF! | I13: =SUM('Mau A1'!#REF!) -> #REF! | J13: =SUM('Mau A1'!#REF!) -> #REF! | K13: =SUM('Mau A1'!#REF!) -> #REF! | ... Q13: =SUM('Mau A1'!#REF!) -> #REF! | R13: =ROUND(IF(AND(0<M13<200,0<(M13-Q13)<200,N13>=0,O13>=0),M13-Q13,IF(OR(AND(P13>0,P13>200),(P13-Q13)>200),"200",IF(OR(AND(N13<=0,O13=0,P13<200),AND(N13=0,O13<0,P13<200),AND(N13<0,O13<0,P13<200)),P13-Q13, ))),1) -> #REF! | S13: =ROUND(IF(AND(N13>0,O13>0,M13<=0,R13=0),P13-Q13,IF(AND(P13>0,R13=200),P13-Q13-R13, )),1) -> #REF! | T13: =ROUND(IF(SUM(M13:O13)-Q13<0,SUM(M13:O13)-Q13, ),1) -> #REF!
A14: 4 | B14: =IF('Mau A1'!#REF!="","",'Mau A1'!#REF!) -> #REF! | C14: =IF('Mau A1'!#REF!="","",'Mau A1'!#REF!) -> #REF! | D14: =SUM('Mau A1'!#REF!) -> #REF! | E14: =SUM('Mau A1'!#REF!) -> #REF! | F14: =SUM('Mau A1'!#REF!) -> #REF! | G14: =SUM('Mau A1'!#REF!) -> #REF! | H14: =SUM('Mau A1'!#REF!) -> #REF! | I14: =SUM('Mau A1'!#REF!) -> #REF! | J14: =SUM('Mau A1'!#REF!) -> #REF! | K14: =SUM('Mau A1'!#REF!) -> #REF! | ... Q14: =SUM('Mau A1'!#REF!) -> #REF! | R14: =ROUND(IF(AND(0<M14<200,0<(M14-Q14)<200,N14>=0,O14>=0),M14-Q14,IF(OR(AND(P14>0,P14>200),(P14-Q14)>200),"200",IF(OR(AND(N14<=0,O14=0,P14<200),AND(N14=0,O14<0,P14<200),AND(N14<0,O14<0,P14<200)),P14-Q14, ))),1) -> #REF! | S14: =ROUND(IF(AND(N14>0,O14>0,M14<=0,R14=0),P14-Q14,IF(AND(P14>0,R14=200),P14-Q14-R14, )),1) -> #REF! | T14: =ROUND(IF(SUM(M14:O14)-Q14<0,SUM(M14:O14)-Q14, ),1) -> #REF!
A15: 5 | B15: =IF('Mau A1'!#REF!="","",'Mau A1'!#REF!) -> #REF! | C15: =IF('Mau A1'!#REF!="","",'Mau A1'!#REF!) -> #REF! | D15: =SUM('Mau A1'!#REF!) -> #REF! | E15: =SUM('Mau A1'!#REF!) -> #REF! | F15: =SUM('Mau A1'!#REF!) -> #REF! | G15: =SUM('Mau A1'!#REF!) -> #REF! | H15: =SUM('Mau A1'!#REF!) -> #REF! | I15: =SUM('Mau A1'!#REF!) -> #REF! | J15: =SUM('Mau A1'!#REF!) -> #REF! | K15: =SUM('Mau A1'!#REF!) -> #REF! | ... Q15: =SUM('Mau A1'!#REF!) -> #REF! | R15: =ROUND(IF(AND(0<M15<200,0<(M15-Q15)<200,N15>=0,O15>=0),M15-Q15,IF(OR(AND(P15>0,P15>200),(P15-Q15)>200),"200",IF(OR(AND(N15<=0,O15=0,P15<200),AND(N15=0,O15<0,P15<200),AND(N15<0,O15<0,P15<200)),P15-Q15, ))),1) -> #REF! | S15: =ROUND(IF(AND(N15>0,O15>0,M15<=0,R15=0),P15-Q15,IF(AND(P15>0,R15=200),P15-Q15-R15, )),1) -> #REF! | T15: =ROUND(IF(SUM(M15:O15)-Q15<0,SUM(M15:O15)-Q15, ),1) -> #REF!
A16: 6 | B16: =IF('Mau A1'!#REF!="","",'Mau A1'!#REF!) -> #REF! | C16: =IF('Mau A1'!#REF!="","",'Mau A1'!#REF!) -> #REF! | D16: =SUM('Mau A1'!#REF!) -> #REF! | E16: =SUM('Mau A1'!#REF!) -> #REF! | F16: =SUM('Mau A1'!#REF!) -> #REF! | G16: =SUM('Mau A1'!#REF!) -> #REF! | H16: =SUM('Mau A1'!#REF!) -> #REF! | I16: =SUM('Mau A1'!#REF!) -> #REF! | J16: =SUM('Mau A1'!#REF!) -> #REF! | K16: =SUM('Mau A1'!#REF!) -> #REF! | ... Q16: =SUM('Mau A1'!#REF!) -> #REF! | R16: =ROUND(IF(AND(0<M16<200,0<(M16-Q16)<200,N16>=0,O16>=0),M16-Q16,IF(OR(AND(P16>0,P16>200),(P16-Q16)>200),"200",IF(OR(AND(N16<=0,O16=0,P16<200),AND(N16=0,O16<0,P16<200),AND(N16<0,O16<0,P16<200)),P16-Q16, ))),1) -> #REF! | S16: =ROUND(IF(AND(N16>0,O16>0,M16<=0,R16=0),P16-Q16,IF(AND(P16>0,R16=200),P16-Q16-R16, )),1) -> #REF! | T16: =ROUND(IF(SUM(M16:O16)-Q16<0,SUM(M16:O16)-Q16, ),1) -> #REF!
A17: 7 | B17: =IF('Mau A1'!#REF!="","",'Mau A1'!#REF!) -> #REF! | C17: =IF('Mau A1'!#REF!="","",'Mau A1'!#REF!) -> #REF! | D17: =SUM('Mau A1'!#REF!) -> #REF! | E17: =SUM('Mau A1'!#REF!) -> #REF! | F17: =SUM('Mau A1'!#REF!) -> #REF! | G17: =SUM('Mau A1'!#REF!) -> #REF! | H17: =SUM('Mau A1'!#REF!) -> #REF! | I17: =SUM('Mau A1'!#REF!) -> #REF! | J17: =SUM('Mau A1'!#REF!) -> #REF! | K17: =SUM('Mau A1'!#REF!) -> #REF! | ... Q17: =SUM('Mau A1'!#REF!) -> #REF! | R17: =ROUND(IF(AND(0<M17<200,0<(M17-Q17)<200,N17>=0,O17>=0),M17-Q17,IF(OR(AND(P17>0,P17>200),(P17-Q17)>200),"200",IF(OR(AND(N17<=0,O17=0,P17<200),AND(N17=0,O17<0,P17<200),AND(N17<0,O17<0,P17<200)),P17-Q17, ))),1) -> #REF! | S17: =ROUND(IF(AND(N17>0,O17>0,M17<=0,R17=0),P17-Q17,IF(AND(P17>0,R17=200),P17-Q17-R17, )),1) -> #REF! | T17: =ROUND(IF(SUM(M17:O17)-Q17<0,SUM(M17:O17)-Q17, ),1) -> #REF!
A18: 8 | B18: =IF('Mau A1'!#REF!="","",'Mau A1'!#REF!) -> #REF! | C18: =IF('Mau A1'!#REF!="","",'Mau A1'!#REF!) -> #REF! | D18: =SUM('Mau A1'!#REF!) -> #REF! | E18: =SUM('Mau A1'!#REF!) -> #REF! | F18: =SUM('Mau A1'!#REF!) -> #REF! | G18: =SUM('Mau A1'!#REF!) -> #REF! | H18: =SUM('Mau A1'!#REF!) -> #REF! | I18: =SUM('Mau A1'!#REF!) -> #REF! | J18: =SUM('Mau A1'!#REF!) -> #REF! | K18: =SUM('Mau A1'!#REF!) -> #REF! | ... Q18: =SUM('Mau A1'!#REF!) -> #REF! | R18: =ROUND(IF(AND(0<M18<200,0<(M18-Q18)<200,N18>=0,O18>=0),M18-Q18,IF(OR(AND(P18>0,P18>200),(P18-Q18)>200),"200",IF(OR(AND(N18<=0,O18=0,P18<200),AND(N18=0,O18<0,P18<200),AND(N18<0,O18<0,P18<200)),P18-Q18, ))),1) -> #REF! | S18: =ROUND(IF(AND(N18>0,O18>0,M18<=0,R18=0),P18-Q18,IF(AND(P18>0,R18=200),P18-Q18-R18, )),1) -> #REF! | T18: =ROUND(IF(SUM(M18:O18)-Q18<0,SUM(M18:O18)-Q18, ),1) -> #REF!
A19: 9 | B19: =IF('Mau A1'!#REF!="","",'Mau A1'!#REF!) -> #REF! | C19: =IF('Mau A1'!#REF!="","",'Mau A1'!#REF!) -> #REF! | D19: =SUM('Mau A1'!#REF!) -> #REF! | E19: =SUM('Mau A1'!#REF!) -> #REF! | F19: =SUM('Mau A1'!#REF!) -> #REF! | G19: =SUM('Mau A1'!#REF!) -> #REF! | H19: =SUM('Mau A1'!#REF!) -> #REF! | I19: =SUM('Mau A1'!#REF!) -> #REF! | J19: =SUM('Mau A1'!#REF!) -> #REF! | K19: =SUM('Mau A1'!#REF!) -> #REF! | ... Q19: =SUM('Mau A1'!#REF!) -> #REF! | R19: =ROUND(IF(AND(0<M19<200,0<(M19-Q19)<200,N19>=0,O19>=0),M19-Q19,IF(OR(AND(P19>0,P19>200),(P19-Q19)>200),"200",IF(OR(AND(N19<=0,O19=0,P19<200),AND(N19=0,O19<0,P19<200),AND(N19<0,O19<0,P19<200)),P19-Q19, ))),1) -> #REF! | S19: =ROUND(IF(AND(N19>0,O19>0,M19<=0,R19=0),P19-Q19,IF(AND(P19>0,R19=200),P19-Q19-R19, )),1) -> #REF! | T19: =ROUND(IF(SUM(M19:O19)-Q19<0,SUM(M19:O19)-Q19, ),1) -> #REF!
A20: 10 | B20: =IF('Mau A1'!#REF!="","",'Mau A1'!#REF!) -> #REF! | C20: Cường | D20: =SUM('Mau A1'!#REF!) -> #REF! | E20: =SUM('Mau A1'!#REF!) -> #REF! | F20: =SUM('Mau A1'!#REF!) -> #REF! | G20: =SUM('Mau A1'!#REF!) -> #REF! | H20: =SUM('Mau A1'!#REF!) -> #REF! | I20: =SUM('Mau A1'!#REF!) -> #REF! | J20: =SUM('Mau A1'!#REF!) -> #REF! | K20: =SUM('Mau A1'!#REF!) -> #REF! | ... Q20: =SUM('Mau A1'!#REF!) -> #REF! | R20: =ROUND(IF(AND(0<M20<200,0<(M20-Q20)<200,N20>=0,O20>=0),M20-Q20,IF(OR(AND(P20>0,P20>200),(P20-Q20)>200),"200",IF(OR(AND(N20<=0,O20=0,P20<200),AND(N20=0,O20<0,P20<200),AND(N20<0,O20<0,P20<200)),P20-Q20, ))),1) -> #REF! | S20: =ROUND(IF(AND(N20>0,O20>0,M20<=0,R20=0),P20-Q20,IF(AND(P20>0,R20=200),P20-Q20-R20, )),1) -> #REF! | T20: =ROUND(IF(SUM(M20:O20)-Q20<0,SUM(M20:O20)-Q20, ),1) -> #REF!
A21: 11 | B21: =IF('Mau A1'!#REF!="","",'Mau A1'!#REF!) -> #REF! | C21: Trang | D21: =SUM('Mau A1'!#REF!) -> #REF! | E21: =SUM('Mau A1'!#REF!) -> #REF! | F21: =SUM('Mau A1'!#REF!) -> #REF! | G21: =SUM('Mau A1'!#REF!) -> #REF! | H21: =SUM('Mau A1'!#REF!) -> #REF! | I21: =SUM('Mau A1'!#REF!) -> #REF! | J21: =SUM('Mau A1'!#REF!) -> #REF! | K21: =SUM('Mau A1'!#REF!) -> #REF! | ... Q21: =SUM('Mau A1'!#REF!) -> #REF! | R21: =ROUND(IF(AND(0<M21<200,0<(M21-Q21)<200,N21>=0,O21>=0),M21-Q21,IF(OR(AND(P21>0,P21>200),(P21-Q21)>200),"200",IF(OR(AND(N21<=0,O21=0,P21<200),AND(N21=0,O21<0,P21<200),AND(N21<0,O21<0,P21<200)),P21-Q21, ))),1) -> #REF! | S21: =ROUND(IF(AND(N21>0,O21>0,M21<=0,R21=0),P21-Q21,IF(AND(P21>0,R21=200),P21-Q21-R21, )),1) -> #REF! | T21: =ROUND(IF(SUM(M21:O21)-Q21<0,SUM(M21:O21)-Q21, ),1) -> #REF!
A22: 12 | B22: =IF('Mau A1'!#REF!="","",'Mau A1'!#REF!) -> #REF! | C22: Quyên | D22: =SUM('Mau A1'!#REF!) -> #REF! | E22: =SUM('Mau A1'!#REF!) -> #REF! | F22: =SUM('Mau A1'!#REF!) -> #REF! | G22: =SUM('Mau A1'!#REF!) -> #REF! | H22: =SUM('Mau A1'!#REF!) -> #REF! | I22: =SUM('Mau A1'!#REF!) -> #REF! | J22: =SUM('Mau A1'!#REF!) -> #REF! | K22: =SUM('Mau A1'!#REF!) -> #REF! | ... Q22: =SUM('Mau A1'!#REF!) -> #REF! | R22: =ROUND(IF(AND(0<M22<200,0<(M22-Q22)<200,N22>=0,O22>=0),M22-Q22,IF(OR(AND(P22>0,P22>200),(P22-Q22)>200),"200",IF(OR(AND(N22<=0,O22=0,P22<200),AND(N22=0,O22<0,P22<200),AND(N22<0,O22<0,P22<200)),P22-Q22, ))),1) -> #REF! | S22: =ROUND(IF(AND(N22>0,O22>0,M22<=0,R22=0),P22-Q22,IF(AND(P22>0,R22=200),P22-Q22-R22, )),1) -> #REF! | T22: =ROUND(IF(SUM(M22:O22)-Q22<0,SUM(M22:O22)-Q22, ),1) -> #REF!
A23: 13 | B23: =IF('Mau A1'!#REF!="","",'Mau A1'!#REF!) -> #REF! | C23: =IF('Mau A1'!#REF!="","",'Mau A1'!#REF!) -> #REF! | D23: =SUM('Mau A1'!#REF!) -> #REF! | E23: =SUM('Mau A1'!#REF!) -> #REF! | F23: =SUM('Mau A1'!#REF!) -> #REF! | G23: =SUM('Mau A1'!#REF!) -> #REF! | H23: =SUM('Mau A1'!#REF!) -> #REF! | I23: =SUM('Mau A1'!#REF!) -> #REF! | J23: =SUM('Mau A1'!#REF!) -> #REF! | K23: =SUM('Mau A1'!#REF!) -> #REF! | ... Q23: =SUM('Mau A1'!#REF!) -> #REF! | R23: =ROUND(IF(AND(0<M23<200,0<(M23-Q23)<200,N23>=0,O23>=0),M23-Q23,IF(OR(AND(P23>0,P23>200),(P23-Q23)>200),"200",IF(OR(AND(N23<=0,O23=0,P23<200),AND(N23=0,O23<0,P23<200),AND(N23<0,O23<0,P23<200)),P23-Q23, ))),1) -> #REF! | S23: =ROUND(IF(AND(N23>0,O23>0,M23<=0,R23=0),P23-Q23,IF(AND(P23>0,R23=200),P23-Q23-R23, )),1) -> #REF! | T23: =ROUND(IF(SUM(M23:O23)-Q23<0,SUM(M23:O23)-Q23, ),1) -> #REF!
A24: 14 | B24: =IF('Mau A1'!#REF!="","",'Mau A1'!#REF!) -> #REF! | C24: =IF('Mau A1'!#REF!="","",'Mau A1'!#REF!) -> #REF! | D24: =SUM('Mau A1'!M11:M14) -> 0 | E24: =SUM('Mau A1'!N11:N14) -> 0 | F24: =SUM('Mau A1'!O11:O14) -> 0 | G24: =SUM('Mau A1'!P11:P14) -> 0 | H24: =SUM('Mau A1'!Q11:Q14) -> 0 | I24: =SUM('Mau A1'!R11:R14) -> 0 | J24: =SUM('Mau A1'!T11:T14) -> 0 | K24: =SUM('Mau A1'!V11:V14) -> 0 | L24: =SUM('Mau A1'!X11:X14) -> 0 | M24: =SUM('Mau A1'!Y11:Y14) -> 0 | N24: =SUM('Mau A1'!Z11:Z14) -> 0 | O24: =SUM('Mau A1'!AA11:AA14) -> 0 | P24: =SUM('Mau A1'!AC11:AC14) -> 0 | Q24: =SUM('Mau A1'!AB11:AB14) -> 0 | R24: =ROUND(IF(AND(0<M24<200,0<(M24-Q24)<200,N24>=0,O24>=0),M24-Q24,IF(OR(AND(P24>0,P24>200),(P24-Q24)>200),"200",IF(OR(AND(N24<=0,O24=0,P24<200),AND(N24=0,O24<0,P24<200),AND(N24<0,O24<0,P24<200)),P24-Q24, ))),1) -> 0 | S24: =ROUND(IF(AND(N24>0,O24>0,M24<=0,R24=0),P24-Q24,IF(AND(P24>0,R24=200),P24-Q24-R24, )),1) -> 0 | T24: =ROUND(IF(SUM(M24:O24)-Q24<0,SUM(M24:O24)-Q24, ),1) -> 0
A25: 15 | B25: =IF('Mau A1'!B15="","",'Mau A1'!B15) -> Trần Vĩnh | C25: =IF('Mau A1'!C15="","",'Mau A1'!C15) -> Xuyên | D25: =SUM('Mau A1'!M15:M34) -> 1045 | E25: =SUM('Mau A1'!N15:N34) -> 67.5 | F25: =SUM('Mau A1'!O15:O34) -> 0 | G25: =SUM('Mau A1'!P15:P34) -> 1112.5 | H25: =SUM('Mau A1'!Q15:Q34) -> 0 | I25: =SUM('Mau A1'!R15:R34) -> 52 | J25: =SUM('Mau A1'!T15:T34) -> 450 | K25: =SUM('Mau A1'!V15:V34) -> 112 | L25: =SUM('Mau A1'!X15:X34) -> 56 | M25: =SUM('Mau A1'!Y15:Y34) -> 662.5 | N25: =SUM('Mau A1'!Z15:Z34) -> -112 | O25: =SUM('Mau A1'!AA15:AA34) -> -4 | P25: =SUM('Mau A1'!AC15:AC34) -> 546.5 | Q25: =SUM('Mau A1'!AB15:AB34) -> 0 | R25: =ROUND(IF(AND(0<M25<200,0<(M25-Q25)<200,N25>=0,O25>=0),M25-Q25,IF(OR(AND(P25>0,P25>200),(P25-Q25)>200),"200",IF(OR(AND(N25<=0,O25=0,P25<200),AND(N25=0,O25<0,P25<200),AND(N25<0,O25<0,P25<200)),P25-Q25, ))),1) -> 200 | S25: =ROUND(IF(AND(N25>0,O25>0,M25<=0,R25=0),P25-Q25,IF(AND(P25>0,R25=200),P25-Q25-R25, )),1) -> 346.5 | T25: =ROUND(IF(SUM(M25:O25)-Q25<0,SUM(M25:O25)-Q25, ),1) -> 0
A26: 16 | B26: =IF('Mau A1'!B35="","",'Mau A1'!B35) -> Nguyễn Cao | C26: =IF('Mau A1'!C35="","",'Mau A1'!C35) -> Phong | D26: =SUM('Mau A1'!M35:M57) -> 1097.5 | E26: =SUM('Mau A1'!N35:N57) -> 89.5 | F26: =SUM('Mau A1'!O35:O57) -> 0 | G26: =SUM('Mau A1'!P35:P57) -> 1187 | H26: =SUM('Mau A1'!Q35:Q57) -> 0 | I26: =SUM('Mau A1'!R35:R57) -> 35 | J26: =SUM('Mau A1'!T35:T57) -> 450 | K26: =SUM('Mau A1'!V35:V57) -> 112 | L26: =SUM('Mau A1'!X35:X57) -> 56 | M26: =SUM('Mau A1'!Y35:Y57) -> 737 | N26: =SUM('Mau A1'!Z35:Z57) -> -112 | O26: =SUM('Mau A1'!AA35:AA57) -> -21 | P26: =SUM('Mau A1'!AC35:AC57) -> 604 | Q26: =SUM('Mau A1'!AB35:AB57) -> 0 | R26: =ROUND(IF(AND(0<M26<200,0<(M26-Q26)<200,N26>=0,O26>=0),M26-Q26,IF(OR(AND(P26>0,P26>200),(P26-Q26)>200),"200",IF(OR(AND(N26<=0,O26=0,P26<200),AND(N26=0,O26<0,P26<200),AND(N26<0,O26<0,P26<200)),P26-Q26, ))),1) -> 200 | S26: =ROUND(IF(AND(N26>0,O26>0,M26<=0,R26=0),P26-Q26,IF(AND(P26>0,R26=200),P26-Q26-R26, )),1) -> 404 | T26: =ROUND(IF(SUM(M26:O26)-Q26<0,SUM(M26:O26)-Q26, ),1) -> 0
A27: 17 | B27: =IF('Mau A1'!#REF!="","",'Mau A1'!#REF!) -> #REF! | C27: =IF('Mau A1'!#REF!="","",'Mau A1'!#REF!) -> #REF! | D27: =SUM('Mau A1'!#REF!) -> #REF! | E27: =SUM('Mau A1'!#REF!) -> #REF! | F27: =SUM('Mau A1'!#REF!) -> #REF! | G27: =SUM('Mau A1'!#REF!) -> #REF! | H27: =SUM('Mau A1'!#REF!) -> #REF! | I27: =SUM('Mau A1'!#REF!) -> #REF! | J27: =SUM('Mau A1'!#REF!) -> #REF! | K27: =SUM('Mau A1'!#REF!) -> #REF! | ... Q27: =SUM('Mau A1'!#REF!) -> #REF! | R27: =ROUND(IF(AND(0<M27<200,0<(M27-Q27)<200,N27>=0,O27>=0),M27-Q27,IF(OR(AND(P27>0,P27>200),(P27-Q27)>200),"200",IF(OR(AND(N27<=0,O27=0,P27<200),AND(N27=0,O27<0,P27<200),AND(N27<0,O27<0,P27<200)),P27-Q27, ))),1) -> #REF! | S27: =ROUND(IF(AND(N27>0,O27>0,M27<=0,R27=0),P27-Q27,IF(AND(P27>0,R27=200),P27-Q27-R27, )),1) -> #REF! | T27: =ROUND(IF(SUM(M27:O27)-Q27<0,SUM(M27:O27)-Q27, ),1) -> #REF!
A28: 18 | B28: =IF('Mau A1'!#REF!="","",'Mau A1'!#REF!) -> #REF! | C28: =IF('Mau A1'!#REF!="","",'Mau A1'!#REF!) -> #REF! | D28: =SUM('Mau A1'!#REF!) -> #REF! | E28: =SUM('Mau A1'!#REF!) -> #REF! | F28: =SUM('Mau A1'!#REF!) -> #REF! | G28: =SUM('Mau A1'!#REF!) -> #REF! | H28: =SUM('Mau A1'!#REF!) -> #REF! | I28: =SUM('Mau A1'!#REF!) -> #REF! | J28: =SUM('Mau A1'!#REF!) -> #REF! | K28: =SUM('Mau A1'!#REF!) -> #REF! | ... Q28: =SUM('Mau A1'!#REF!) -> #REF! | R28: =ROUND(IF(AND(0<M28<200,0<(M28-Q28)<200,N28>=0,O28>=0),M28-Q28,IF(OR(AND(P28>0,P28>200),(P28-Q28)>200),"200",IF(OR(AND(N28<=0,O28=0,P28<200),AND(N28=0,O28<0,P28<200),AND(N28<0,O28<0,P28<200)),P28-Q28, ))),1) -> #REF! | S28: =ROUND(IF(AND(N28>0,O28>0,M28<=0,R28=0),P28-Q28,IF(AND(P28>0,R28=200),P28-Q28-R28, )),1) -> #REF! | T28: =ROUND(IF(SUM(M28:O28)-Q28<0,SUM(M28:O28)-Q28, ),1) -> #REF!
A29: 19 | B29: =IF('Mau A1'!#REF!="","",'Mau A1'!#REF!) -> #REF! | C29: =IF('Mau A1'!#REF!="","",'Mau A1'!#REF!) -> #REF! | D29: =SUM('Mau A1'!#REF!) -> #REF! | E29: =SUM('Mau A1'!#REF!) -> #REF! | F29: =SUM('Mau A1'!#REF!) -> #REF! | G29: =SUM('Mau A1'!#REF!) -> #REF! | H29: =SUM('Mau A1'!#REF!) -> #REF! | I29: =SUM('Mau A1'!#REF!) -> #REF! | J29: =SUM('Mau A1'!#REF!) -> #REF! | K29: =SUM('Mau A1'!#REF!) -> #REF! | ... Q29: =SUM('Mau A1'!#REF!) -> #REF! | R29: =ROUND(IF(AND(0<M29<200,0<(M29-Q29)<200,N29>=0,O29>=0),M29-Q29,IF(OR(AND(P29>0,P29>200),(P29-Q29)>200),"200",IF(OR(AND(N29<=0,O29=0,P29<200),AND(N29=0,O29<0,P29<200),AND(N29<0,O29<0,P29<200)),P29-Q29, ))),1) -> #REF! | S29: =ROUND(IF(AND(N29>0,O29>0,M29<=0,R29=0),P29-Q29,IF(AND(P29>0,R29=200),P29-Q29-R29, )),1) -> #REF! | T29: =ROUND(IF(SUM(M29:O29)-Q29<0,SUM(M29:O29)-Q29, ),1) -> #REF!
A30: 20 | B30: =IF('Mau A1'!#REF!="","",'Mau A1'!#REF!) -> #REF! | C30: =IF('Mau A1'!#REF!="","",'Mau A1'!#REF!) -> #REF! | D30: =SUM('Mau A1'!#REF!) -> #REF! | E30: =SUM('Mau A1'!#REF!) -> #REF! | F30: =SUM('Mau A1'!#REF!) -> #REF! | G30: =SUM('Mau A1'!#REF!) -> #REF! | H30: =SUM('Mau A1'!#REF!) -> #REF! | I30: =SUM('Mau A1'!#REF!) -> #REF! | J30: =SUM('Mau A1'!#REF!) -> #REF! | K30: =SUM('Mau A1'!#REF!) -> #REF! | ... Q30: =SUM('Mau A1'!#REF!) -> #REF! | R30: =ROUND(IF(AND(0<M30<200,0<(M30-Q30)<200,N30>=0,O30>=0),M30-Q30,IF(OR(AND(P30>0,P30>200),(P30-Q30)>200),"200",IF(OR(AND(N30<=0,O30=0,P30<200),AND(N30=0,O30<0,P30<200),AND(N30<0,O30<0,P30<200)),P30-Q30, ))),1) -> #REF! | S30: =ROUND(IF(AND(N30>0,O30>0,M30<=0,R30=0),P30-Q30,IF(AND(P30>0,R30=200),P30-Q30-R30, )),1) -> #REF! | T30: =ROUND(IF(SUM(M30:O30)-Q30<0,SUM(M30:O30)-Q30, ),1) -> #REF!
A31: 21 | B31: =IF('Mau A1'!#REF!="","",'Mau A1'!#REF!) -> #REF! | C31: =IF('Mau A1'!#REF!="","",'Mau A1'!#REF!) -> #REF! | D31: =SUM('Mau A1'!#REF!) -> #REF! | E31: =SUM('Mau A1'!#REF!) -> #REF! | F31: =SUM('Mau A1'!#REF!) -> #REF! | G31: =SUM('Mau A1'!#REF!) -> #REF! | H31: =SUM('Mau A1'!#REF!) -> #REF! | I31: =SUM('Mau A1'!#REF!) -> #REF! | J31: =SUM('Mau A1'!#REF!) -> #REF! | K31: =SUM('Mau A1'!#REF!) -> #REF! | ... Q31: =SUM('Mau A1'!#REF!) -> #REF! | R31: =ROUND(IF(AND(0<M31<200,0<(M31-Q31)<200,N31>=0,O31>=0),M31-Q31,IF(OR(AND(P31>0,P31>200),(P31-Q31)>200),"200",IF(OR(AND(N31<=0,O31=0,P31<200),AND(N31=0,O31<0,P31<200),AND(N31<0,O31<0,P31<200)),P31-Q31, ))),1) -> #REF! | S31: =ROUND(IF(AND(N31>0,O31>0,M31<=0,R31=0),P31-Q31,IF(AND(P31>0,R31=200),P31-Q31-R31, )),1) -> #REF! | T31: =ROUND(IF(SUM(M31:O31)-Q31<0,SUM(M31:O31)-Q31, ),1) -> #REF!
A32: 22 | B32: =IF('Mau A1'!#REF!="","",'Mau A1'!#REF!) -> #REF! | C32: =IF('Mau A1'!#REF!="","",'Mau A1'!#REF!) -> #REF! | D32: =SUM('Mau A1'!#REF!) -> #REF! | E32: =SUM('Mau A1'!#REF!) -> #REF! | F32: =SUM('Mau A1'!#REF!) -> #REF! | G32: =SUM('Mau A1'!#REF!) -> #REF! | H32: =SUM('Mau A1'!#REF!) -> #REF! | I32: =SUM('Mau A1'!#REF!) -> #REF! | J32: =SUM('Mau A1'!#REF!) -> #REF! | K32: =SUM('Mau A1'!#REF!) -> #REF! | ... Q32: =SUM('Mau A1'!#REF!) -> #REF! | R32: =ROUND(IF(AND(0<M32<200,0<(M32-Q32)<200,N32>=0,O32>=0),M32-Q32,IF(OR(AND(P32>0,P32>200),(P32-Q32)>200),"200",IF(OR(AND(N32<=0,O32=0,P32<200),AND(N32=0,O32<0,P32<200),AND(N32<0,O32<0,P32<200)),P32-Q32, ))),1) -> #REF! | S32: =ROUND(IF(AND(N32>0,O32>0,M32<=0,R32=0),P32-Q32,IF(AND(P32>0,R32=200),P32-Q32-R32, )),1) -> #REF! | T32: =ROUND(IF(SUM(M32:O32)-Q32<0,SUM(M32:O32)-Q32, ),1) -> #REF!
A33: 23 | B33: =IF('Mau A1'!#REF!="","",'Mau A1'!#REF!) -> #REF! | C33: =IF('Mau A1'!#REF!="","",'Mau A1'!#REF!) -> #REF! | D33: =SUM('Mau A1'!#REF!) -> #REF! | E33: =SUM('Mau A1'!#REF!) -> #REF! | F33: =SUM('Mau A1'!#REF!) -> #REF! | G33: =SUM('Mau A1'!#REF!) -> #REF! | H33: =SUM('Mau A1'!#REF!) -> #REF! | I33: =SUM('Mau A1'!#REF!) -> #REF! | J33: =SUM('Mau A1'!#REF!) -> #REF! | K33: =SUM('Mau A1'!#REF!) -> #REF! | ... Q33: =SUM('Mau A1'!#REF!) -> #REF! | R33: =ROUND(IF(AND(0<M33<200,0<(M33-Q33)<200,N33>=0,O33>=0),M33-Q33,IF(OR(AND(P33>0,P33>200),(P33-Q33)>200),"200",IF(OR(AND(N33<=0,O33=0,P33<200),AND(N33=0,O33<0,P33<200),AND(N33<0,O33<0,P33<200)),P33-Q33, ))),1) -> #REF! | S33: =ROUND(IF(AND(N33>0,O33>0,M33<=0,R33=0),P33-Q33,IF(AND(P33>0,R33=200),P33-Q33-R33, )),1) -> #REF! | T33: =ROUND(IF(SUM(M33:O33)-Q33<0,SUM(M33:O33)-Q33, ),1) -> #REF!
A34: 24 | B34: =IF('Mau A1'!#REF!="","",'Mau A1'!#REF!) -> #REF! | C34: =IF('Mau A1'!#REF!="","",'Mau A1'!#REF!) -> #REF! | D34: =SUM('Mau A1'!#REF!) -> #REF! | E34: =SUM('Mau A1'!#REF!) -> #REF! | F34: =SUM('Mau A1'!#REF!) -> #REF! | G34: =SUM('Mau A1'!#REF!) -> #REF! | H34: =SUM('Mau A1'!#REF!) -> #REF! | I34: =SUM('Mau A1'!#REF!) -> #REF! | J34: =SUM('Mau A1'!#REF!) -> #REF! | K34: =SUM('Mau A1'!#REF!) -> #REF! | ... Q34: =SUM('Mau A1'!#REF!) -> #REF! | R34: =ROUND(IF(AND(0<M34<200,0<(M34-Q34)<200,N34>=0,O34>=0),M34-Q34,IF(OR(AND(P34>0,P34>200),(P34-Q34)>200),"200",IF(OR(AND(N34<=0,O34=0,P34<200),AND(N34=0,O34<0,P34<200),AND(N34<0,O34<0,P34<200)),P34-Q34, ))),1) -> #REF! | S34: =ROUND(IF(AND(N34>0,O34>0,M34<=0,R34=0),P34-Q34,IF(AND(P34>0,R34=200),P34-Q34-R34, )),1) -> #REF! | T34: =ROUND(IF(SUM(M34:O34)-Q34<0,SUM(M34:O34)-Q34, ),1) -> #REF!
A35: 25 | B35: =IF('Mau A1'!#REF!="","",'Mau A1'!#REF!) -> #REF! | C35: =IF('Mau A1'!#REF!="","",'Mau A1'!#REF!) -> #REF! | D35: =SUM('Mau A1'!#REF!) -> #REF! | E35: =SUM('Mau A1'!#REF!) -> #REF! | F35: =SUM('Mau A1'!#REF!) -> #REF! | G35: =SUM('Mau A1'!#REF!) -> #REF! | H35: =SUM('Mau A1'!#REF!) -> #REF! | I35: =SUM('Mau A1'!#REF!) -> #REF! | J35: =SUM('Mau A1'!#REF!) -> #REF! | K35: =SUM('Mau A1'!#REF!) -> #REF! | ... Q35: =SUM('Mau A1'!#REF!) -> #REF! | R35: =ROUND(IF(AND(0<M35<200,0<(M35-Q35)<200,N35>=0,O35>=0),M35-Q35,IF(OR(AND(P35>0,P35>200),(P35-Q35)>200),"200",IF(OR(AND(N35<=0,O35=0,P35<200),AND(N35=0,O35<0,P35<200),AND(N35<0,O35<0,P35<200)),P35-Q35, ))),1) -> #REF! | S35: =ROUND(IF(AND(N35>0,O35>0,M35<=0,R35=0),P35-Q35,IF(AND(P35>0,R35=200),P35-Q35-R35, )),1) -> #REF! | T35: =ROUND(IF(SUM(M35:O35)-Q35<0,SUM(M35:O35)-Q35, ),1) -> #REF!
A36: 26 | B36: =IF('Mau A1'!#REF!="","",'Mau A1'!#REF!) -> #REF! | C36: =IF('Mau A1'!#REF!="","",'Mau A1'!#REF!) -> #REF! | D36: =SUM('Mau A1'!#REF!) -> #REF! | E36: =SUM('Mau A1'!#REF!) -> #REF! | F36: =SUM('Mau A1'!#REF!) -> #REF! | G36: =SUM('Mau A1'!#REF!) -> #REF! | H36: =SUM('Mau A1'!#REF!) -> #REF! | I36: =SUM('Mau A1'!#REF!) -> #REF! | J36: =SUM('Mau A1'!#REF!) -> #REF! | K36: =SUM('Mau A1'!#REF!) -> #REF! | ... Q36: =SUM('Mau A1'!#REF!) -> #REF! | R36: =ROUND(IF(AND(0<M36<200,0<(M36-Q36)<200,N36>=0,O36>=0),M36-Q36,IF(OR(AND(P36>0,P36>200),(P36-Q36)>200),"200",IF(OR(AND(N36<=0,O36=0,P36<200),AND(N36=0,O36<0,P36<200),AND(N36<0,O36<0,P36<200)),P36-Q36, ))),1) -> #REF! | S36: =ROUND(IF(AND(N36>0,O36>0,M36<=0,R36=0),P36-Q36,IF(AND(P36>0,R36=200),P36-Q36-R36, )),1) -> #REF! | T36: =ROUND(IF(SUM(M36:O36)-Q36<0,SUM(M36:O36)-Q36, ),1) -> #REF!
A37: 27 | B37: =IF('Mau A1'!#REF!="","",'Mau A1'!#REF!) -> #REF! | C37: =IF('Mau A1'!#REF!="","",'Mau A1'!#REF!) -> #REF! | D37: =SUM('Mau A1'!#REF!) -> #REF! | E37: =SUM('Mau A1'!#REF!) -> #REF! | F37: =SUM('Mau A1'!#REF!) -> #REF! | G37: =SUM('Mau A1'!#REF!) -> #REF! | H37: =SUM('Mau A1'!#REF!) -> #REF! | I37: =SUM('Mau A1'!#REF!) -> #REF! | J37: =SUM('Mau A1'!#REF!) -> #REF! | K37: =SUM('Mau A1'!#REF!) -> #REF! | ... Q37: =SUM('Mau A1'!#REF!) -> #REF! | R37: =ROUND(IF(AND(0<M37<200,0<(M37-Q37)<200,N37>=0,O37>=0),M37-Q37,IF(OR(AND(P37>0,P37>200),(P37-Q37)>200),"200",IF(OR(AND(N37<=0,O37=0,P37<200),AND(N37=0,O37<0,P37<200),AND(N37<0,O37<0,P37<200)),P37-Q37, ))),1) -> #REF! | S37: =ROUND(IF(AND(N37>0,O37>0,M37<=0,R37=0),P37-Q37,IF(AND(P37>0,R37=200),P37-Q37-R37, )),1) -> #REF! | T37: =ROUND(IF(SUM(M37:O37)-Q37<0,SUM(M37:O37)-Q37, ),1) -> #REF!
A38: 28 | B38: =IF('Mau A1'!#REF!="","",'Mau A1'!#REF!) -> #REF! | C38: =IF('Mau A1'!#REF!="","",'Mau A1'!#REF!) -> #REF! | D38: =SUM('Mau A1'!#REF!) -> #REF! | E38: =SUM('Mau A1'!#REF!) -> #REF! | F38: =SUM('Mau A1'!#REF!) -> #REF! | G38: =SUM('Mau A1'!#REF!) -> #REF! | H38: =SUM('Mau A1'!#REF!) -> #REF! | I38: =SUM('Mau A1'!#REF!) -> #REF! | J38: =SUM('Mau A1'!#REF!) -> #REF! | K38: =SUM('Mau A1'!#REF!) -> #REF! | ... Q38: =SUM('Mau A1'!#REF!) -> #REF! | R38: =ROUND(IF(AND(0<M38<200,0<(M38-Q38)<200,N38>=0,O38>=0),M38-Q38,IF(OR(AND(P38>0,P38>200),(P38-Q38)>200),"200",IF(OR(AND(N38<=0,O38=0,P38<200),AND(N38=0,O38<0,P38<200),AND(N38<0,O38<0,P38<200)),P38-Q38, ))),1) -> #REF! | S38: =ROUND(IF(AND(N38>0,O38>0,M38<=0,R38=0),P38-Q38,IF(AND(P38>0,R38=200),P38-Q38-R38, )),1) -> #REF! | T38: =ROUND(IF(SUM(M38:O38)-Q38<0,SUM(M38:O38)-Q38, ),1) -> #REF!
A39: 29 | B39: =IF('Mau A1'!#REF!="","",'Mau A1'!#REF!) -> #REF! | C39: =IF('Mau A1'!#REF!="","",'Mau A1'!#REF!) -> #REF! | D39: =SUM('Mau A1'!#REF!) -> #REF! | E39: =SUM('Mau A1'!#REF!) -> #REF! | F39: =SUM('Mau A1'!#REF!) -> #REF! | G39: =SUM('Mau A1'!#REF!) -> #REF! | H39: =SUM('Mau A1'!#REF!) -> #REF! | I39: =SUM('Mau A1'!#REF!) -> #REF! | J39: =SUM('Mau A1'!#REF!) -> #REF! | K39: =SUM('Mau A1'!#REF!) -> #REF! | ... Q39: =SUM('Mau A1'!#REF!) -> #REF! | R39: =ROUND(IF(AND(0<M39<200,0<(M39-Q39)<200,N39>=0,O39>=0),M39-Q39,IF(OR(AND(P39>0,P39>200),(P39-Q39)>200),"200",IF(OR(AND(N39<=0,O39=0,P39<200),AND(N39=0,O39<0,P39<200),AND(N39<0,O39<0,P39<200)),P39-Q39, ))),1) -> #REF! | S39: =ROUND(IF(AND(N39>0,O39>0,M39<=0,R39=0),P39-Q39,IF(AND(P39>0,R39=200),P39-Q39-R39, )),1) -> #REF! | T39: =ROUND(IF(SUM(M39:O39)-Q39<0,SUM(M39:O39)-Q39, ),1) -> #REF!
A40: 30 | B40: =IF('Mau A1'!#REF!="","",'Mau A1'!#REF!) -> #REF! | C40: =IF('Mau A1'!#REF!="","",'Mau A1'!#REF!) -> #REF! | D40: =SUM('Mau A1'!M58:M60) -> 0 | E40: =SUM('Mau A1'!N58:N60) -> 0 | F40: =SUM('Mau A1'!O58:O60) -> 0 | G40: =SUM('Mau A1'!P58:P60) -> 0 | H40: =SUM('Mau A1'!Q58:Q60) -> 0 | I40: =SUM('Mau A1'!R58:R60) -> 0 | J40: =SUM('Mau A1'!T58:T60) -> 0 | K40: =SUM('Mau A1'!V58:V60) -> 0 | L40: =SUM('Mau A1'!X58:X60) -> 0 | M40: =SUM('Mau A1'!Y58:Y60) -> 0 | N40: =SUM('Mau A1'!Z58:Z60) -> 0 | O40: =SUM('Mau A1'!AA58:AA60) -> 0 | P40: =SUM('Mau A1'!AC58:AC60) -> 0 | Q40: =SUM('Mau A1'!AB58:AB60) -> 0 | R40: =ROUND(IF(AND(0<M40<200,0<(M40-Q40)<200,N40>=0,O40>=0),M40-Q40,IF(OR(AND(P40>0,P40>200),(P40-Q40)>200),"200",IF(OR(AND(N40<=0,O40=0,P40<200),AND(N40=0,O40<0,P40<200),AND(N40<0,O40<0,P40<200)),P40-Q40, ))),1) -> 0 | S40: =ROUND(IF(AND(N40>0,O40>0,M40<=0,R40=0),P40-Q40,IF(AND(P40>0,R40=200),P40-Q40-R40, )),1) -> 0 | T40: =ROUND(IF(SUM(M40:O40)-Q40<0,SUM(M40:O40)-Q40, ),1) -> 0
A41: 31 | B41: =IF('Mau A1'!#REF!="","",'Mau A1'!#REF!) -> #REF! | C41: =IF('Mau A1'!#REF!="","",'Mau A1'!#REF!) -> #REF! | D41: =SUM('Mau A1'!#REF!) -> #REF! | E41: =SUM('Mau A1'!#REF!) -> #REF! | F41: =SUM('Mau A1'!#REF!) -> #REF! | G41: =SUM('Mau A1'!#REF!) -> #REF! | H41: =SUM('Mau A1'!#REF!) -> #REF! | I41: =SUM('Mau A1'!#REF!) -> #REF! | J41: =SUM('Mau A1'!#REF!) -> #REF! | K41: =SUM('Mau A1'!#REF!) -> #REF! | ... Q41: =SUM('Mau A1'!#REF!) -> #REF! | R41: =ROUND(IF(AND(0<M41<200,0<(M41-Q41)<200,N41>=0,O41>=0),M41-Q41,IF(OR(AND(P41>0,P41>200),(P41-Q41)>200),"200",IF(OR(AND(N41<=0,O41=0,P41<200),AND(N41=0,O41<0,P41<200),AND(N41<0,O41<0,P41<200)),P41-Q41, ))),1) -> #REF! | S41: =ROUND(IF(AND(N41>0,O41>0,M41<=0,R41=0),P41-Q41,IF(AND(P41>0,R41=200),P41-Q41-R41, )),1) -> #REF! | T41: =ROUND(IF(SUM(M41:O41)-Q41<0,SUM(M41:O41)-Q41, ),1) -> #REF!
...

Sheet Mau A1
AB1: Mẫu A1
A2: UBND THÀNH PHỐ HỒ CHÍ MINH | V2: CỘNG HÒA XÃ HỘI CHỦ NGHĨA VIỆT NAM
A3: TRƯỜNG CAO ĐẲNG LÝ TỰ TRỌNG THÀNH PHỐ HỒ CHÍ MINH | V3: Độc lập - Tự do - Hạnh phúc
A4: BẢNG TÍNH KHỐI LƯỢNG CÔNG VIỆC CỦA GIẢNG VIÊN TRONG NĂM HỌC 2018 - 2019
A5: KHOA : CÔNG NGHỆ THÔNG TIN
A7: TT | B7: Họ và Tên | D7: MÃ LỚP HP | E7: Môn dạy | F7: lớp dạy | G7: Học kỳ | H7: Thực hiện trong năm học | S7: Số tiết chuẩn giảng dạy | T7: Số tiết chuẩn giảng dạy còn lại | U7: Số tiết chuẩn "Học tập, bồi dưỡng chuẩn hóa, bồi dưỡng nâng cao, nghiên cứu khoa học" | V7: Số tiết chuẩn "Học tập, bồi dưỡng chuẩn hóa, bồi dưỡng nâng cao, nghiên cứu khoa học" còn lại | W7: Số tiết chuẩn "Thực tập tại doanh nghiệp hoặc cơ quan chuyên môn" | X7: Số tiết chuẩn "Thực tập tại doanh nghiệp hoặc cơ quan chuyên môn" còn lại | Y7: Số tiết thừa, thiếu giảng dạy | Z7: Số tiết thừa, thiếu "Học tập, bồi dưỡng chuẩn hóa, bồi dưỡng nâng cao, nghiên cứu khoa học" | AA7: Số tiết thừa, thiếu "Thực tập tại doanh nghiệp hoặc cơ quan chuyên môn" | AB7: Số tiết thiếu năm học 2016-2017 | AC7: Tổng số tiết thừa, thiếu năm học 2017-2018
H8: Chưa nhân hệ số | J8: Sĩ số LHP | K8: Hệ số | M8: Số tiết quy đổi và đã nhân hệ số | N8: Kiêm nhiệm | O8: Số tiết soạn đề, coi thi, chấm thi | P8: Tổng tiết thực hiện | Q8: Số tiết "Học tập, bồi dưỡng chuẩn hóa, bồi dưỡng nâng cao, nghiên cứu khoa học" | R8: Số tiết "Thực tập tại doanh nghiệp hoặc cơ quan chuyên môn"
H9: LT | I9: TH | J9: Chính thức và học lại | K9: LT | L9: TH
A10: (1) | B10: (2) | E10: (3) | F10: (4) | G10: (5) | H10: (6) | I10: (7) | K10: =IF(OR(LEFT(E10,2)="ĐA",LEFT(E10,2)="DA",LEFT(E10,5)="Đồ án",LEFT(E10,5)="Đồán ",LEFT(E10,9)="Sinh hoạt",LEFT(E10,9)="sinh hoạt",LEFT(E10,6)="Cố vấn",LEFT(E10,6)="cố vấn",LEFT(E10,4)="cvht",LEFT(E10,4)="CVHT",LEFT(E10,4)="shcn",LEFT(E10,4)="SHCN"),0,(IF(AND(H10>0,J10>0),IF(J10>60,1.3,IF(J10>35,1.2,1)),0))) -> 0 | L10: =IF(OR(LEFT(E10,2)="ĐA",LEFT(E10,2)="DA",LEFT(E10,5)="Đồ án",LEFT(E10,5)="Đồán "),0,IF(AND(J10>0,I10>0),IF(AND(OR(LEFT(E10,4)="GDQP",LEFT(E10,4)="gdqp",LEFT(E10,19)="Giáo dục quốc phòng"),J10>50),1.3,IF(J10>35,1.2,IF(J10>29,1.1,1))),0)) -> 0 | M10: =ROUND(IF(OR(LEFT(E10,2)="ĐA",LEFT(E10,2)="DA",LEFT(E10,5)="Đồ án",LEFT(E10,5)="Đồán "),J10*0.5,(IF(H10>0,H10*K10,"0")+IF(I10>0,(I10*0.75)*L10,"0"))),1) -> 0 | N10: (11) | O10: (12) | P10: (13) | Q10: (14) | R10: (15) | T10: (16) | V10: (17) | X10: (18) | Y10: (19) | Z10: (20) | AA10: (21) | AB10: (22) | AC10: (23)
K11: =IF(OR(LEFT(E11,2)="ĐA",LEFT(E11,2)="DA",LEFT(E11,5)="Đồ án",LEFT(E11,5)="Đồán ",LEFT(E11,9)="Sinh hoạt",LEFT(E11,9)="sinh hoạt",LEFT(E11,6)="Cố vấn",LEFT(E11,6)="cố vấn",LEFT(E11,4)="cvht",LEFT(E11,4)="CVHT",LEFT(E11,4)="shcn",LEFT(E11,4)="SHCN"),0,(IF(AND(H11>0,J11>0),IF(J11>60,1.3,IF(J11>35,1.2,1)),0))) -> 0 | L11: =IF(OR(LEFT(E11,2)="ĐA",LEFT(E11,2)="DA",LEFT(E11,5)="Đồ án",LEFT(E11,5)="Đồán "),0,IF(AND(J11>0,I11>0),IF(AND(OR(LEFT(E11,4)="GDQP",LEFT(E11,4)="gdqp",LEFT(E11,19)="Giáo dục quốc phòng"),J11>50),1.3,IF(J11>35,1.2,IF(J11>29,1.1,1))),0)) -> 0 | M11: =ROUND(IF(OR(LEFT(E11,2)="ĐA",LEFT(E11,2)="DA",LEFT(E11,5)="Đồ án",LEFT(E11,5)="Đồán "),J11*0.5,(IF(H11>0,H11*K11,"0")+IF(I11>0,(I11*0.75)*L11,"0"))),1) -> 0
K12: =IF(OR(LEFT(E12,2)="ĐA",LEFT(E12,2)="DA",LEFT(E12,5)="Đồ án",LEFT(E12,5)="Đồán ",LEFT(E12,9)="Sinh hoạt",LEFT(E12,9)="sinh hoạt",LEFT(E12,6)="Cố vấn",LEFT(E12,6)="cố vấn",LEFT(E12,4)="cvht",LEFT(E12,4)="CVHT",LEFT(E12,4)="shcn",LEFT(E12,4)="SHCN"),0,(IF(AND(H12>0,J12>0),IF(J12>60,1.3,IF(J12>35,1.2,1)),0))) -> 0 | L12: =IF(OR(LEFT(E12,2)="ĐA",LEFT(E12,2)="DA",LEFT(E12,5)="Đồ án",LEFT(E12,5)="Đồán "),0,IF(AND(J12>0,I12>0),IF(AND(OR(LEFT(E12,4)="GDQP",LEFT(E12,4)="gdqp",LEFT(E12,19)="Giáo dục quốc phòng"),J12>50),1.3,IF(J12>35,1.2,IF(J12>29,1.1,1))),0)) -> 0 | M12: =ROUND(IF(OR(LEFT(E12,2)="ĐA",LEFT(E12,2)="DA",LEFT(E12,5)="Đồ án",LEFT(E12,5)="Đồán "),J12*0.5,(IF(H12>0,H12*K12,"0")+IF(I12>0,(I12*0.75)*L12,"0"))),1) -> 0
K13: =IF(OR(LEFT(E13,2)="ĐA",LEFT(E13,2)="DA",LEFT(E13,5)="Đồ án",LEFT(E13,5)="Đồán ",LEFT(E13,9)="Sinh hoạt",LEFT(E13,9)="sinh hoạt",LEFT(E13,6)="Cố vấn",LEFT(E13,6)="cố vấn",LEFT(E13,4)="cvht",LEFT(E13,4)="CVHT",LEFT(E13,4)="shcn",LEFT(E13,4)="SHCN"),0,(IF(AND(H13>0,J13>0),IF(J13>60,1.3,IF(J13>35,1.2,1)),0))) -> 0 | L13: =IF(OR(LEFT(E13,2)="ĐA",LEFT(E13,2)="DA",LEFT(E13,5)="Đồ án",LEFT(E13,5)="Đồán "),0,IF(AND(J13>0,I13>0),IF(AND(OR(LEFT(E13,4)="GDQP",LEFT(E13,4)="gdqp",LEFT(E13,19)="Giáo dục quốc phòng"),J13>50),1.3,IF(J13>35,1.2,IF(J13>29,1.1,1))),0)) -> 0 | M13: =ROUND(IF(OR(LEFT(E13,2)="ĐA",LEFT(E13,2)="DA",LEFT(E13,5)="Đồ án",LEFT(E13,5)="Đồán "),J13*0.5,(IF(H13>0,H13*K13,"0")+IF(I13>0,(I13*0.75)*L13,"0"))),1) -> 0
K14: =IF(OR(LEFT(E14,2)="ĐA",LEFT(E14,2)="DA",LEFT(E14,5)="Đồ án",LEFT(E14,5)="Đồán ",LEFT(E14,9)="Sinh hoạt",LEFT(E14,9)="sinh hoạt",LEFT(E14,6)="Cố vấn",LEFT(E14,6)="cố vấn",LEFT(E14,4)="cvht",LEFT(E14,4)="CVHT",LEFT(E14,4)="shcn",LEFT(E14,4)="SHCN"),0,(IF(AND(H14>0,J14>0),IF(J14>60,1.3,IF(J14>35,1.2,1)),0))) -> 0 | L14: =IF(OR(LEFT(E14,2)="ĐA",LEFT(E14,2)="DA",LEFT(E14,5)="Đồ án",LEFT(E14,5)="Đồán "),0,IF(AND(J14>0,I14>0),IF(AND(OR(LEFT(E14,4)="GDQP",LEFT(E14,4)="gdqp",LEFT(E14,19)="Giáo dục quốc phòng"),J14>50),1.3,IF(J14>35,1.2,IF(J14>29,1.1,1))),0)) -> 0 | M14: =ROUND(IF(OR(LEFT(E14,2)="ĐA",LEFT(E14,2)="DA",LEFT(E14,5)="Đồ án",LEFT(E14,5)="Đồán "),J14*0.5,(IF(H14>0,H14*K14,"0")+IF(I14>0,(I14*0.75)*L14,"0"))),1) -> 0
A15: 17 | B15: Trần Vĩnh | C15: Xuyên | D15: 020200009701 | E15: Lập trình php | F15: 16CD-TP1 | G15: 1 | H15: 45 | I15: 0 | J15: 65 | K15: =IF(OR(LEFT(E15,2)="ĐA",LEFT(E15,2)="DA",LEFT(E15,5)="Đồ án",LEFT(E15,5)="Đồán ",LEFT(E15,9)="Sinh hoạt",LEFT(E15,9)="sinh hoạt",LEFT(E15,6)="Cố vấn",LEFT(E15,6)="cố vấn",LEFT(E15,4)="cvht",LEFT(E15,4)="CVHT",LEFT(E15,4)="shcn",LEFT(E15,4)="SHCN"),0,(IF(AND(H15>0,J15>0),IF(J15>60,1.3,IF(J15>35,1.2,1)),0))) -> 1.3 | L15: =IF(OR(LEFT(E15,2)="ĐA",LEFT(E15,2)="DA",LEFT(E15,5)="Đồ án",LEFT(E15,5)="Đồán "),0,IF(AND(J15>0,I15>0),IF(AND(OR(LEFT(E15,4)="GDQP",LEFT(E15,4)="gdqp",LEFT(E15,19)="Giáo dục quốc phòng"),J15>50),1.3,IF(J15>35,1.2,IF(J15>29,1.1,1))),0)) -> 0 | M15: =ROUND(IF(OR(LEFT(E15,2)="ĐA",LEFT(E15,2)="DA",LEFT(E15,5)="Đồ án",LEFT(E15,5)="Đồán "),J15*0.5,(IF(H15>0,H15*K15,"0")+IF(I15>0,(I15*0.75)*L15,"0"))),1) -> 58.5 | N15: 67.5 | O15: 0 | P15: =SUM(M15:M34)+N15+O15 -> 1112.5 | Q15: 0 | R15: 52 | S15: 450 | T15: 450 | U15: 112 | V15: 112 | W15: 56 | X15: 56 | Y15: =ROUND((P15-T15),1) -> 662.5 | Z15: =IF(OR(SUM(V15:V34)="",SUM(Q15:Q34)=""),0,IF(OR(SUM(U15:U34)=320,SUM(V15:V34)>0),ROUND((SUM(Q15:Q34)-SUM(V15:V34)),1),0)) -> -112 | AA15: =IF(OR(SUM(X15:X34)="",SUM(R15:R34)=""),0,IF(OR(SUM(W15:W34)=160,SUM(X15:X34)>0),ROUND((SUM(R15:R34)-SUM(X15:X34)),1),0)) -> -4 | AC15: =SUM(Y15:AA34) -> 546.5
D16: 020200009701 | E16: Lập trình php | F16: 16CD-TP1(N1) | G16: 1 | H16: 0 | I16: 60 | J16: 33 | K16: =IF(OR(LEFT(E16,2)="ĐA",LEFT(E16,2)="DA",LEFT(E16,5)="Đồ án",LEFT(E16,5)="Đồán ",LEFT(E16,9)="Sinh hoạt",LEFT(E16,9)="sinh hoạt",LEFT(E16,6)="Cố vấn",LEFT(E16,6)="cố vấn",LEFT(E16,4)="cvht",LEFT(E16,4)="CVHT",LEFT(E16,4)="shcn",LEFT(E16,4)="SHCN"),0,(IF(AND(H16>0,J16>0),IF(J16>60,1.3,IF(J16>35,1.2,1)),0))) -> 0 | L16: =IF(OR(LEFT(E16,2)="ĐA",LEFT(E16,2)="DA",LEFT(E16,5)="Đồ án",LEFT(E16,5)="Đồán "),0,IF(AND(J16>0,I16>0),IF(AND(OR(LEFT(E16,4)="GDQP",LEFT(E16,4)="gdqp",LEFT(E16,19)="Giáo dục quốc phòng"),J16>50),1.3,IF(J16>35,1.2,IF(J16>29,1.1,1))),0)) -> 1.1 | M16: =ROUND(IF(OR(LEFT(E16,2)="ĐA",LEFT(E16,2)="DA",LEFT(E16,5)="Đồ án",LEFT(E16,5)="Đồán "),J16*0.5,(IF(H16>0,H16*K16,"0")+IF(I16>0,(I16*0.75)*L16,"0"))),1) -> 49.5
D17: 020200009701 | E17: Lập trình php | F17: 16CD-TP1(N2) | G17: 1 | H17: 0 | I17: 60 | J17: 32 | K17: =IF(OR(LEFT(E17,2)="ĐA",LEFT(E17,2)="DA",LEFT(E17,5)="Đồ án",LEFT(E17,5)="Đồán ",LEFT(E17,9)="Sinh hoạt",LEFT(E17,9)="sinh hoạt",LEFT(E17,6)="Cố vấn",LEFT(E17,6)="cố vấn",LEFT(E17,4)="cvht",LEFT(E17,4)="CVHT",LEFT(E17,4)="shcn",LEFT(E17,4)="SHCN"),0,(IF(AND(H17>0,J17>0),IF(J17>60,1.3,IF(J17>35,1.2,1)),0))) -> 0 | L17: =IF(OR(LEFT(E17,2)="ĐA",LEFT(E17,2)="DA",LEFT(E17,5)="Đồ án",LEFT(E17,5)="Đồán "),0,IF(AND(J17>0,I17>0),IF(AND(OR(LEFT(E17,4)="GDQP",LEFT(E17,4)="gdqp",LEFT(E17,19)="Giáo dục quốc phòng"),J17>50),1.3,IF(J17>35,1.2,IF(J17>29,1.1,1))),0)) -> 1.1 | M17: =ROUND(IF(OR(LEFT(E17,2)="ĐA",LEFT(E17,2)="DA",LEFT(E17,5)="Đồ án",LEFT(E17,5)="Đồán "),J17*0.5,(IF(H17>0,H17*K17,"0")+IF(I17>0,(I17*0.75)*L17,"0"))),1) -> 49.5
D18: 021100149202 | E18: Lập trình web | F18: 17C1-LMT2 | G18: 1 | H18: 60 | I18: 30 | J18: 43 | K18: =IF(OR(LEFT(E18,2)="ĐA",LEFT(E18,2)="DA",LEFT(E18,5)="Đồ án",LEFT(E18,5)="Đồán ",LEFT(E18,9)="Sinh hoạt",LEFT(E18,9)="sinh hoạt",LEFT(E18,6)="Cố vấn",LEFT(E18,6)="cố vấn",LEFT(E18,4)="cvht",LEFT(E18,4)="CVHT",LEFT(E18,4)="shcn",LEFT(E18,4)="SHCN"),0,(IF(AND(H18>0,J18>0),IF(J18>60,1.3,IF(J18>35,1.2,1)),0))) -> 1.2 | L18: =IF(OR(LEFT(E18,2)="ĐA",LEFT(E18,2)="DA",LEFT(E18,5)="Đồ án",LEFT(E18,5)="Đồán "),0,IF(AND(J18>0,I18>0),IF(AND(OR(LEFT(E18,4)="GDQP",LEFT(E18,4)="gdqp",LEFT(E18,19)="Giáo dục quốc phòng"),J18>50),1.3,IF(J18>35,1.2,IF(J18>29,1.1,1))),0)) -> 1.2 | M18: =ROUND(IF(OR(LEFT(E18,2)="ĐA",LEFT(E18,2)="DA",LEFT(E18,5)="Đồ án",LEFT(E18,5)="Đồán "),J18*0.5,(IF(H18>0,H18*K18,"0")+IF(I18>0,(I18*0.75)*L18,"0"))),1) -> 99
E19: Đồ án 1 | F19: 17C1-LMT2 | G19: 1 | J19: 43 | K19: =IF(OR(LEFT(E19,2)="ĐA",LEFT(E19,2)="DA",LEFT(E19,5)="Đồ án",LEFT(E19,5)="Đồán ",LEFT(E19,9)="Sinh hoạt",LEFT(E19,9)="sinh hoạt",LEFT(E19,6)="Cố vấn",LEFT(E19,6)="cố vấn",LEFT(E19,4)="cvht",LEFT(E19,4)="CVHT",LEFT(E19,4)="shcn",LEFT(E19,4)="SHCN"),0,(IF(AND(H19>0,J19>0),IF(J19>60,1.3,IF(J19>35,1.2,1)),0))) -> 0 | L19: =IF(OR(LEFT(E19,2)="ĐA",LEFT(E19,2)="DA",LEFT(E19,5)="Đồ án",LEFT(E19,5)="Đồán "),0,IF(AND(J19>0,I19>0),IF(AND(OR(LEFT(E19,4)="GDQP",LEFT(E19,4)="gdqp",LEFT(E19,19)="Giáo dục quốc phòng"),J19>50),1.3,IF(J19>35,1.2,IF(J19>29,1.1,1))),0)) -> 0 | M19: =ROUND(IF(OR(LEFT(E19,2)="ĐA",LEFT(E19,2)="DA",LEFT(E19,5)="Đồ án",LEFT(E19,5)="Đồán "),J19*0.5,(IF(H19>0,H19*K19,"0")+IF(I19>0,(I19*0.75)*L19,"0"))),1) -> 21.5
D20: 021100015202 | E20: Thiết kế web | F20: 17C1-CMT1 | G20: 1 | H20: 45 | I20: 30 | J20: 37 | K20: =IF(OR(LEFT(E20,2)="ĐA",LEFT(E20,2)="DA",LEFT(E20,5)="Đồ án",LEFT(E20,5)="Đồán ",LEFT(E20,9)="Sinh hoạt",LEFT(E20,9)="sinh hoạt",LEFT(E20,6)="Cố vấn",LEFT(E20,6)="cố vấn",LEFT(E20,4)="cvht",LEFT(E20,4)="CVHT",LEFT(E20,4)="shcn",LEFT(E20,4)="SHCN"),0,(IF(AND(H20>0,J20>0),IF(J20>60,1.3,IF(J20>35,1.2,1)),0))) -> 1.2 | L20: =IF(OR(LEFT(E20,2)="ĐA",LEFT(E20,2)="DA",LEFT(E20,5)="Đồ án",LEFT(E20,5)="Đồán "),0,IF(AND(J20>0,I20>0),IF(AND(OR(LEFT(E20,4)="GDQP",LEFT(E20,4)="gdqp",LEFT(E20,19)="Giáo dục quốc phòng"),J20>50),1.3,IF(J20>35,1.2,IF(J20>29,1.1,1))),0)) -> 1.2 | M20: =ROUND(IF(OR(LEFT(E20,2)="ĐA",LEFT(E20,2)="DA",LEFT(E20,5)="Đồ án",LEFT(E20,5)="Đồán "),J20*0.5,(IF(H20>0,H20*K20,"0")+IF(I20>0,(I20*0.75)*L20,"0"))),1) -> 81
D21: 021100119801 | E21: Tin học | F21: 18C1-CMT1 | G21: 1 | H21: 30 | I21: 60 | J21: 39 | K21: =IF(OR(LEFT(E21,2)="ĐA",LEFT(E21,2)="DA",LEFT(E21,5)="Đồ án",LEFT(E21,5)="Đồán ",LEFT(E21,9)="Sinh hoạt",LEFT(E21,9)="sinh hoạt",LEFT(E21,6)="Cố vấn",LEFT(E21,6)="cố vấn",LEFT(E21,4)="cvht",LEFT(E21,4)="CVHT",LEFT(E21,4)="shcn",LEFT(E21,4)="SHCN"),0,(IF(AND(H21>0,J21>0),IF(J21>60,1.3,IF(J21>35,1.2,1)),0))) -> 1.2 | L21: =IF(OR(LEFT(E21,2)="ĐA",LEFT(E21,2)="DA",LEFT(E21,5)="Đồ án",LEFT(E21,5)="Đồán "),0,IF(AND(J21>0,I21>0),IF(AND(OR(LEFT(E21,4)="GDQP",LEFT(E21,4)="gdqp",LEFT(E21,19)="Giáo dục quốc phòng"),J21>50),1.3,IF(J21>35,1.2,IF(J21>29,1.1,1))),0)) -> 1.2 | M21: =ROUND(IF(OR(LEFT(E21,2)="ĐA",LEFT(E21,2)="DA",LEFT(E21,5)="Đồ án",LEFT(E21,5)="Đồán "),J21*0.5,(IF(H21>0,H21*K21,"0")+IF(I21>0,(I21*0.75)*L21,"0"))),1) -> 90
E22: Sinh hoạt chủ nhiệm | F22: 18C1-CMT1 | K22: =IF(OR(LEFT(E22,2)="ĐA",LEFT(E22,2)="DA",LEFT(E22,5)="Đồ án",LEFT(E22,5)="Đồán ",LEFT(E22,9)="Sinh hoạt",LEFT(E22,9)="sinh hoạt",LEFT(E22,6)="Cố vấn",LEFT(E22,6)="cố vấn",LEFT(E22,4)="cvht",LEFT(E22,4)="CVHT",LEFT(E22,4)="shcn",LEFT(E22,4)="SHCN"),0,(IF(AND(H22>0,J22>0),IF(J22>60,1.3,IF(J22>35,1.2,1)),0))) -> 0 | L22: =IF(OR(LEFT(E22,2)="ĐA",LEFT(E22,2)="DA",LEFT(E22,5)="Đồ án",LEFT(E22,5)="Đồán "),0,IF(AND(J22>0,I22>0),IF(AND(OR(LEFT(E22,4)="GDQP",LEFT(E22,4)="gdqp",LEFT(E22,19)="Giáo dục quốc phòng"),J22>50),1.3,IF(J22>35,1.2,IF(J22>29,1.1,1))),0)) -> 0 | M22: =ROUND(IF(OR(LEFT(E22,2)="ĐA",LEFT(E22,2)="DA",LEFT(E22,5)="Đồ án",LEFT(E22,5)="Đồán "),J22*0.5,(IF(H22>0,H22*K22,"0")+IF(I22>0,(I22*0.75)*L22,"0"))),1) -> 0
E23: Đồ án 2 | F23: 17C1-TKW | G23: 2 | J23: 40 | K23: =IF(OR(LEFT(E23,2)="ĐA",LEFT(E23,2)="DA",LEFT(E23,5)="Đồ án",LEFT(E23,5)="Đồán ",LEFT(E23,9)="Sinh hoạt",LEFT(E23,9)="sinh hoạt",LEFT(E23,6)="Cố vấn",LEFT(E23,6)="cố vấn",LEFT(E23,4)="cvht",LEFT(E23,4)="CVHT",LEFT(E23,4)="shcn",LEFT(E23,4)="SHCN"),0,(IF(AND(H23>0,J23>0),IF(J23>60,1.3,IF(J23>35,1.2,1)),0))) -> 0 | L23: =IF(OR(LEFT(E23,2)="ĐA",LEFT(E23,2)="DA",LEFT(E23,5)="Đồ án",LEFT(E23,5)="Đồán "),0,IF(AND(J23>0,I23>0),IF(AND(OR(LEFT(E23,4)="GDQP",LEFT(E23,4)="gdqp",LEFT(E23,19)="Giáo dục quốc phòng"),J23>50),1.3,IF(J23>35,1.2,IF(J23>29,1.1,1))),0)) -> 0 | M23: =ROUND(IF(OR(LEFT(E23,2)="ĐA",LEFT(E23,2)="DA",LEFT(E23,5)="Đồ án",LEFT(E23,5)="Đồán "),J23*0.5,(IF(H23>0,H23*K23,"0")+IF(I23>0,(I23*0.75)*L23,"0"))),1) -> 20
E24: Lap trình PHP2 | F24: 17C1-TKW | G24: 2 | H24: 45 | I24: 30 | J24: 40 | K24: =IF(OR(LEFT(E24,2)="ĐA",LEFT(E24,2)="DA",LEFT(E24,5)="Đồ án",LEFT(E24,5)="Đồán ",LEFT(E24,9)="Sinh hoạt",LEFT(E24,9)="sinh hoạt",LEFT(E24,6)="Cố vấn",LEFT(E24,6)="cố vấn",LEFT(E24,4)="cvht",LEFT(E24,4)="CVHT",LEFT(E24,4)="shcn",LEFT(E24,4)="SHCN"),0,(IF(AND(H24>0,J24>0),IF(J24>60,1.3,IF(J24>35,1.2,1)),0))) -> 1.2 | L24: =IF(OR(LEFT(E24,2)="ĐA",LEFT(E24,2)="DA",LEFT(E24,5)="Đồ án",LEFT(E24,5)="Đồán "),0,IF(AND(J24>0,I24>0),IF(AND(OR(LEFT(E24,4)="GDQP",LEFT(E24,4)="gdqp",LEFT(E24,19)="Giáo dục quốc phòng"),J24>50),1.3,IF(J24>35,1.2,IF(J24>29,1.1,1))),0)) -> 1.2 | M24: =ROUND(IF(OR(LEFT(E24,2)="ĐA",LEFT(E24,2)="DA",LEFT(E24,5)="Đồ án",LEFT(E24,5)="Đồán "),J24*0.5,(IF(H24>0,H24*K24,"0")+IF(I24>0,(I24*0.75)*L24,"0"))),1) -> 81
E25: Lập trình PHP | F25: 16CĐ-TM1 | G25: 2 | H25: 45 | I25: 30 | J25: 40 | K25: =IF(OR(LEFT(E25,2)="ĐA",LEFT(E25,2)="DA",LEFT(E25,5)="Đồ án",LEFT(E25,5)="Đồán ",LEFT(E25,9)="Sinh hoạt",LEFT(E25,9)="sinh hoạt",LEFT(E25,6)="Cố vấn",LEFT(E25,6)="cố vấn",LEFT(E25,4)="cvht",LEFT(E25,4)="CVHT",LEFT(E25,4)="shcn",LEFT(E25,4)="SHCN"),0,(IF(AND(H25>0,J25>0),IF(J25>60,1.3,IF(J25>35,1.2,1)),0))) -> 1.2 | L25: =IF(OR(LEFT(E25,2)="ĐA",LEFT(E25,2)="DA",LEFT(E25,5)="Đồ án",LEFT(E25,5)="Đồán "),0,IF(AND(J25>0,I25>0),IF(AND(OR(LEFT(E25,4)="GDQP",LEFT(E25,4)="gdqp",LEFT(E25,19)="Giáo dục quốc phòng"),J25>50),1.3,IF(J25>35,1.2,IF(J25>29,1.1,1))),0)) -> 1.2 | M25: =ROUND(IF(OR(LEFT(E25,2)="ĐA",LEFT(E25,2)="DA",LEFT(E25,5)="Đồ án",LEFT(E25,5)="Đồán "),J25*0.5,(IF(H25>0,H25*K25,"0")+IF(I25>0,(I25*0.75)*L25,"0"))),1) -> 81
E26: Lập trình PHP | F26: 16CĐ-TM2 | G26: 2 | H26: 45 | I26: 30 | J26: 40 | K26: =IF(OR(LEFT(E26,2)="ĐA",LEFT(E26,2)="DA",LEFT(E26,5)="Đồ án",LEFT(E26,5)="Đồán ",LEFT(E26,9)="Sinh hoạt",LEFT(E26,9)="sinh hoạt",LEFT(E26,6)="Cố vấn",LEFT(E26,6)="cố vấn",LEFT(E26,4)="cvht",LEFT(E26,4)="CVHT",LEFT(E26,4)="shcn",LEFT(E26,4)="SHCN"),0,(IF(AND(H26>0,J26>0),IF(J26>60,1.3,IF(J26>35,1.2,1)),0))) -> 1.2 | L26: =IF(OR(LEFT(E26,2)="ĐA",LEFT(E26,2)="DA",LEFT(E26,5)="Đồ án",LEFT(E26,5)="Đồán "),0,IF(AND(J26>0,I26>0),IF(AND(OR(LEFT(E26,4)="GDQP",LEFT(E26,4)="gdqp",LEFT(E26,19)="Giáo dục quốc phòng"),J26>50),1.3,IF(J26>35,1.2,IF(J26>29,1.1,1))),0)) -> 1.2 | M26: =ROUND(IF(OR(LEFT(E26,2)="ĐA",LEFT(E26,2)="DA",LEFT(E26,5)="Đồ án",LEFT(E26,5)="Đồán "),J26*0.5,(IF(H26>0,H26*K26,"0")+IF(I26>0,(I26*0.75)*L26,"0"))),1) -> 81
E27: Lập trình PHP | F27: 17C1-THU | G27: 2 | H27: 45 | I27: 30 | J27: 40 | K27: =IF(OR(LEFT(E27,2)="ĐA",LEFT(E27,2)="DA",LEFT(E27,5)="Đồ án",LEFT(E27,5)="Đồán ",LEFT(E27,9)="Sinh hoạt",LEFT(E27,9)="sinh hoạt",LEFT(E27,6)="Cố vấn",LEFT(E27,6)="cố vấn",LEFT(E27,4)="cvht",LEFT(E27,4)="CVHT",LEFT(E27,4)="shcn",LEFT(E27,4)="SHCN"),0,(IF(AND(H27>0,J27>0),IF(J27>60,1.3,IF(J27>35,1.2,1)),0))) -> 1.2 | L27: =IF(OR(LEFT(E27,2)="ĐA",LEFT(E27,2)="DA",LEFT(E27,5)="Đồ án",LEFT(E27,5)="Đồán "),0,IF(AND(J27>0,I27>0),IF(AND(OR(LEFT(E27,4)="GDQP",LEFT(E27,4)="gdqp",LEFT(E27,19)="Giáo dục quốc phòng"),J27>50),1.3,IF(J27>35,1.2,IF(J27>29,1.1,1))),0)) -> 1.2 | M27: =ROUND(IF(OR(LEFT(E27,2)="ĐA",LEFT(E27,2)="DA",LEFT(E27,5)="Đồ án",LEFT(E27,5)="Đồán "),J27*0.5,(IF(H27>0,H27*K27,"0")+IF(I27>0,(I27*0.75)*L27,"0"))),1) -> 81
E28: Đồ án lập trình web | F28: 16CĐ-TW1 | G28: 2 | H28: 15 | J28: 40 | K28: =IF(OR(LEFT(E28,2)="ĐA",LEFT(E28,2)="DA",LEFT(E28,5)="Đồ án",LEFT(E28,5)="Đồán ",LEFT(E28,9)="Sinh hoạt",LEFT(E28,9)="sinh hoạt",LEFT(E28,6)="Cố vấn",LEFT(E28,6)="cố vấn",LEFT(E28,4)="cvht",LEFT(E28,4)="CVHT",LEFT(E28,4)="shcn",LEFT(E28,4)="SHCN"),0,(IF(AND(H28>0,J28>0),IF(J28>60,1.3,IF(J28>35,1.2,1)),0))) -> 1.2 | L28: =IF(OR(LEFT(E28,2)="ĐA",LEFT(E28,2)="DA",LEFT(E28,5)="Đồ án",LEFT(E28,5)="Đồán "),0,IF(AND(J28>0,I28>0),IF(AND(OR(LEFT(E28,4)="GDQP",LEFT(E28,4)="gdqp",LEFT(E28,19)="Giáo dục quốc phòng"),J28>50),1.3,IF(J28>35,1.2,IF(J28>29,1.1,1))),0)) -> 0 | M28: =ROUND(IF(OR(LEFT(E28,2)="ĐA",LEFT(E28,2)="DA",LEFT(E28,5)="Đồ án",LEFT(E28,5)="Đồán "),J28*0.5,(IF(H28>0,H28*K28,"0")+IF(I28>0,(I28*0.75)*L28,"0"))),1) -> 18
E29: Đồ án lập trình web-N1 | F29: 16CĐ-TW1 | G29: 2 | I29: 30 | J29: 40 | K29: =IF(OR(LEFT(E29,2)="ĐA",LEFT(E29,2)="DA",LEFT(E29,5)="Đồ án",LEFT(E29,5)="Đồán ",LEFT(E29,9)="Sinh hoạt",LEFT(E29,9)="sinh hoạt",LEFT(E29,6)="Cố vấn",LEFT(E29,6)="cố vấn",LEFT(E29,4)="cvht",LEFT(E29,4)="CVHT",LEFT(E29,4)="shcn",LEFT(E29,4)="SHCN"),0,(IF(AND(H29>0,J29>0),IF(J29>60,1.3,IF(J29>35,1.2,1)),0))) -> 0 | L29: =IF(OR(LEFT(E29,2)="ĐA",LEFT(E29,2)="DA",LEFT(E29,5)="Đồ án",LEFT(E29,5)="Đồán "),0,IF(AND(J29>0,I29>0),IF(AND(OR(LEFT(E29,4)="GDQP",LEFT(E29,4)="gdqp",LEFT(E29,19)="Giáo dục quốc phòng"),J29>50),1.3,IF(J29>35,1.2,IF(J29>29,1.1,1))),0)) -> 1.2 | M29: =ROUND(IF(OR(LEFT(E29,2)="ĐA",LEFT(E29,2)="DA",LEFT(E29,5)="Đồ án",LEFT(E29,5)="Đồán "),J29*0.5,(IF(H29>0,H29*K29,"0")+IF(I29>0,(I29*0.75)*L29,"0"))),1) -> 27
E30: Đồ án lập trình web-N2 | F30: 16CĐ-TW1 | G30: 2 | I30: 30 | J30: 40 | K30: =IF(OR(LEFT(E30,2)="ĐA",LEFT(E30,2)="DA",LEFT(E30,5)="Đồ án",LEFT(E30,5)="Đồán ",LEFT(E30,9)="Sinh hoạt",LEFT(E30,9)="sinh hoạt",LEFT(E30,6)="Cố vấn",LEFT(E30,6)="cố vấn",LEFT(E30,4)="cvht",LEFT(E30,4)="CVHT",LEFT(E30,4)="shcn",LEFT(E30,4)="SHCN"),0,(IF(AND(H30>0,J30>0),IF(J30>60,1.3,IF(J30>35,1.2,1)),0))) -> 0 | L30: =IF(OR(LEFT(E30,2)="ĐA",LEFT(E30,2)="DA",LEFT(E30,5)="Đồ án",LEFT(E30,5)="Đồán "),0,IF(AND(J30>0,I30>0),IF(AND(OR(LEFT(E30,4)="GDQP",LEFT(E30,4)="gdqp",LEFT(E30,19)="Giáo dục quốc phòng"),J30>50),1.3,IF(J30>35,1.2,IF(J30>29,1.1,1))),0)) -> 1.2 | M30: =ROUND(IF(OR(LEFT(E30,2)="ĐA",LEFT(E30,2)="DA",LEFT(E30,5)="Đồ án",LEFT(E30,5)="Đồán "),J30*0.5,(IF(H30>0,H30*K30,"0")+IF(I30>0,(I30*0.75)*L30,"0"))),1) -> 27
E31: Tin học | F31: CĐ20 | G31: 2 | H31: 30 | I31: 60 | J31: 40 | K31: =IF(OR(LEFT(E31,2)="ĐA",LEFT(E31,2)="DA",LEFT(E31,5)="Đồ án",LEFT(E31,5)="Đồán ",LEFT(E31,9)="Sinh hoạt",LEFT(E31,9)="sinh hoạt",LEFT(E31,6)="Cố vấn",LEFT(E31,6)="cố vấn",LEFT(E31,4)="cvht",LEFT(E31,4)="CVHT",LEFT(E31,4)="shcn",LEFT(E31,4)="SHCN"),0,(IF(AND(H31>0,J31>0),IF(J31>60,1.3,IF(J31>35,1.2,1)),0))) -> 1.2 | L31: =IF(OR(LEFT(E31,2)="ĐA",LEFT(E31,2)="DA",LEFT(E31,5)="Đồ án",LEFT(E31,5)="Đồán "),0,IF(AND(J31>0,I31>0),IF(AND(OR(LEFT(E31,4)="GDQP",LEFT(E31,4)="gdqp",LEFT(E31,19)="Giáo dục quốc phòng"),J31>50),1.3,IF(J31>35,1.2,IF(J31>29,1.1,1))),0)) -> 1.2 | M31: =ROUND(IF(OR(LEFT(E31,2)="ĐA",LEFT(E31,2)="DA",LEFT(E31,5)="Đồ án",LEFT(E31,5)="Đồán "),J31*0.5,(IF(H31>0,H31*K31,"0")+IF(I31>0,(I31*0.75)*L31,"0"))),1) -> 90
E32: Tin học | F32: CĐ21 | G32: 2 | H32: 30 | I32: 60 | J32: 40 | K32: =IF(OR(LEFT(E32,2)="ĐA",LEFT(E32,2)="DA",LEFT(E32,5)="Đồ án",LEFT(E32,5)="Đồán ",LEFT(E32,9)="Sinh hoạt",LEFT(E32,9)="sinh hoạt",LEFT(E32,6)="Cố vấn",LEFT(E32,6)="cố vấn",LEFT(E32,4)="cvht",LEFT(E32,4)="CVHT",LEFT(E32,4)="shcn",LEFT(E32,4)="SHCN"),0,(IF(AND(H32>0,J32>0),IF(J32>60,1.3,IF(J32>35,1.2,1)),0))) -> 1.2 | L32: =IF(OR(LEFT(E32,2)="ĐA",LEFT(E32,2)="DA",LEFT(E32,5)="Đồ án",LEFT(E32,5)="Đồán "),0,IF(AND(J32>0,I32>0),IF(AND(OR(LEFT(E32,4)="GDQP",LEFT(E32,4)="gdqp",LEFT(E32,19)="Giáo dục quốc phòng"),J32>50),1.3,IF(J32>35,1.2,IF(J32>29,1.1,1))),0)) -> 1.2 | M32: =ROUND(IF(OR(LEFT(E32,2)="ĐA",LEFT(E32,2)="DA",LEFT(E32,5)="Đồ án",LEFT(E32,5)="Đồán "),J32*0.5,(IF(H32>0,H32*K32,"0")+IF(I32>0,(I32*0.75)*L32,"0"))),1) -> 90
K33: =IF(OR(LEFT(E33,2)="ĐA",LEFT(E33,2)="DA",LEFT(E33,5)="Đồ án",LEFT(E33,5)="Đồán ",LEFT(E33,9)="Sinh hoạt",LEFT(E33,9)="sinh hoạt",LEFT(E33,6)="Cố vấn",LEFT(E33,6)="cố vấn",LEFT(E33,4)="cvht",LEFT(E33,4)="CVHT",LEFT(E33,4)="shcn",LEFT(E33,4)="SHCN"),0,(IF(AND(H33>0,J33>0),IF(J33>60,1.3,IF(J33>35,1.2,1)),0))) -> 0 | L33: =IF(OR(LEFT(E33,2)="ĐA",LEFT(E33,2)="DA",LEFT(E33,5)="Đồ án",LEFT(E33,5)="Đồán "),0,IF(AND(J33>0,I33>0),IF(AND(OR(LEFT(E33,4)="GDQP",LEFT(E33,4)="gdqp",LEFT(E33,19)="Giáo dục quốc phòng"),J33>50),1.3,IF(J33>35,1.2,IF(J33>29,1.1,1))),0)) -> 0 | M33: =ROUND(IF(OR(LEFT(E33,2)="ĐA",LEFT(E33,2)="DA",LEFT(E33,5)="Đồ án",LEFT(E33,5)="Đồán "),J33*0.5,(IF(H33>0,H33*K33,"0")+IF(I33>0,(I33*0.75)*L33,"0"))),1) -> 0
K34: =IF(OR(LEFT(E34,2)="ĐA",LEFT(E34,2)="DA",LEFT(E34,5)="Đồ án",LEFT(E34,5)="Đồán ",LEFT(E34,9)="Sinh hoạt",LEFT(E34,9)="sinh hoạt",LEFT(E34,6)="Cố vấn",LEFT(E34,6)="cố vấn",LEFT(E34,4)="cvht",LEFT(E34,4)="CVHT",LEFT(E34,4)="shcn",LEFT(E34,4)="SHCN"),0,(IF(AND(H34>0,J34>0),IF(J34>60,1.3,IF(J34>35,1.2,1)),0))) -> 0 | L34: =IF(OR(LEFT(E34,2)="ĐA",LEFT(E34,2)="DA",LEFT(E34,5)="Đồ án",LEFT(E34,5)="Đồán "),0,IF(AND(J34>0,I34>0),IF(AND(OR(LEFT(E34,4)="GDQP",LEFT(E34,4)="gdqp",LEFT(E34,19)="Giáo dục quốc phòng"),J34>50),1.3,IF(J34>35,1.2,IF(J34>29,1.1,1))),0)) -> 0 | M34: =ROUND(IF(OR(LEFT(E34,2)="ĐA",LEFT(E34,2)="DA",LEFT(E34,5)="Đồ án",LEFT(E34,5)="Đồán "),J34*0.5,(IF(H34>0,H34*K34,"0")+IF(I34>0,(I34*0.75)*L34,"0"))),1) -> 0
A35: 18 | B35: Nguyễn Cao | C35: Phong | D35: 20200090201 | E35: Lập trình PHP 1 (LT) | F35: 16CĐ-TW1 | G35: 1 | H35: 45 | J35: 58 | K35: =IF(OR(LEFT(E35,2)="ĐA",LEFT(E35,2)="DA",LEFT(E35,5)="Đồ án",LEFT(E35,5)="Đồán ",LEFT(E35,9)="Sinh hoạt",LEFT(E35,9)="sinh hoạt",LEFT(E35,6)="Cố vấn",LEFT(E35,6)="cố vấn",LEFT(E35,4)="cvht",LEFT(E35,4)="CVHT",LEFT(E35,4)="shcn",LEFT(E35,4)="SHCN"),0,(IF(AND(H35>0,J35>0),IF(J35>60,1.3,IF(J35>35,1.2,1)),0))) -> 1.2 | L35: =IF(OR(LEFT(E35,2)="ĐA",LEFT(E35,2)="DA",LEFT(E35,5)="Đồ án",LEFT(E35,5)="Đồán "),0,IF(AND(J35>0,I35>0),IF(AND(OR(LEFT(E35,4)="GDQP",LEFT(E35,4)="gdqp",LEFT(E35,19)="Giáo dục quốc phòng"),J35>50),1.3,IF(J35>35,1.2,IF(J35>29,1.1,1))),0)) -> 0 | M35: =ROUND(IF(OR(LEFT(E35,2)="ĐA",LEFT(E35,2)="DA",LEFT(E35,5)="Đồ án",LEFT(E35,5)="Đồán "),J35*0.5,(IF(H35>0,H35*K35,"0")+IF(I35>0,(I35*0.75)*L35,"0"))),1) -> 54 | N35: 89.5 | P35: =SUM(M35:M57)+N35+O35 -> 1187 | Q35: 0 | R35: 35 | S35: 450 | T35: 450 | U35: 112 | V35: 112 | W35: 56 | X35: 56 | Y35: =ROUND((P35-T35),1) -> 737 | Z35: -112 | AA35: -21 | AC35: =SUM(Y35:AA57) -> 604
D36: 20200090201 | E36: Lập trình PHP 1 (TH) | F36: 16CĐ-TW1 | G36: 1 | I36: 60 | J36: 29 | K36: =IF(OR(LEFT(E36,2)="ĐA",LEFT(E36,2)="DA",LEFT(E36,5)="Đồ án",LEFT(E36,5)="Đồán ",LEFT(E36,9)="Sinh hoạt",LEFT(E36,9)="sinh hoạt",LEFT(E36,6)="Cố vấn",LEFT(E36,6)="cố vấn",LEFT(E36,4)="cvht",LEFT(E36,4)="CVHT",LEFT(E36,4)="shcn",LEFT(E36,4)="SHCN"),0,(IF(AND(H36>0,J36>0),IF(J36>60,1.3,IF(J36>35,1.2,1)),0))) -> 0 | L36: =IF(OR(LEFT(E36,2)="ĐA",LEFT(E36,2)="DA",LEFT(E36,5)="Đồ án",LEFT(E36,5)="Đồán "),0,IF(AND(J36>0,I36>0),IF(AND(OR(LEFT(E36,4)="GDQP",LEFT(E36,4)="gdqp",LEFT(E36,19)="Giáo dục quốc phòng"),J36>50),1.3,IF(J36>35,1.2,IF(J36>29,1.1,1))),0)) -> 1 | M36: =ROUND(IF(OR(LEFT(E36,2)="ĐA",LEFT(E36,2)="DA",LEFT(E36,5)="Đồ án",LEFT(E36,5)="Đồán "),J36*0.5,(IF(H36>0,H36*K36,"0")+IF(I36>0,(I36*0.75)*L36,"0"))),1) -> 45
D37: 20200090201 | E37: Lập trình PHP 1 (TH) | F37: 16CĐ-TW1 | G37: 1 | I37: 60 | J37: 29 | K37: =IF(OR(LEFT(E37,2)="ĐA",LEFT(E37,2)="DA",LEFT(E37,5)="Đồ án",LEFT(E37,5)="Đồán ",LEFT(E37,9)="Sinh hoạt",LEFT(E37,9)="sinh hoạt",LEFT(E37,6)="Cố vấn",LEFT(E37,6)="cố vấn",LEFT(E37,4)="cvht",LEFT(E37,4)="CVHT",LEFT(E37,4)="shcn",LEFT(E37,4)="SHCN"),0,(IF(AND(H37>0,J37>0),IF(J37>60,1.3,IF(J37>35,1.2,1)),0))) -> 0 | L37: =IF(OR(LEFT(E37,2)="ĐA",LEFT(E37,2)="DA",LEFT(E37,5)="Đồ án",LEFT(E37,5)="Đồán "),0,IF(AND(J37>0,I37>0),IF(AND(OR(LEFT(E37,4)="GDQP",LEFT(E37,4)="gdqp",LEFT(E37,19)="Giáo dục quốc phòng"),J37>50),1.3,IF(J37>35,1.2,IF(J37>29,1.1,1))),0)) -> 1 | M37: =ROUND(IF(OR(LEFT(E37,2)="ĐA",LEFT(E37,2)="DA",LEFT(E37,5)="Đồ án",LEFT(E37,5)="Đồán "),J37*0.5,(IF(H37>0,H37*K37,"0")+IF(I37>0,(I37*0.75)*L37,"0"))),1) -> 45
D38: 71400119916 | E38: Tin học | F38: 17T4-KTD1 | G38: 1 | H38: 30 | I38: 60 | J38: 52 | K38: =IF(OR(LEFT(E38,2)="ĐA",LEFT(E38,2)="DA",LEFT(E38,5)="Đồ án",LEFT(E38,5)="Đồán ",LEFT(E38,9)="Sinh hoạt",LEFT(E38,9)="sinh hoạt",LEFT(E38,6)="Cố vấn",LEFT(E38,6)="cố vấn",LEFT(E38,4)="cvht",LEFT(E38,4)="CVHT",LEFT(E38,4)="shcn",LEFT(E38,4)="SHCN"),0,(IF(AND(H38>0,J38>0),IF(J38>60,1.3,IF(J38>35,1.2,1)),0))) -> 1.2 | L38: =IF(OR(LEFT(E38,2)="ĐA",LEFT(E38,2)="DA",LEFT(E38,5)="Đồ án",LEFT(E38,5)="Đồán "),0,IF(AND(J38>0,I38>0),IF(AND(OR(LEFT(E38,4)="GDQP",LEFT(E38,4)="gdqp",LEFT(E38,19)="Giáo dục quốc phòng"),J38>50),1.3,IF(J38>35,1.2,IF(J38>29,1.1,1))),0)) -> 1.2 | M38: =ROUND(IF(OR(LEFT(E38,2)="ĐA",LEFT(E38,2)="DA",LEFT(E38,5)="Đồ án",LEFT(E38,5)="Đồán "),J38*0.5,(IF(H38>0,H38*K38,"0")+IF(I38>0,(I38*0.75)*L38,"0"))),1) -> 90
D39: 71400119910 | E39: Tin học | F39: 17T4-CNÔ3 | G39: 1 | H39: 30 | I39: 60 | J39: 52 | K39: =IF(OR(LEFT(E39,2)="ĐA",LEFT(E39,2)="DA",LEFT(E39,5)="Đồ án",LEFT(E39,5)="Đồán ",LEFT(E39,9)="Sinh hoạt",LEFT(E39,9)="sinh hoạt",LEFT(E39,6)="Cố vấn",LEFT(E39,6)="cố vấn",LEFT(E39,4)="cvht",LEFT(E39,4)="CVHT",LEFT(E39,4)="shcn",LEFT(E39,4)="SHCN"),0,(IF(AND(H39>0,J39>0),IF(J39>60,1.3,IF(J39>35,1.2,1)),0))) -> 1.2 | L39: =IF(OR(LEFT(E39,2)="ĐA",LEFT(E39,2)="DA",LEFT(E39,5)="Đồ án",LEFT(E39,5)="Đồán "),0,IF(AND(J39>0,I39>0),IF(AND(OR(LEFT(E39,4)="GDQP",LEFT(E39,4)="gdqp",LEFT(E39,19)="Giáo dục quốc phòng"),J39>50),1.3,IF(J39>35,1.2,IF(J39>29,1.1,1))),0)) -> 1.2 | M39: =ROUND(IF(OR(LEFT(E39,2)="ĐA",LEFT(E39,2)="DA",LEFT(E39,5)="Đồ án",LEFT(E39,5)="Đồán "),J39*0.5,(IF(H39>0,H39*K39,"0")+IF(I39>0,(I39*0.75)*L39,"0"))),1) -> 90
D40: 20200015201 | E40: Thiết kế Web | F40: 16CĐ-TM1 | G40: 1 | H40: 45 | I40: 30 | J40: 34 | K40: =IF(OR(LEFT(E40,2)="ĐA",LEFT(E40,2)="DA",LEFT(E40,5)="Đồ án",LEFT(E40,5)="Đồán ",LEFT(E40,9)="Sinh hoạt",LEFT(E40,9)="sinh hoạt",LEFT(E40,6)="Cố vấn",LEFT(E40,6)="cố vấn",LEFT(E40,4)="cvht",LEFT(E40,4)="CVHT",LEFT(E40,4)="shcn",LEFT(E40,4)="SHCN"),0,(IF(AND(H40>0,J40>0),IF(J40>60,1.3,IF(J40>35,1.2,1)),0))) -> 1 | L40: =IF(OR(LEFT(E40,2)="ĐA",LEFT(E40,2)="DA",LEFT(E40,5)="Đồ án",LEFT(E40,5)="Đồán "),0,IF(AND(J40>0,I40>0),IF(AND(OR(LEFT(E40,4)="GDQP",LEFT(E40,4)="gdqp",LEFT(E40,19)="Giáo dục quốc phòng"),J40>50),1.3,IF(J40>35,1.2,IF(J40>29,1.1,1))),0)) -> 1.1 | M40: =ROUND(IF(OR(LEFT(E40,2)="ĐA",LEFT(E40,2)="DA",LEFT(E40,5)="Đồ án",LEFT(E40,5)="Đồán "),J40*0.5,(IF(H40>0,H40*K40,"0")+IF(I40>0,(I40*0.75)*L40,"0"))),1) -> 69.8
D41: 21100149201 | E41: Lập trình Web | F41: 17C1-LTM1 | G41: 1 | H41: 60 | I41: 30 | J41: 34 | K41: =IF(OR(LEFT(E41,2)="ĐA",LEFT(E41,2)="DA",LEFT(E41,5)="Đồ án",LEFT(E41,5)="Đồán ",LEFT(E41,9)="Sinh hoạt",LEFT(E41,9)="sinh hoạt",LEFT(E41,6)="Cố vấn",LEFT(E41,6)="cố vấn",LEFT(E41,4)="cvht",LEFT(E41,4)="CVHT",LEFT(E41,4)="shcn",LEFT(E41,4)="SHCN"),0,(IF(AND(H41>0,J41>0),IF(J41>60,1.3,IF(J41>35,1.2,1)),0))) -> 1 | L41: =IF(OR(LEFT(E41,2)="ĐA",LEFT(E41,2)="DA",LEFT(E41,5)="Đồ án",LEFT(E41,5)="Đồán "),0,IF(AND(J41>0,I41>0),IF(AND(OR(LEFT(E41,4)="GDQP",LEFT(E41,4)="gdqp",LEFT(E41,19)="Giáo dục quốc phòng"),J41>50),1.3,IF(J41>35,1.2,IF(J41>29,1.1,1))),0)) -> 1.1 | M41: =ROUND(IF(OR(LEFT(E41,2)="ĐA",LEFT(E41,2)="DA",LEFT(E41,5)="Đồ án",LEFT(E41,5)="Đồán "),J41*0.5,(IF(H41>0,H41*K41,"0")+IF(I41>0,(I41*0.75)*L41,"0"))),1) -> 84.8
...

Sheet Sheet1
A1: 18T4-QTM | B1: 60
A2: 18C1-TKĐ1 | B2: 70
A3: 18C1-QTM | B3: 62
A4: 16CĐTP | B4: 65
A5: 16CĐ-TW | B5: 54
A6: 16TCN
