Workbook

Sheet Mau A2
Q1: Mẫu A2
A2: UBND THÀNH PHỐ HỒ CHÍ MINH | K2: CỘNG HÒA XÃ HỘI CHỦ NGHĨA VIỆT NAM
A3: TRƯỜNG CAO ĐẲNG LÝ TỰ TRỌNG THÀNH PHỐ HỒ CHÍ MINH | K3: Độc lập - Tự do - Hạnh phúc
A4: BẢNG TỔNG KẾT KHỐI LƯỢNG CÔNG VIỆC CỦA GIẢNG VIÊN TRONG NĂM HỌC 2017 - 2018
A5: KHOA : CÔNG NGHỆ THÔNG TIN
A7: TT | B7: Họ và Tên | D7: Thực hiện trong năm học | J7: Số tiết chuẩn giảng dạy cả năm còn lại | K7: Số tiết chuẩn "Học tập, bồi dưỡng chuẩn hóa, bồi dưỡng nâng cao, nghiên cứu khoa học" còn lại | L7: Số tiết chuẩn "Thực tập tại doanh nghiệp hoặc cơ quan chuyên môn" còn lại | M7: Số tiết thừa, thiếu giảng dạy | N7: Số tiết thừa, thiếu "Học tập, bồi dưỡng chuẩn hóa, bồi dưỡng nâng cao, nghiên cứu khoa học" | O7: Số tiết thừa, thiếu "Thực tập tại doanh nghiệp hoặc cơ quan chuyên môn" | P7: Tổng số tiết thừa, thiếu năm học 2017-2018 | Q7: Số tiết thiếu năm học 2016-2017 | R7: Tổng số tiết thừa, thiếu (sau khi cộng số tiết thiếu năm học 2016-2017)
D8: Số tiết quy đổi và đã nhân hệ số | E8: Kiêm nhiệm | F8: Số tiết soạn đề, coi thi, chấm thi | G8: Tổng tiết thực hiện | H8: Số tiết "Học tập, bồi dưỡng chuẩn hóa, bồi dưỡng nâng cao, nghiên cứu khoa học" | I8: Số tiết "Thực tập tại doanh nghiệp hoặc cơ quan chuyên môn"
R9: Khối lượng vượt giờ (tính phụ trội) | S9: Khối lượng thỉnh giảng (tiết thỉnh giảng) | T9: Số tiết thiếu năm học 2017-2018
A10: (1) | B10: (2) | D10: (3) | E10: (4) | F10: (5) | G10: (6) | H10: (7) | I10: (8) | J10: (9) | K10: (10) | L10: (11) | M10: (12) | N10: (13) | O10: (14) | Q10: (15) | R10: (16) | S10: (17) | T10: (18)
A11: 1 | B11: =IF('Mau A1'!#REF!="","",'Mau A1'!#REF!) -> #REF! | C11: =IF('Mau A1'!#REF!="","",'Mau A1'!#REF!) -> #REF! | D11: =SUM('Mau A1'!#REF!) -> #REF! | E11: =SUM('Mau A1'!#REF!) -> #REF! | F11: =SUM('Mau A1'!#REF!) -> #REF! | G11: =SUM('Mau A1'!#REF!) -> #REF! | H11: =SUM('Mau A1'!#REF!) -> #REF! | I11: =SUM('Mau A1'!#REF!) -> #REF! | J11: =SUM('Mau A1'!#REF!) -> #REF! | K11: =SUM('Mau A1'!#REF!) -> #REF! | ... Q11: =SUM('Mau A1'!#REF!) -> #REF! | R11: =ROUND(IF(AND(0<M11<200,0<(M11-Q11)<200,N11>=0,O11>=0),M11-Q11,IF(OR(AND(P11>0,P11>200),(P11-Q11)>200),"200",IF(OR(AND(N11<=0,O11=0,P11<200),AND(N11=0,O11<0,P11<200),AND(N11<0,O11<0,P11<200)),P11-Q11, ))),1) -> #REF! | S11: =ROUND(IF(AND(N11>0,O11>0,M11<=0,R11=0),P11-Q11,IF(AND(P11>0,R11=200),P11-Q11-R11, )),1) -> #REF! | T11: =ROUND(IF(SUM(M11:O11)-Q11<0,SUM(M11:O11)-Q11, ),1) -> #REF!
A12: 2 | B12: =IF('Mau A1'!#REF!="","",'Mau A1'!#REF!) -> #REF! | C12: =IF('Mau A1'!#REF!="","",'Mau A1'!#REF!) -> #REF! | D12: =SUM('Mau A1'!#REF!) -> #REF! | E12: =SUM('Mau A1'!#REF!) -> #REF! | F12: =SUM('Mau A1'!#REF!) -> #REF! | G12: =SUM('Mau A1'!#REF!) -> #REF! | H12: =SUM('Mau A1'!#REF!) -> #REF! | I12: =SUM('Mau A1'!#REF!) -> #REF! | J12: =SUM('Mau A1'!#REF!) -> #REF! | K12: =SUM('Mau A1'!#REF!) -> #REF! | ... Q12: =SUM('Mau A1'!#REF!) -> #REF! | R12: =ROUND(IF(AND(0<M12<200,0<(M12-Q12)<200,N12>=0,O12>=0),M12-Q12,IF(OR(AND(P12>0,P12>200),(P12-Q12)>200),"200",IF(OR(AND(N12<=0,O12=0,P12<200),AND(N12=0,O12<0,P12<200),AND(N12<0,O12<0,P12<200)),P12-Q12, ))),1) -> #REF! | S12: =ROUND(IF(AND(N12>0,O12>0,M12<=0,R12=0),P12-Q12,IF(AND(P12>0,R12=200),P12-Q12-R12, )),1) -> #REF! | T12: =ROUND(IF(SUM(M12:O12)-Q12<0,SUM(M12:O12)-Q12, ),1) -> #REF!
A13: 3 | B13: =IF('Mau A1'!#REF!="","",'Mau A1'!#REF!) -> #REF! | C13: =IF('Mau A1'!#REF!="","",'Mau A1'!#REF!) -> #REF! | D13: =SUM('Mau A1'!#REF!) -> #REF! | E13: =SUM('Mau A1'!#REF!) -> #REF! | F13: =SUM('Mau A1'!#REF!) -> #REF! | G13: =SUM('Mau A1'!#REF!) -> #REF! | H13: =SUM('Mau A1'!#REF!) -> #REF! | I13: =SUM('Mau A1'!#REF!) -> #REF! | J13: =SUM('Mau A1'!#REF!) -> #REF! | K13: =SUM('Mau A1'!#REF!) -> #REF! | ... Q13: =SUM('Mau A1'!#REF!) -> #REF! | R13: =ROUND(IF(AND(0<M13<200,0<(M13-Q13)<200,N13>=0,O13>=0),M13-Q13,IF(OR(AND(P13>0,P13>200),(P13-Q13)>200),"200",IF(OR(AND(N13<=0,O13=0,P13<200),AND(N13=0,O13<0,P13<200),AND(N13<0,O13<0,P13<200)),P13-Q13, ))),1) -> #REF! | S13: =ROUND(IF(AND(N13>0,O13>0,M13<=0,R13=0),P13-Q13,IF(AND(P13>0,R13=200),P13-Q13-R13, )),1) -> #REF! | T13: =ROUND(IF(SUM(M13:O13)-Q13<0,SUM(M13:O13)-Q13, ),1) -> #REF!
A14: 4 | B14: =IF('Mau A1'!#REF!="","",'Mau A1'!#REF!) -> #REF! | C14: =IF('Mau A1'!#REF!="","",'Mau A1'!#REF!) -> #REF! | D14: =SUM('Mau A1'!#REF!) -> #REF! | E14: =SUM('Mau A1'!#REF!) -> #REF! | F14: =SUM('Mau A1'!#REF!) -> #REF! | G14: =SUM('Mau A1'!#REF!) -> #REF! | H14: =SUM('Mau A1'!#REF!) -> #REF! | I14: =SUM('Mau A1'!#REF!) -> #REF! | J14: =SUM('Mau A1'!#REF!) -> #REF! | K14: =SUM('Mau A1'!#REF!) -> #REF! | ... Q14: =SUM('Mau A1'!#REF!) -> #REF! | R14: =ROUND(IF(AND(0<M14<200,0<(M14-Q14)<200,N14>=0,O14>=0),M14-Q14,IF(OR(AND(P14>0,P14>200),(P14-Q14)>200),"200",IF(OR(AND(N14<=0,O14=0,P14<200),AND(N14=0,O14<0,P14<200),AND(N14<0,O14<0,P14<200)),P14-Q14, ))),1) -> #REF! | S14: =ROUND(IF(AND(N14>0,O14>0,M14<=0,R14=0),P14-Q14,IF(AND(P14>0,R14=200),P14-Q14-R14, )),1) -> #REF! | T14: =ROUND(IF(SUM(M14:O14)-Q14<0,SUM(M14:O14)-Q14, ),1) -> #REF!
A15: 5 | B15: =IF('Mau A1'!#REF!="","",'Mau A1'!#REF!) -> #REF! | C15: =IF('Mau A1'!#REF!="","",'Mau A1'!#REF!) -> #REF! | D15: =SUM('Mau A1'!#REF!) -> #REF! | E15: =SUM('Mau A1'!#REF!) -> #REF! | F15: =SUM('Mau A1'!#REF!) -> #REF! | G15: =SUM('Mau A1'!#REF!) -> #REF! | H15: =SUM('Mau A1'!#REF!) -> #REF! | I15: =SUM('Mau A1'!#REF!) -> #REF! | J15: =SUM('Mau A1'!#REF!) -> #REF! | K15: =SUM('Mau A1'!#REF!) -> #REF! | ... Q15: =SUM('Mau A1'!#REF!) -> #REF! | R15: =ROUND(IF(AND(0<M15<200,0<(M15-Q15)<200,N15>=0,O15>=0),M15-Q15,IF(OR(AND(P15>0,P15>200),(P15-Q15)>200),"200",IF(OR(AND(N15<=0,O15=0,P15<200),AND(N15=0,O15<0,P15<200),AND(N15<0,O15<0,P15<200)),P15-Q15, ))),1) -> #REF! | S15: =ROUND(IF(AND(N15>0,O15>0,M15<=0,R15=0),P15-Q15,IF(AND(P15>0,R15=200),P15-Q15-R15, )),1) -> #REF! | T15: =ROUND(IF(SUM(M15:O15)-Q15<0,SUM(M15:O15)-Q15, ),1) -> #REF!
A16: 6 | B16: =IF('Mau A1'!#REF!="","",'Mau A1'!#REF!) -> #REF! | C16: =IF('Mau A1'!#REF!="","",'Mau A1'!#REF!) -> #REF! | D16: =SUM('Mau A1'!#REF!) -> #REF! | E16: =SUM('Mau A1'!#REF!) -> #REF! | F16: =SUM('Mau A1'!#REF!) -> #REF! | G16: =SUM('Mau A1'!#REF!) -> #REF! | H16: =SUM('Mau A1'!#REF!) -> #REF! | I16: =SUM('Mau A1'!#REF!) -> #REF! | J16: =SUM('Mau A1'!#REF!) -> #REF! | K16: =SUM('Mau A1'!#REF!) -> #REF! | ... Q16: =SUM('Mau A1'!#REF!) -> #REF! | R16: =ROUND(IF(AND(0<M16<200,0<(M16-Q16)<200,N16>=0,O16>=0),M16-Q16,IF(OR(AND(P16>0,P16>200),(P16-Q16)>200),"200",IF(OR(AND(N16<=0,O16=0,P16<200),AND(N16=0,O16<0,P16<200),AND(N16<0,O16<0,P16<200)),P16-Q16, ))),1) -> #REF! | S16: =ROUND(IF(AND(N16>0,O16>0,M16<=0,R16=0),P16-Q16,IF(AND(P16>0,R16=200),P16-Q16-R16, )),1) -> #REF! | T16: =ROUND(IF(SUM(M16:O16)-Q16<0,SUM(M16:O16)-Q16, ),1) -> #REF!
A17: 7 | B17: =IF('Mau A1'!#REF!="","",'Mau A1'!#REF!) -> #REF! | C17: =IF('Mau A1'!#REF!="","",'Mau A1'!#REF!) -> #REF! | D17: =SUM('Mau A1'!#REF!) -> #REF! | E17: =SUM('Mau A1'!#REF!) -> #REF! | F17: =SUM('Mau A1'!#REF!) -> #REF! | G17: =SUM('Mau A1'!#REF!) -> #REF! | H17: =SUM('Mau A1'!#REF!) -> #REF! | I17: =SUM('Mau A1'!#REF!) -> #REF! | J17: =SUM('Mau A1'!#REF!) -> #REF! | K17: =SUM('Mau A1'!#REF!) -> #REF! | ... Q17: =SUM('Mau A1'!#REF!) -> #REF! | R17: =ROUND(IF(AND(0<M17<200,0<(M17-Q17)<200,N17>=0,O17>=0),M17-Q17,IF(OR(AND(P17>0,P17>200),(P17-Q17)>200),"200",IF(OR(AND(N17<=0,O17=0,P17<200),AND(N17=0,O17<0,P17<200),AND(N17<0,O17<0,P17<200)),P17-Q17, ))),1) -> #REF! | S17: =ROUND(IF(AND(N17>0,O17>0,M17<=0,R17=0),P17-Q17,IF(AND(P17>0,R17=200),P17-Q17-R17, )),1) -> #REF! | T17: =ROUND(IF(SUM(M17:O17)-Q17<0,SUM(M17:O17)-Q17, ),1) -> #REF!
A18: 8 | B18: =IF('Mau A1'!#REF!="","",'Mau A1'!#REF!) -> #REF! | C18: =IF('Mau A1'!#REF!="","",'Mau A1'!#REF!) -> #REF! | D18: =SUM('Mau A1'!#REF!) -> #REF! | E18: =SUM('Mau A1'!#REF!) -> #REF! | F18: =SUM('Mau A1'!#REF!) -> #REF! | G18: =SUM('Mau A1'!#REF!) -> #REF! | H18: =SUM('Mau A1'!#REF!) -> #REF! | I18: =SUM('Mau A1'!#REF!) -> #REF! | J18: =SUM('Mau A1'!#REF!) -> #REF! | K18: =SUM('Mau A1'!#REF!) -> #REF! | ... Q18: =SUM('Mau A1'!#REF!) -> #REF! | R18: =ROUND(IF(AND(0<M18<200,0<(M18-Q18)<200,N18>=0,O18>=0),M18-Q18,IF(OR(AND(P18>0,P18>200),(P18-Q18)>200),"200",IF(OR(AND(N18<=0,O18=0,P18<200),AND(N18=0,O18<0,P18<200),AND(N18<0,O18<0,P18<200)),P18-Q18, ))),1) -> #REF! | S18: =ROUND(IF(AND(N18>0,O18>0,M18<=0,R18=0),P18-Q18,IF(AND(P18>0,R18=200),P18-Q18-R18, )),1) -> #REF! | T18: =ROUND(IF(SUM(M18:O18)-Q18<0,SUM(M18:O18)-Q18, ),1) -> #REF!
A19: 9 | B19: =IF('Mau A1'!#REF!="","",'Mau A1'!#REF!) -> #REF! | C19: =IF('Mau A1'!#REF!="","",'Mau A1'!#REF!) -> #REF! | D19: =SUM('Mau A1'!#REF!) -> #REF! | E19: =SUM('Mau A1'!#REF!) -> #REF! | F19: =SUM('Mau A1'!#REF!) -> #REF! | G19: =SUM('Mau A1'!#REF!) -> #REF! | H19: =SUM('Mau A1'!#REF!) -> #REF! | I19: =SUM('Mau A1'!#REF!) -> #REF! | J19: =SUM('Mau A1'!#REF!) -> #REF! | K19: =SUM('Mau A1'!#REF!) -> #REF! | ... Q19: =SUM('Mau A1'!#REF!) -> #REF! | R19: =ROUND(IF(AND(0<M19<200,0<(M19-Q19)<200,N19>=0,O19>=0),M19-Q19,IF(OR(AND(P19>0,P19>200),(P19-Q19)>200),"200",IF(OR(AND(N19<=0,O19=0,P19<200),AND(N19=0,O19<0,P19<200),AND(N19<0,O19<0,P19<200)),P19-Q19, ))),1) -> #REF! | S19: =ROUND(IF(AND(N19>0,O19>0,M19<=0,R19=0),P19-Q19,IF(AND(P19>0,R19=200),P19-Q19-R19, )),1) -> #REF! | T19: =ROUND(IF(SUM(M19:O19)-Q19<0,SUM(M19:O19)-Q19, ),1) -> #REF!
A20: 10 | B20: =IF('Mau A1'!#REF!="","",'Mau A1'!#REF!) -> #REF! | C20: Cường | D20: =SUM('Mau A1'!#REF!) -> #REF! | E20: =SUM('Mau A1'!#REF!) -> #REF! | F20: =SUM('Mau A1'!#REF!) -> #REF! | G20: =SUM('Mau A1'!#REF!) -> #REF! | H20: =SUM('Mau A1'!#REF!) -> #REF! | I20: =SUM('Mau A1'!#REF!) -> #REF! | J20: =SUM('Mau A1'!#REF!) -> #REF! | K20: =SUM('Mau A1'!#REF!) -> #REF! | ... Q20: =SUM('Mau A1'!#REF!) -> #REF! | R20: =ROUND(IF(AND(0<M20<200,0<(M20-Q20)<200,N20>=0,O20>=0),M20-Q20,IF(OR(AND(P20>0,P20>200),(P20-Q20)>200),"200",IF(OR(AND(N20<=0,O20=0,P20<200),AND(N20=0,O20<0,P20<200),AND(N20<0,O20<0,P20<200)),P20-Q20, ))),1) -> #REF! | S20: =ROUND(IF(AND(N20>0,O20>0,M20<=0,R20=0),P20-Q20,IF(AND(P20>0,R20=200),P20-Q20-R20, )),1) -> #REF! | T20: =ROUND(IF(SUM(M20:O20)-Q20<0,SUM(M20:O20)-Q20, ),1) -> #REF!
A21: 11 | B21: =IF('Mau A1'!#REF!="","",'Mau A1'!#REF!) -> #REF! | C21: Trang | D21: =SUM('Mau A1'!#REF!) -> #REF! | E21: =SUM('Mau A1'!#REF!) -> #REF! | F21: =SUM('Mau A1'!#REF!) -> #REF! | G21: =SUM('Mau A1'!#REF!) -> #REF! | H21: =SUM('Mau A1'!#REF!) -> #REF! | I21: =SUM('Mau A1'!#REF!) -> #REF! | J21: =SUM('Mau A1'!#REF!) -> #REF! | K21: =SUM('Mau A1'!#REF!) -> #REF! | ... Q21: =SUM('Mau A1'!#REF!) -> #REF! | R21: =ROUND(IF(AND(0<M21<200,0<(M21-Q21)<200,N21>=0,O21>=0),M21-Q21,IF(OR(AND(P21>0,P21>200),(P21-Q21)>200),"200",IF(OR(AND(N21<=0,O21=0,P21<200),AND(N21=0,O21<0,P21<200),AND(N21<0,O21<0,P21<200)),P21-Q21, ))),1) -> #REF! | S21: =ROUND(IF(AND(N21>0,O21>0,M21<=0,R21=0),P21-Q21,IF(AND(P21>0,R21=200),P21-Q21-R21, )),1) -> #REF! | T21: =ROUND(IF(SUM(M21:O21)-Q21<0,SUM(M21:O21)-Q21, ),1) -> #REF!
A22: 12 | B22: =IF('Mau A1'!#REF!="","",'Mau A1'!#REF!) -> #REF! | C22: Quyên | D22: =SUM('Mau A1'!#REF!) -> #REF! | E22: =SUM('Mau A1'!#REF!) -> #REF! | F22: =SUM('Mau A1'!#REF!) -> #REF! | G22: =SUM('Mau A1'!#REF!) -> #REF! | H22: =SUM('Mau A1'!#REF!) -> #REF! | I22: =SUM('Mau A1'!#REF!) -> #REF! | J22: =SUM('Mau A1'!#REF!) -> #REF! | K22: =SUM('Mau A1'!#REF!) -> #REF! | ... Q22: =SUM('Mau A1'!#REF!) -> #REF! | R22: =ROUND(IF(AND(0<M22<200,0<(M22-Q22)<200,N22>=0,O22>=0),M22-Q22,IF(OR(AND(P22>0,P22>200),(P22-Q22)>200),"200",IF(OR(AND(N22<=0,O22=0,P22<200),AND(N22=0,O22<0,P22<200),AND(N22<0,O22<0,P22<200)),P22-Q22, ))),1) -> #REF! | S22: =ROUND(IF(AND(N22>0,O22>0,M22<=0,R22=0),P22-Q22,IF(AND(P22>0,R22=200),P22-Q22-R22, )),1) -> #REF! | T22: =ROUND(IF(SUM(M22:O22)-Q22<0,SUM(M22:O22)-Q22, ),1) -> #REF!
A23: 13 | B23: =IF('Mau A1'!#REF!="","",'Mau A1'!#REF!) -> #REF! | C23: =IF('Mau A1'!#REF!="","",'Mau A1'!#REF!) -> #REF! | D23: =SUM('Mau A1'!#REF!) -> #REF! | E23: =SUM('Mau A1'!#REF!) -> #REF! | F23: =SUM('Mau A1'!#REF!) -> #REF! | G23: =SUM('Mau A1'!#REF!) -> #REF! | H23: =SUM('Mau A1'!#REF!) -> #REF! | I23: =SUM('Mau A1'!#REF!) -> #REF! | J23: =SUM('Mau A1'!#REF!) -> #REF! | K23: =SUM('Mau A1'!#REF!) -> #REF! | ... Q23: =SUM('Mau A1'!#REF!) -> #REF! | R23: =ROUND(IF(AND(0<M23<200,0<(M23-Q23)<200,N23>=0,O23>=0),M23-Q23,IF(OR(AND(P23>0,P23>200),(P23-Q23)>200),"200",IF(OR(AND(N23<=0,O23=0,P23<200),AND(N23=0,O23<0,P23<200),AND(N23<0,O23<0,P23<200)),P23-Q23, ))),1) -> #REF! | S23: =ROUND(IF(AND(N23>0,O23>0,M23<=0,R23=0),P23-Q23,IF(AND(P23>0,R23=200),P23-Q23-R23, )),1) -> #REF! | T23: =ROUND(IF(SUM(M23:O23)-Q23<0,SUM(M23:O23)-Q23, ),1) -> #REF!
A24: 14 | B24: =IF('Mau A1'!#REF!="","",'Mau A1'!#REF!) -> #REF! | C24: =IF('Mau A1'!#REF!="","",'Mau A1'!#REF!) -> #REF! | D24: =SUM('Mau A1'!M11:M14) -> 0 | E24: =SUM('Mau A1'!N11:N14) -> 0 | F24: =SUM('Mau A1'!O11:O14) -> 0 | G24: =SUM('Mau A1'!P11:P14) -> 0 | H24: =SUM('Mau A1'!Q11:Q14) -> 0 | I24: =SUM('Mau A1'!R11:R14) -> 0 | J24: =SUM('Mau A1'!T11:T14) -> 0 | K24: =SUM('Mau A1'!V11:V14) -> 0 | L24: =SUM('Mau A1'!X11:X14) -> 0 | M24: =SUM('Mau A1'!Y11:Y14) -> 0 | N24: =SUM('Mau A1'!Z11:Z14) -> 0 | O24: =SUM('Mau A1'!AA11:AA14) -> 0 | P24: =SUM('Mau A1'!AC11:AC14) -> 0 | Q24: =SUM('Mau A1'!AB11:AB14) -> 0 | R24: =ROUND(IF(AND(0<M24<200,0<(M24-Q24)<200,N24>=0,O24>=0),M24-Q24,IF(OR(AND(P24>0,P24>200),(P24-Q24)>200),"200",IF(OR(AND(N24<=0,O24=0,P24<200),AND(N24=0,O24<0,P24<200),AND(N24<0,O24<0,P24<200)),P24-Q24, ))),1) -> 0 | S24: =ROUND(IF(AND(N24>0,O24>0,M24<=0,R24=0),P24-Q24,IF(AND(P24>0,R24=200),P24-Q24-R24, )),1) -> 0 | T24: =ROUND(IF(SUM(M24:O24)-Q24<0,SUM(M24:O24)-Q24, ),1) -> 0
A25: 15 | B25: =IF('Mau A1'!B15="","",'Mau A1'!B15) -> Trần Vĩnh | C25: =IF('Mau A1'!C15="","",'Mau A1'!C15) -> Xuyên | D25: =SUM('Mau A1'!M15:M34) -> 1045 | E25: =SUM('Mau A1'!N15:N34) -> 67.5 | F25: =SUM('Mau A1'!O15:O34) -> 0 | G25: =SUM('Mau A1'!P15:P34) -> 1112.5 | H25: =SUM('Mau A1'!Q15:Q34) -> 0 | I25: =SUM('Mau A1'!R15:R34) -> 52 | J25: =SUM('Mau A1'!T15:T34) -> 450 | K25: =SUM('Mau A1'!V15:V34) -> 112 | L25: =SUM('Mau A1'!X15:X34) -> 56 | M25: =SUM('Mau A1'!Y15:Y34) -> 662.5 | N25: =SUM('Mau A1'!Z15:Z34) -> -112 | O25: =SUM('Mau A1'!AA15:AA34) -> -4 | P25: =SUM('Mau A1'!AC15:AC34) -> 546.5 | Q25: =SUM('Mau A1'!AB15:AB34) -> 0 | R25: =ROUND(IF(AND(0<M25<200,0<(M25-Q25)<200,N25>=0,O25>=0),M25-Q25,IF(OR(AND(P25>0,P25>200),(P25-Q25)>200),"200",IF(OR(AND(N25<=0,O25=0,P25<200),AND(N25=0,O25<0,P25<200),AND(N25<0,O25<0,P25<200)),P25-Q25, ))),1) -> 200 | S25: =ROUND(IF(AND(N25>0,O25>0,M25<=0,R25=0),P25-Q25,IF(AND(P25>0,R25=200),P25-Q25-R25, )),1) -> 346.5 | T25: =ROUND(IF(SUM(M25:O25)-Q25<0,SUM(M25:O25)-Q25, ),1) -> 0
A26: 16 | B26: =IF('Mau A1'!B35="","",'Mau A1'!B35) -> Nguyễn Cao | C26: =IF('Mau A1'!C35="","",'Mau A1'!C35) -> Phong | D26: =SUM('Mau A1'!M35:M57) -> 1097.5 | E26: =SUM('Mau A1'!N35:N57) -> 89.5 | F26: =SUM('Mau A1'!O35:O57) -> 0 | G26: =SUM('Mau A1'!P35:P57) -> 1187 | H26: =SUM('Mau A1'!Q35:Q57) -> 0 | I26: =SUM('Mau A1'!R35:R57) -> 35 | J26: =SUM('Mau A1'!T35:T57) -> 450 | K26: =SUM('Mau A1'!V35:V57) -> 112 | L26: =SUM('Mau A1'!X35:X57) -> 56 | M26: =SUM('Mau A1'!Y35:Y57) -> 737 | N26: =SUM('Mau A1'!Z35:Z57) -> -112 | O26: =SUM('Mau A1'!AA35:AA57) -> -21 | P26: =SUM('Mau A1'!AC35:AC57) -> 604 | Q26: =SUM('Mau A1'!AB35:AB57) -> 0 | R26: =ROUND(IF(AND(0<M26<200,0<(M26-Q26)<200,N26>=0,O26>=0),M26-Q26,IF(OR(AND(P26>0,P26>200),(P26-Q26)>200),"200",IF(OR(AND(N26<=0,O26=0,P26<200),AND(N26=0,O26<0,P26<200),AND(N26<0,O26<0,P26<200)),P26-Q26, ))),1) -> 200 | S26: =ROUND(IF(AND(N26>0,O26>0,M26<=0,R26=0),P26-Q26,IF(AND(P26>0,R26=200),P26-Q26-R26, )),1) -> 404 | T26: =ROUND(IF(SUM(M26:O26)-Q26<0,SUM(M26:O26)-Q26, ),1) -> 0
A27: 17 | B27: =IF('Mau A1'!#REF!="","",'Mau A1'!#REF!) -> #REF! | C27: =IF('Mau A1'!#REF!="","",'Mau A1'!#REF!) -> #REF! | D27: =SUM('Mau A1'!#REF!) -> #REF! | E27: =SUM('Mau A1'!#REF!) -> #REF! | F27: =SUM('Mau A1'!#REF!) -> #REF! | G27: =SUM('Mau A1'!#REF!) -> #REF! | H27: =SUM('Mau A1'!#REF!) -> #REF! | I27: =SUM('Mau A1'!#REF!) -> #REF! | J27: =SUM('Mau A1'!#REF!) -> #REF! | K27: =SUM('Mau A1'!#REF!) -> #REF! | ... Q27: =SUM('Mau A1'!#REF!) -> #REF! | R27: =ROUND(IF(AND(0<M27<200,0<(M27-Q27)<200,N27>=0,O27>=0),M27-Q27,IF(OR(AND(P27>0,P27>200),(P27-Q27)>200),"200",IF(OR(AND(N27<=0,O27=0,P27<200),AND(N27=0,O27<0,P27<200),AND(N27<0,O27<0,P27<200)),P27-Q27, ))),1) -> #REF! | S27: =ROUND(IF(AND(N27>0,O27>0,M27<=0,R27=0),P27-Q27,IF(AND(P27>0,R27=200),P27-Q27-R27, )),1) -> #REF! | T27: =ROUND(IF(SUM(M27:O27)-Q27<0,SUM(M27:O27)-Q27, ),1) -> #REF!
A28: 18 | B28: =IF('Mau A1'!#REF!="","",'Mau A1'!#REF!) -> #REF! | C28: =IF('Mau A1'!#REF!="","",'Mau A1'!#REF!) -> #REF! | D28: =SUM('Mau A1'!#REF!) -> #REF! | E28: =SUM('Mau A1'!#REF!) -> #REF! | F28: =SUM('Mau A1'!#REF!) -> #REF! | G28: =SUM('Mau A1'!#REF!) -> #REF! | H28: =SUM('Mau A1'!#REF!) -> #REF! | I28: =SUM('Mau A1'!#REF!) -> #REF! | J28: =SUM('Mau A1'!#REF!) -> #REF! | K28: =SUM('Mau A1'!#REF!) -> #REF! | ... Q28: =SUM('Mau A1'!#REF!) -> #REF! | R28: =ROUND(IF(AND(0<M28<200,0<(M28-Q28)<200,N28>=0,O28>=0),M28-Q28,IF(OR(AND(P28>0,P28>200),(P28-Q28)>200),"200",IF(OR(AND(N28<=0,O28=0,P28<200),AND(N28=0,O28<0,P28<200),AND(N28<0,O28<0,P28<200)),P28-Q28, ))),1) -> #REF! | S28: =ROUND(IF(AND(N28>0,O28>0,M28<=0,R28=0),P28-Q28,IF(AND(P28>0,R28=200),P28-Q28-R28, )),1) -> #REF! | T28: =ROUND(IF(SUM(M28:O28)-Q28<0,SUM(M28:O28)-Q28, ),1) -> #REF!
A29: 19 | B29: =IF('Mau A1'!#REF!="","",'Mau A1'!#REF!) -> #REF! | C29: =IF('Mau A1'!#REF!="","",'Mau A1'!#REF!) -> #REF! | D29: =SUM('Mau A1'!#REF!) -> #REF! | E29: =SUM('Mau A1'!#REF!) -> #REF! | F29: =SUM('Mau A1'!#REF!) -> #REF! | G29: =SUM('Mau A1'!#REF!) -> #REF! | H29: =SUM('Mau A1'!#REF!) -> #REF! | I29: =SUM('Mau A1'!#REF!) -> #REF! | J29: =SUM('Mau A1'!#REF!) -> #REF! | K29: =SUM('Mau A1'!#REF!) -> #REF! | ... Q29: =SUM('Mau A1'!#REF!) -> #REF! | R29: =ROUND(IF(AND(0<M29<200,0<(M29-Q29)<200,N29>=0,O29>=0),M29-Q29,IF(OR(AND(P29>0,P29>200),(P29-Q29)>200),"200",IF(OR(AND(N29<=0,O29=0,P29<200),AND(N29=0,O29<0,P29<200),AND(N29<0,O29<0,P29<200)),P29-Q29, ))),1) -> #REF! | S29: =ROUND(IF(AND(N29>0,O29>0,M29<=0,R29=0),P29-Q29,IF(AND(P29>0,R29=200),P29-Q29-R29, )),1) -> #REF! | T29: =ROUND(IF(SUM(M29:O29)-Q29<0,SUM(M29:O29)-Q29, ),1) -> #REF!
A30: 20 | B30: =IF('Mau A1'!#REF!="","",'Mau A1'!#REF!) -> #REF! | C30: =IF('Mau A1'!#REF!="","",'Mau A1'!#REF!) -> #REF! | D30: =SUM('Mau A1'!#REF!) -> #REF! | E30: =SUM('Mau A1'!#REF!) -> #REF! | F30: =SUM('Mau A1'!#REF!) -> #REF! | G30: =SUM('Mau A1'!#REF!) -> #REF! | H30: =SUM('Mau A1'!#REF!) -> #REF! | I30: =SUM('Mau A1'!#REF!) -> #REF! | J30: =SUM('Mau A1'!#REF!) -> #REF! | K30: =SUM('Mau A1'!#REF!) -> #REF! | ... Q30: =SUM('Mau A1'!#REF!) -> #REF! | R30: =ROUND(IF(AND(0<M30<200,0<(M30-Q30)<200,N30>=0,O30>=0),M30-Q30,IF(OR(AND(P30>0,P30>200),(P30-Q30)>200),"200",IF(OR(AND(N30<=0,O30=0,P30<200),AND(N30=0,O30<0,P30<200),AND(N30<0,O30<0,P30<200)),P30-Q30, ))),1) -> #REF! | S30: =ROUND(IF(AND(N30>0,O30>0,M30<=0,R30=0),P30-Q30,IF(AND(P30>0,R30=200),P30-Q30-R30, )),1) -> #REF! | T30: =ROUND(IF(SUM(M30:O30)-Q30<0,SUM(M30:O30)-Q30, ),1) -> #REF!
A31: 21 | B31: =IF('Mau A1'!#REF!="","",'Mau A1'!#REF!) -> #REF! | C31: =IF('Mau A1'!#REF!="","",'Mau A1'!#REF!) -> #REF! | D31: =SUM('Mau A1'!#REF!) -> #REF! | E31: =SUM('Mau A1'!#REF!) -> #REF! | F31: =SUM('Mau A1'!#REF!) -> #REF! | G31: =SUM('Mau A1'!#REF!) -> #REF! | H31: =SUM('Mau A1'!#REF!) -> #REF! | I31: =SUM('Mau A1'!#REF!) -> #REF! | J31: =SUM('Mau A1'!#REF!) -> #REF! | K31: =SUM('Mau A1'!#REF!) -> #REF! | ... Q31: =SUM('Mau A1'!#REF!) -> #REF! | R31: =ROUND(IF(AND(0<M31<200,0<(M31-Q31)<200,N31>=0,O31>=0),M31-Q31,IF(OR(AND(P31>0,P31>200),(P31-Q31)>200),"200",IF(OR(AND(N31<=0,O31=0,P31<200),AND(N31=0,O31<0,P31<200),AND(N31<0,O31<0,P31<200)),P31-Q31, ))),1) -> #REF! | S31: =ROUND(IF(AND(N31>0,O31>0,M31<=0,R31=0),P31-Q31,IF(AND(P31>0,R31=200),P31-Q31-R31, )),1) -> #REF! | T31: =ROUND(IF(SUM(M31:O31)-Q31<0,SUM(M31:O31)-Q31, ),1) -> #REF!
A32: 22 | B32: =IF('Mau A1'!#REF!="","",'Mau A1'!#REF!) -> #REF! | C32: =IF('Mau A1'!#REF!="","",'Mau A1'!#REF!) -> #REF! | D32: =SUM('Mau A1'!#REF!) -> #REF! | E32: =SUM('Mau A1'!#REF!) -> #REF! | F32: =SUM('Mau A1'!#REF!) -> #REF! | G32: =SUM('Mau A1'!#REF!) -> #REF! | H32: =SUM('Mau A1'!#REF!) -> #REF! | I32: =SUM('Mau A1'!#REF!) -> #REF! | J32: =SUM('Mau A1'!#REF!) -> #REF! | K32: =SUM('Mau A1'!#REF!) -> #REF! | ... Q32: =SUM('Mau A1'!#REF!) -> #REF! | R32: =ROUND(IF(AND(0<M32<200,0<(M32-Q32)<200,N32>=0,O32>=0),M32-Q32,IF(OR(AND(P32>0,P32>200),(P32-Q32)>200),"200",IF(OR(AND(N32<=0,O32=0,P32<200),AND(N32=0,O32<0,P32<200),AND(N32<0,O32<0,P32<200)),P32-Q32, ))),1) -> #REF! | S32: =ROUND(IF(AND(N32>0,O32>0,M32<=0,R32=0),P32-Q32,IF(AND(P32>0,R32=200),P32-Q32-R32, )),1) -> #REF! | T32: =ROUND(IF(SUM(M32:O32)-Q32<0,SUM(M32:O32)-Q32, ),1) -> #REF!
A33: 23 | B33: =IF('Mau A1'!#REF!="","",'Mau A1'!#REF!) -> #REF! | C33: =IF('Mau A1'!#REF!="","",'Mau A1'!#REF!) -> #REF! | D33: =SUM('Mau A1'!#REF!) -> #REF! | E33: =SUM('Mau A1'!#REF!) -> #REF! | F33: =SUM('Mau A1'!#REF!) -> #REF! | G33: =SUM('Mau A1'!#REF!) -> #REF! | H33: =SUM('Mau A1'!#REF!) -> #REF! | I33: =SUM('Mau A1'!#REF!) -> #REF! | J33: =SUM('Mau A1'!#REF!) -> #REF! | K33: =SUM('Mau A1'!#REF!) -> #REF! | ... Q33: =SUM('Mau A1'!#REF!) -> #REF! | R33: =ROUND(IF(AND(0<M33<200,0<(M33-Q33)<200,N33>=0,O33>=0),M33-Q33,IF(OR(AND(P33>0,P33>200),(P33-Q33)>200),"200",IF(OR(AND(N33<=0,O33=0,P33<200),AND(N33=0,O33<0,P33<200),AND(N33<0,O33<0,P33<200)),P33-Q33, ))),1) -> #REF! | S33: =ROUND(IF(AND(N33>0,O33>0,M33<=0,R33=0),P33-Q33,IF(AND(P33>0,R33=200),P33-Q33-R33, )),1) -> #REF! | T33: =ROUND(IF(SUM(M33:O33)-Q33<0,SUM(M33:O33)-Q33, ),1) -> #REF!
A34: 24 | B34: =IF('Mau A1'!#REF!="","",'Mau A1'!#REF!) -> #REF! | C34: =IF('Mau A1'!#REF!="","",'Mau A1'!#REF!) -> #REF! | D34: =SUM('Mau A1'!#REF!) -> #REF! | E34: =SUM('Mau A1'!#REF!) -> #REF! | F34: =SUM('Mau A1'!#REF!) -> #REF! | G34: =SUM('Mau A1'!#REF!) -> #REF! | H34: =SUM('Mau A1'!#REF!) -> #REF! | I34: =SUM('Mau A1'!#REF!) -> #REF! | J34: =SUM('Mau A1'!#REF!) -> #REF! | K34: =SUM('Mau A1'!#REF!) -> #REF! | ... Q34: =SUM('Mau A1'!#REF!) -> #REF! | R34: =ROUND(IF(AND(0<M34<200,0<(M34-Q34)<200,N34>=0,O34>=0),M34-Q34,IF(OR(AND(P34>0,P34>200),(P34-Q34)>200),"200",IF(OR(AND(N34<=0,O34=0,P34<200),AND(N34=0,O34<0,P34<200),AND(N34<0,O34<0,P34<200)),P34-Q34, ))),1) -> #REF! | S34: =ROUND(IF(AND(N34>0,O34>0,M34<=0,R34=0),P34-Q34,IF(AND(P34>0,R34=200),P34-Q34-R34, )),1) -> #REF! | T34: =ROUND(IF(SUM(M34:O34)-Q34<0,SUM(M34:O34)-Q34, ),1) -> #REF!
A35: 25 | B35: =IF('Mau A1'!#REF!="","",'Mau A1'!#REF!) -> #REF! | C35: =IF('Mau A1'!#REF!="","",'Mau A1'!#REF!) -> #REF! | D35: =SUM('Mau A1'!#REF!) -> #REF! | E35: =SUM('Mau A1'!#REF!) -> #REF! | F35: =SUM('Mau A1'!#REF!) -> #REF! | G35: =SUM('Mau A1'!#REF!) -> #REF! | H35: =SUM('Mau A1'!#REF!) -> #REF! | I35: =SUM('Mau A1'!#REF!) -> #REF! | J35: =SUM('Mau A1'!#REF!) -> #REF! | K35: =SUM('Mau A1'!#REF!) -> #REF! | ... Q35: =SUM('Mau A1'!#REF!) -> #REF! | R35: =ROUND(IF(AND(0<M35<200,0<(M35-Q35)<200,N35>=0,O35>=0),M35-Q35,IF(OR(AND(P35>0,P35>200),(P35-Q35)>200),"200",IF(OR(AND(N35<=0,O35=0,P35<200),AND(N35=0,O35<0,P35<200),AND(N35<0,O35<0,P35<200)),P35-Q35, ))),1) -> #REF! | S35: =ROUND(IF(AND(N35>0,O35>0,M35<=0,R35=0),P35-Q35,IF(AND(P35>0,R35=200),P35-Q35-R35, )),1) -> #REF! | T35: =ROUND(IF(SUM(M35:O35)-Q35<0,SUM(M35:O35)-Q35, ),1) -> #REF!
A36: 26 | B36: =IF('Mau A1'!#REF!="","",'Mau A1'!#REF!) -> #REF! | C36: =IF('Mau A1'!#REF!="","",'Mau A1'!#REF!) -> #REF! | D36: =SUM('Mau A1'!#REF!) -> #REF! | E36: =SUM('Mau A1'!#REF!) -> #REF! | F36: =SUM('Mau A1'!#REF!) -> #REF! | G36: =SUM('Mau A1'!#REF!) -> #REF! | H36: =SUM('Mau A1'!#REF!) -> #REF! | I36: =SUM('Mau A1'!#REF!) -> #REF! | J36: =SUM('Mau A1'!#REF!) -> #REF! | K36: =SUM('Mau A1'!#REF!) -> #REF! | ... Q36: =SUM('Mau A1'!#REF!) -> #REF! | R36: =ROUND(IF(AND(0<M36<200,0<(M36-Q36)<200,N36>=0,O36>=0),M36-Q36,IF(OR(AND(P36>0,P36>200),(P36-Q36)>200),"200",IF(OR(AND(N36<=0,O36=0,P36<200),AND(N36=0,O36<0,P36<200),AND(N36<0,O36<0,P36<200)),P36-Q36, ))),1) -> #REF! | S36: =ROUND(IF(AND(N36>0,O36>0,M36<=0,R36=0),P36-Q36,IF(AND(P36>0,R36=200),P36-Q36-R36, )),1) -> #REF! | T36: =ROUND(IF(SUM(M36:O36)-Q36<0,SUM(M36:O36)-Q36, ),1) -> #REF!
A37: 27 | B37: =IF('Mau A1'!#REF!="","",'Mau A1'!#REF!) -> #REF! | C37: =IF('Mau A1'!#REF!="","",'Mau A1'!#REF!) -> #REF! | D37: =SUM('Mau A1'!#REF!) -> #REF! | E37: =SUM('Mau A1'!#REF!) -> #REF! | F37: =SUM('Mau A1'!#REF!) -> #REF! | G37: =SUM('Mau A1'!#REF!) -> #REF! | H37: =SUM('Mau A1'!#REF!) -> #REF! | I37: =SUM('Mau A1'!#REF!) -> #REF! | J37: =SUM('Mau A1'!#REF!) -> #REF! | K37: =SUM('Mau A1'!#REF!) -> #REF! | ... Q37: =SUM('Mau A1'!#REF!) -> #REF! | R37: =ROUND(IF(AND(0<M37<200,0<(M37-Q37)<200,N37>=0,O37>=0),M37-Q37,IF(OR(AND(P37>0,P37>200),(P37-Q37)>200),"200",IF(OR(AND(N37<=0,O37=0,P37<200),AND(N37=0,O37<0,P37<200),AND(N37<0,O37<0,P37<200)),P37-Q37, ))),1) -> #REF! | S37: =ROUND(IF(AND(N37>0,O37>0,M37<=0,R37=0),P37-Q37,IF(AND(P37>0,R37=200),P37-Q37-R37, )),1) -> #REF! | T37: =ROUND(IF(SUM(M37:O37)-Q37<0,SUM(M37:O37)-Q37, ),1) -> #REF!
A38: 28 | B38: =IF('Mau A1'!#REF!="","",'Mau A1'!#REF!) -> #REF! | C38: =IF('Mau A1'!#REF!="","",'Mau A1'!#REF!) -> #REF! | D38: =SUM('Mau A1'!#REF!) -> #REF! | E38: =SUM('Mau A1'!#REF!) -> #REF! | F38: =SUM('Mau A1'!#REF!) -> #REF! | G38: =SUM('Mau A1'!#REF!) -> #REF! | H38: =SUM('Mau A1'!#REF!) -> #REF! | I38: =SUM('Mau A1'!#REF!) -> #REF! | J38: =SUM('Mau A1'!#REF!) -> #REF! | K38: =SUM('Mau A1'!#REF!) -> #REF! | ... Q38: =SUM('Mau A1'!#REF!) -> #REF! | R38: =ROUND(IF(AND(0<M38<200,0<(M38-Q38)<200,N38>=0,O38>=0),M38-Q38,IF(OR(AND(P38>0,P38>200),(P38-Q38)>200),"200",IF(OR(AND(N38<=0,O38=0,P38<200),AND(N38=0,O38<0,P38<200),AND(N38<0,O38<0,P38<200)),P38-Q38, ))),1) -> #REF! | S38: =ROUND(IF(AND(N38>0,O38>0,M38<=0,R38=0),P38-Q38,IF(AND(P38>0,R38=200),P38-Q38-R38, )),1) -> #REF! | T38: =ROUND(IF(SUM(M38:O38)-Q38<0,SUM(M38:O38)-Q38, ),1) -> #REF!
A39: 29 | B39: =IF('Mau A1'!#REF!="","",'Mau A1'!#REF!) -> #REF! | C39: =IF('Mau A1'!#REF!="","",'Mau A1'!#REF!) -> #REF! | D39: =SUM('Mau A1'!#REF!) -> #REF! | E39: =SUM('Mau A1'!#REF!) -> #REF! | F39: =SUM('Mau A1'!#REF!) -> #REF! | G39: =SUM('Mau A1'!#REF!) -> #REF! | H39: =SUM('Mau A1'!#REF!) -> #REF! | I39: =SUM('Mau A1'!#REF!) -> #REF! | J39: =SUM('Mau A1'!#REF!) -> #REF! | K39: =SUM('Mau A1'!#REF!) -> #REF! | ... Q39: =SUM('Mau A1'!#REF!) -> #REF! | R39: =ROUND(IF(AND(0<M39<200,0<(M39-Q39)<200,N39>=0,O39>=0),M39-Q39,IF(OR(AND(P39>0,P39>200),(P39-Q39)>200),"200",IF(OR(AND(N39<=0,O39=0,P39<200),AND(N39=0,O39<0,P39<200),AND(N39<0,O39<0,P39<200)),P39-Q39, ))),1) -> #REF! | S39: =ROUND(IF(AND(N39>0,O39>0,M39<=0,R39=0),P39-Q39,IF(AND(P39>0,R39=200),P39-Q39-R39, )),1) -> #REF! | T39: =ROUND(IF(SUM(M39:O39)-Q39<0,SUM(M39:O39)-Q39, ),1) -> #REF!
A40: 30 | B40: =IF('Mau A1'!#REF!="","",'Mau A1'!#REF!) -> #REF! | C40: =IF('Mau A1'!#REF!="","",'Mau A1'!#REF!) -> #REF! | D40: =SUM('Mau A1'!M58:M60) -> 0 | E40: =SUM('Mau A1'!N58:N60) -> 0 | F40: =SUM('Mau A1'!O58:O60) -> 0 | G40: =SUM('Mau A1'!P58:P60) -> 0 | H40: =SUM('Mau A1'!Q58:Q60) -> 0 | I40: =SUM('Mau A1'!R58:R60) -> 0 | J40: =SUM('Mau A1'!T58:T60) -> 0 | K40: =SUM('Mau A1'!V58:V60) -> 0 | L40: =SUM('Mau A1'!X58:X60) -> 0 | M40: =SUM('Mau A1'!Y58:Y60) -> 0 | N40: =SUM('Mau A1'!Z58:Z60) -> 0 | O40: =SUM('Mau A1'!AA58:AA60) -> 0 | P40: =SUM('Mau A1'!AC58:AC60) -> 0 | Q40: =SUM('Mau A1'!AB58:AB60) -> 0 | R40: =ROUND(IF(AND(0<M40<200,0<(M40-Q40)<200,N40>=0,O40>=0),M40-Q40,IF(OR(AND(P40>0,P40>200),(P40-Q40)>200),"200",IF(OR(AND(N40<=0,O40=0,P40<200),AND(N40=0,O40<0,P40<200),AND(N40<0,O40<0,P40<200)),P40-Q40, ))),1) -> 0 | S40: =ROUND(IF(AND(N40>0,O40>0,M40<=0,R40=0),P40-Q40,IF(AND(P40>0,R40=200),P40-Q40-R40, )),1) -> 0 | T40: =ROUND(IF(SUM(M40:O40)-Q40<0,SUM(M40:O40)-Q40, ),1) -> 0
A41: 31 | B41: =IF('Mau A1'!#REF!="","",'Mau A1'!#REF!) -> #REF! | C41: =IF('Mau A1'!#REF!="","",'Mau A1'!#REF!) -> #REF! | D41: =SUM('Mau A1'!#REF!) -> #REF! | E41: =SUM('Mau A1'!#REF!) -> #REF! | F41: =SUM('Mau A1'!#REF!) -> #REF! | G41: =SUM('Mau A1'!#REF!) -> #REF! | H41: =SUM('Mau A1'!#REF!) -> #REF! | I41: =SUM('Mau A1'!#REF!) -> #REF! | J41: =SUM('Mau A1'!#REF!) -> #REF! | K41: =SUM('Mau A1'!#REF!) -> #REF! | ... Q41: =SUM('Mau A1'!#REF!) -> #REF! | R41: =ROUND(IF(AND(0<M41<200,0<(M41-Q41)<200,N41>=0,O41>=0),M41-Q41,IF(OR(AND(P41>0,P41>200),(P41-Q41)>200),"200",IF(OR(AND(N41<=0,O41=0,P41<200),AND(N41=0,O41<0,P41<200),AND(N41<0,O41<0,P41<200)),P41-Q41, ))),1) -> #REF! | S41: =ROUND(IF(AND(N41>0,O41>0,M41<=0,R41=0),P41-Q41,IF(AND(P41>0,R41=200),P41-Q41-R41, )),1) -> #REF! | T41: =ROUND(IF(SUM(M41:O41)-Q41<0,SUM(M41:O41)-Q41, ),1) -> #REF!
A42: 32 | B42: =IF('Mau A1'!#REF!="","",'Mau A1'!#REF!) -> #REF! | C42: =IF('Mau A1'!#REF!="","",'Mau A1'!#REF!) -> #REF! | D42: =SUM('Mau A1'!#REF!) -> #REF! | E42: =SUM('Mau A1'!#REF!) -> #REF! | F42: =SUM('Mau A1'!#REF!) -> #REF! | G42: =SUM('Mau A1'!#REF!) -> #REF! | H42: =SUM('Mau A1'!#REF!) -> #REF! | I42: =SUM('Mau A1'!#REF!) -> #REF! | J42: =SUM('Mau A1'!#REF!) -> #REF! | K42: =SUM('Mau A1'!#REF!) -> #REF! | ... Q42: =SUM('Mau A1'!#REF!) -> #REF! | R42: =ROUND(IF(AND(0<M42<200,0<(M42-Q42)<200,N42>=0,O42>=0),M42-Q42,IF(OR(AND(P42>0,P42>200),(P42-Q42)>200),"200",IF(OR(AND(N42<=0,O42=0,P42<200),AND(N42=0,O42<0,P42<200),AND(N42<0,O42<0,P42<200)),P42-Q42, ))),1) -> #REF! | S42: =ROUND(IF(AND(N42>0,O42>0,M42<=0,R42=0),P42-Q42,IF(AND(P42>0,R42=200),P42-Q42-R42, )),1) -> #REF! | T42: =ROUND(IF(SUM(M42:O42)-Q42<0,SUM(M42:O42)-Q42, ),1) -> #REF!
A43: 33 | B43: =IF('Mau A1'!#REF!="","",'Mau A1'!#REF!) -> #REF! | C43: =IF('Mau A1'!#REF!="","",'Mau A1'!#REF!) -> #REF! | D43: =SUM('Mau A1'!#REF!) -> #REF! | E43: =SUM('Mau A1'!#REF!) -> #REF! | F43: =SUM('Mau A1'!#REF!) -> #REF! | G43: =SUM('Mau A1'!#REF!) -> #REF! | H43: =SUM('Mau A1'!#REF!) -> #REF! | I43: =SUM('Mau A1'!#REF!) -> #REF! | J43: =SUM('Mau A1'!#REF!) -> #REF! | K43: =SUM('Mau A1'!#REF!) -> #REF! | ... Q43: =SUM('Mau A1'!#REF!) -> #REF! | R43: =ROUND(IF(AND(0<M43<200,0<(M43-Q43)<200,N43>=0,O43>=0),M43-Q43,IF(OR(AND(P43>0,P43>200),(P43-Q43)>200),"200",IF(OR(AND(N43<=0,O43=0,P43<200),AND(N43=0,O43<0,P43<200),AND(N43<0,O43<0,P43<200)),P43-Q43, ))),1) -> #REF! | S43: =ROUND(IF(AND(N43>0,O43>0,M43<=0,R43=0),P43-Q43,IF(AND(P43>0,R43=200),P43-Q43-R43, )),1) -> #REF! | T43: =ROUND(IF(SUM(M43:O43)-Q43<0,SUM(M43:O43)-Q43, ),1) -> #REF!
A44: 34 | B44: =IF('Mau A1'!#REF!="","",'Mau A1'!#REF!) -> #REF! | C44: =IF('Mau A1'!#REF!="","",'Mau A1'!#REF!) -> #REF! | D44: =SUM('Mau A1'!#REF!) -> #REF! | E44: =SUM('Mau A1'!#REF!) -> #REF! | F44: =SUM('Mau A1'!#REF!) -> #REF! | G44: =SUM('Mau A1'!#REF!) -> #REF! | H44: =SUM('Mau A1'!#REF!) -> #REF! | I44: =SUM('Mau A1'!#REF!) -> #REF! | J44: =SUM('Mau A1'!#REF!) -> #REF! | K44: =SUM('Mau A1'!#REF!) -> #REF! | ... Q44: =SUM('Mau A1'!#REF!) -> #REF! | R44: =ROUND(IF(AND(0<M44<200,0<(M44-Q44)<200,N44>=0,O44>=0),M44-Q44,IF(OR(AND(P44>0,P44>200),(P44-Q44)>200),"200",IF(OR(AND(N44<=0,O44=0,P44<200),AND(N44=0,O44<0,P44<200),AND(N44<0,O44<0,P44<200)),P44-Q44, ))),1) -> #REF! | S44: =ROUND(IF(AND(N44>0,O44>0,M44<=0,R44=0),P44-Q44,IF(AND(P44>0,R44=200),P44-Q44-R44, )),1) -> #REF! | T44: =ROUND(IF(SUM(M44:O44)-Q44<0,SUM(M44:O44)-Q44, ),1) -> #REF!
A45: 35 | B45: =IF('Mau A1'!#REF!="","",'Mau A1'!#REF!) -> #REF! | C45: =IF('Mau A1'!#REF!="","",'Mau A1'!#REF!) -> #REF! | D45: =SUM('Mau A1'!#REF!) -> #REF! | E45: =SUM('Mau A1'!#REF!) -> #REF! | F45: =SUM('Mau A1'!#REF!) -> #REF! | G45: =SUM('Mau A1'!#REF!) -> #REF! | H45: =SUM('Mau A1'!#REF!) -> #REF! | I45: =SUM('Mau A1'!#REF!) -> #REF! | J45: =SUM('Mau A1'!#REF!) -> #REF! | K45: =SUM('Mau A1'!#REF!) -> #REF! | ... Q45: =SUM('Mau A1'!#REF!) -> #REF! | R45: =ROUND(IF(AND(0<M45<200,0<(M45-Q45)<200,N45>=0,O45>=0),M45-Q45,IF(OR(AND(P45>0,P45>200),(P45-Q45)>200),"200",IF(OR(AND(N45<=0,O45=0,P45<200),AND(N45=0,O45<0,P45<200),AND(N45<0,O45<0,P45<200)),P45-Q45, ))),1) -> #REF! | S45: =ROUND(IF(AND(N45>0,O45>0,M45<=0,R45=0),P45-Q45,IF(AND(P45>0,R45=200),P45-Q45-R45, )),1) -> #REF! | T45: =ROUND(IF(SUM(M45:O45)-Q45<0,SUM(M45:O45)-Q45, ),1) -> #REF!
A46: 36 | B46: =IF('Mau A1'!#REF!="","",'Mau A1'!#REF!) -> #REF! | C46: =IF('Mau A1'!#REF!="","",'Mau A1'!#REF!) -> #REF! | D46: =SUM('Mau A1'!#REF!) -> #REF! | E46: =SUM('Mau A1'!#REF!) -> #REF! | F46: =SUM('Mau A1'!#REF!) -> #REF! | G46: =SUM('Mau A1'!#REF!) -> #REF! | H46: =SUM('Mau A1'!#REF!) -> #REF! | I46: =SUM('Mau A1'!#REF!) -> #REF! | J46: =SUM('Mau A1'!#REF!) -> #REF! | K46: =SUM('Mau A1'!#REF!) -> #REF! | ... Q46: =SUM('Mau A1'!#REF!) -> #REF! | R46: =ROUND(IF(AND(0<M46<200,0<(M46-Q46)<200,N46>=0,O46>=0),M46-Q46,IF(OR(AND(P46>0,P46>200),(P46-Q46)>200),"200",IF(OR(AND(N46<=0,O46=0,P46<200),AND(N46=0,O46<0,P46<200),AND(N46<0,O46<0,P46<200)),P46-Q46, ))),1) -> #REF! | S46: =ROUND(IF(AND(N46>0,O46>0,M46<=0,R46=0),P46-Q46,IF(AND(P46>0,R46=200),P46-Q46-R46, )),1) -> #REF! | T46: =ROUND(IF(SUM(M46:O46)-Q46<0,SUM(M46:O46)-Q46, ),1) -> #REF!
A47: 37 | B47: =IF('Mau A1'!#REF!="","",'Mau A1'!#REF!) -> #REF! | C47: =IF('Mau A1'!#REF!="","",'Mau A1'!#REF!) -> #REF! | D47: =SUM('Mau A1'!#REF!) -> #REF! | E47: =SUM('Mau A1'!#REF!) -> #REF! | F47: =SUM('Mau A1'!#REF!) -> #REF! | G47: =SUM('Mau A1'!#REF!) -> #REF! | H47: =SUM('Mau A1'!#REF!) -> #REF! | I47: =SUM('Mau A1'!#REF!) -> #REF! | J47: =SUM('Mau A1'!#REF!) -> #REF! | K47: =SUM('Mau A1'!#REF!) -> #REF! | ... Q47: =SUM('Mau A1'!#REF!) -> #REF! | R47: =ROUND(IF(AND(0<M47<200,0<(M47-Q47)<200,N47>=0,O47>=0),M47-Q47,IF(OR(AND(P47>0,P47>200),(P47-Q47)>200),"200",IF(OR(AND(N47<=0,O47=0,P47<200),AND(N47=0,O47<0,P47<200),AND(N47<0,O47<0,P47<200)),P47-Q47, ))),1) -> #REF! | S47: =ROUND(IF(AND(N47>0,O47>0,M47<=0,R47=0),P47-Q47,IF(AND(P47>0,R47=200),P47-Q47-R47, )),1) -> #REF! | T47: =ROUND(IF(SUM(M47:O47)-Q47<0,SUM(M47:O47)-Q47, ),1) -> #REF!
A48: 38 | B48: =IF('Mau A1'!#REF!="","",'Mau A1'!#REF!) -> #REF! | C48: =IF('Mau A1'!#REF!="","",'Mau A1'!#REF!) -> #REF! | D48: =SUM('Mau A1'!#REF!) -> #REF! | E48: =SUM('Mau A1'!#REF!) -> #REF! | F48: =SUM('Mau A1'!#REF!) -> #REF! | G48: =SUM('Mau A1'!#REF!) -> #REF! | H48: =SUM('Mau A1'!#REF!) -> #REF! | I48: =SUM('Mau A1'!#REF!) -> #REF! | J48: =SUM('Mau A1'!#REF!) -> #REF! | K48: =SUM('Mau A1'!#REF!) -> #REF! | ... Q48: =SUM('Mau A1'!#REF!) -> #REF! | R48: =ROUND(IF(AND(0<M48<200,0<(M48-Q48)<200,N48>=0,O48>=0),M48-Q48,IF(OR(AND(P48>0,P48>200),(P48-Q48)>200),"200",IF(OR(AND(N48<=0,O48=0,P48<200),AND(N48=0,O48<0,P48<200),AND(N48<0,O48<0,P48<200)),P48-Q48, ))),1) -> #REF! | S48: =ROUND(IF(AND(N48>0,O48>0,M48<=0,R48=0),P48-Q48,IF(AND(P48>0,R48=200),P48-Q48-R48, )),1) -> #REF! | T48: =ROUND(IF(SUM(M48:O48)-Q48<0,SUM(M48:O48)-Q48, ),1) -> #REF!
A49: 39 | B49: =IF('Mau A1'!#REF!="","",'Mau A1'!#REF!) -> #REF! | C49: =IF('Mau A1'!#REF!="","",'Mau A1'!#REF!) -> #REF! | D49: =SUM('Mau A1'!#REF!) -> #REF! | E49: =SUM('Mau A1'!#REF!) -> #REF! | F49: =SUM('Mau A1'!#REF!) -> #REF! | G49: =SUM('Mau A1'!#REF!) -> #REF! | H49: =SUM('Mau A1'!#REF!) -> #REF! | I49: =SUM('Mau A1'!#REF!) -> #REF! | J49: =SUM('Mau A1'!#REF!) -> #REF! | K49: =SUM('Mau A1'!#REF!) -> #REF! | ... Q49: =SUM('Mau A1'!#REF!) -> #REF! | R49: =ROUND(IF(AND(0<M49<200,0<(M49-Q49)<200,N49>=0,O49>=0),M49-Q49,IF(OR(AND(P49>0,P49>200),(P49-Q49)>200),"200",IF(OR(AND(N49<=0,O49=0,P49<200),AND(N49=0,O49<0,P49<200),AND(N49<0,O49<0,P49<200)),P49-Q49, ))),1) -> #REF! | S49: =ROUND(IF(AND(N49>0,O49>0,M49<=0,R49=0),P49-Q49,IF(AND(P49>0,R49=200),P49-Q49-R49, )),1) -> #REF! | T49: =ROUND(IF(SUM(M49:O49)-Q49<0,SUM(M49:O49)-Q49, ),1) -> #REF!
A50: 40 | B50: =IF('Mau A1'!#REF!="","",'Mau A1'!#REF!) -> #REF! | C50: =IF('Mau A1'!#REF!="","",'Mau A1'!#REF!) -> #REF! | D50: =SUM('Mau A1'!#REF!) -> #REF! | E50: =SUM('Mau A1'!#REF!) -> #REF! | F50: =SUM('Mau A1'!#REF!) -> #REF! | G50: =SUM('Mau A1'!#REF!) -> #REF! | H50: =SUM('Mau A1'!#REF!) -> #REF! | I50: =SUM('Mau A1'!#REF!) -> #REF! | J50: =SUM('Mau A1'!#REF!) -> #REF! | K50: =SUM('Mau A1'!#REF!) -> #REF! | ... Q50: =SUM('Mau A1'!#REF!) -> #REF! | R50: =ROUND(IF(AND(0<M50<200,0<(M50-Q50)<200,N50>=0,O50>=0),M50-Q50,IF(OR(AND(P50>0,P50>200),(P50-Q50)>200),"200",IF(OR(AND(N50<=0,O50=0,P50<200),AND(N50=0,O50<0,P50<200),AND(N50<0,O50<0,P50<200)),P50-Q50, ))),1) -> #REF! | S50: =ROUND(IF(AND(N50>0,O50>0,M50<=0,R50=0),P50-Q50,IF(AND(P50>0,R50=200),P50-Q50-R50, )),1) -> #REF! | T50: =ROUND(IF(SUM(M50:O50)-Q50<0,SUM(M50:O50)-Q50, ),1) -> #REF!
A51: 41 | B51: =IF('Mau A1'!#REF!="","",'Mau A1'!#REF!) -> #REF! | C51: =IF('Mau A1'!#REF!="","",'Mau A1'!#REF!) -> #REF! | D51: =SUM('Mau A1'!#REF!) -> #REF! | E51: =SUM('Mau A1'!#REF!) -> #REF! | F51: =SUM('Mau A1'!#REF!) -> #REF! | G51: =SUM('Mau A1'!#REF!) -> #REF! | H51: =SUM('Mau A1'!#REF!) -> #REF! | I51: =SUM('Mau A1'!#REF!) -> #REF! | J51: =SUM('Mau A1'!#REF!) -> #REF! | K51: =SUM('Mau A1'!#REF!) -> #REF! | ... Q51: =SUM('Mau A1'!#REF!) -> #REF! | R51: =ROUND(IF(AND(0<M51<200,0<(M51-Q51)<200,N51>=0,O51>=0),M51-Q51,IF(OR(AND(P51>0,P51>200),(P51-Q51)>200),"200",IF(OR(AND(N51<=0,O51=0,P51<200),AND(N51=0,O51<0,P51<200),AND(N51<0,O51<0,P51<200)),P51-Q51, ))),1) -> #REF! | S51: =ROUND(IF(AND(N51>0,O51>0,M51<=0,R51=0),P51-Q51,IF(AND(P51>0,R51=200),P51-Q51-R51, )),1) -> #REF! | T51: =ROUND(IF(SUM(M51:O51)-Q51<0,SUM(M51:O51)-Q51, ),1) -> #REF!
A52: 42 | B52: =IF('Mau A1'!#REF!="","",'Mau A1'!#REF!) -> #REF! | C52: =IF('Mau A1'!#REF!="","",'Mau A1'!#REF!) -> #REF! | D52: =SUM('Mau A1'!#REF!) -> #REF! | E52: =SUM('Mau A1'!#REF!) -> #REF! | F52: =SUM('Mau A1'!#REF!) -> #REF! | G52: =SUM('Mau A1'!#REF!) -> #REF! | H52: =SUM('Mau A1'!#REF!) -> #REF! | I52: =SUM('Mau A1'!#REF!) -> #REF! | J52: =SUM('Mau A1'!#REF!) -> #REF! | K52: =SUM('Mau A1'!#REF!) -> #REF! | ... Q52: =SUM('Mau A1'!#REF!) -> #REF! | R52: =ROUND(IF(AND(0<M52<200,0<(M52-Q52)<200,N52>=0,O52>=0),M52-Q52,IF(OR(AND(P52>0,P52>200),(P52-Q52)>200),"200",IF(OR(AND(N52<=0,O52=0,P52<200),AND(N52=0,O52<0,P52<200),AND(N52<0,O52<0,P52<200)),P52-Q52, ))),1) -> #REF! | S52: =ROUND(IF(AND(N52>0,O52>0,M52<=0,R52=0),P52-Q52,IF(AND(P52>0,R52=200),P52-Q52-R52, )),1) -> #REF! | T52: =ROUND(IF(SUM(M52:O52)-Q52<0,SUM(M52:O52)-Q52, ),1) -> #REF!
... A60: 50 | B60: =IF('Mau A1'!#REF!="","",'Mau A1'!#REF!) -> #REF! | C60: =IF('Mau A1'!#REF!="","",'Mau A1'!#REF!) -> #REF! | D60: =SUM('Mau A1'!#REF!) -> #REF! | E60: =SUM('Mau A1'!#REF!) -> #REF! | F60: =SUM('Mau A1'!#REF!) -> #REF! | G60: =SUM('Mau A1'!#REF!) -> #REF! | H60: =SUM('Mau A1'!#REF!) -> #REF! | I60: =SUM('Mau A1'!#REF!) -> #REF! | J60: =SUM('Mau A1'!#REF!) -> #REF! | K60: =SUM('Mau A1'!#REF!) -> #REF! | ... Q60: =SUM('Mau A1'!#REF!) -> #REF! | R60: =ROUND(IF(AND(0<M60<200,0<(M60-Q60)<200,N60>=0,O60>=0),M60-Q60,IF(OR(AND(P60>0,P60>200),(P60-Q60)>200),"200",IF(OR(AND(N60<=0,O60=0,P60<200),AND(N60=0,O60<0,P60<200),AND(N60<0,O60<0,P60<200)),P60-Q60, ))),1) -> #REF! | S60: =ROUND(IF(AND(N60>0,O60>0,M60<=0,R60=0),P60-Q60,IF(AND(P60>0,R60=200),P60-Q60-R60, )),1) -> #REF! | T60: =ROUND(IF(SUM(M60:O60)-Q60<0,SUM(M60:O60)-Q60, ),1) -> #REF!
A61: TỔNG CỘNG | D61: =SUM(D11:D60) -> #REF! | E61: =SUM(E11:E60) -> #REF! | F61: =SUM(F11:F60) -> #REF! | G61: =SUM(G11:G60) -> #REF! | H61: =SUM(H11:H60) -> #REF! | I61: =SUM(I11:I60) -> #REF! | J61: =SUM(J11:J60) -> #REF! | K61: =SUM(K11:K60) -> #REF! | ... T61: =SUM(T11:T60) -> #REF!
B63: Lưu ý: Không cần nhập số liệu, vì tất cả các số liệu được cài sẵn công thức chuyển từ mẫu A1 sang
T64: Thành phố Hồ Chí Minh, ngày tháng năm 2018
A65: HIỆU TRƯỞNG | C65: TRƯỞNG P. TS-ĐT | G65: TRƯỞNG TỔ TT - PC | I65: TRƯỞNG P. QLKH-HTQT | L65: TRƯỞNG PHÒNG KT&ĐBCL | O65: TRƯỞNG P. TC-HC-TH | S65: TRƯỞNG KHOA

Sheet Mau A1
AB1: Mẫu A1
A2: UBND THÀNH PHỐ HỒ CHÍ MINH | V2: CỘNG HÒA XÃ HỘI CHỦ NGHĨA VIỆT NAM
A3: TRƯỜNG CAO ĐẲNG LÝ TỰ TRỌNG THÀNH PHỐ HỒ CHÍ MINH | V3: Độc lập - Tự do - Hạnh phúc
A4: BẢNG TÍNH KHỐI LƯỢNG CÔNG VIỆC CỦA GIẢNG VIÊN TRONG NĂM HỌC 2018 - 2019
A5: KHOA : CÔNG NGHỆ THÔNG TIN
A7: TT | B7: Họ và Tên | D7: MÃ LỚP HP | E7: Môn dạy | F7: lớp dạy | G7: Học kỳ | H7: Thực hiện trong năm học | S7: Số tiết chuẩn giảng dạy | T7: Số tiết chuẩn giảng dạy còn lại | U7: Số tiết chuẩn "Học tập, bồi dưỡng chuẩn hóa, bồi dưỡng nâng cao, nghiên cứu khoa học" | V7: Số tiết chuẩn "Học tập, bồi dưỡng chuẩn hóa, bồi dưỡng nâng cao, nghiên cứu khoa học" còn lại | W7: Số tiết chuẩn "Thực tập tại doanh nghiệp hoặc cơ quan chuyên môn" | X7: Số tiết chuẩn "Thực tập tại doanh nghiệp hoặc cơ quan chuyên môn" còn lại | Y7: Số tiết thừa, thiếu giảng dạy | Z7: Số tiết thừa, thiếu "Học tập, bồi dưỡng chuẩn hóa, bồi dưỡng nâng cao, nghiên cứu khoa học" | AA7: Số tiết thừa, thiếu "Thực tập tại doanh nghiệp hoặc cơ quan chuyên môn" | AB7: Số tiết thiếu năm học 2016-2017 | AC7: Tổng số tiết thừa, thiếu năm học 2017-2018
H8: Chưa nhân hệ số | J8: Sĩ số LHP | K8: Hệ số | M8: Số tiết quy đổi và đã nhân hệ số | N8: Kiêm nhiệm | O8: Số tiết soạn đề, coi thi, chấm thi | P8: Tổng tiết thực hiện | Q8: Số tiết "Học tập, bồi dưỡng chuẩn hóa, bồi dưỡng nâng cao, nghiên cứu khoa học" | R8: Số tiết "Thực tập tại doanh nghiệp hoặc cơ quan chuyên môn"
H9: LT | I9: TH | J9: Chính thức và học lại | K9: LT | L9: TH
A10: (1) | B10: (2) | E10: (3) | F10: (4) | G10: (5) | H10: (6) | I10: (7) | K10: =IF(OR(LEFT(E10,2)="ĐA",LEFT(E10,2)="DA",LEFT(E10,5)="Đồ án",LEFT(E10,5)="Đồán ",LEFT(E10,9)="Sinh hoạt",LEFT(E10,9)="sinh hoạt",LEFT(E10,6)="Cố vấn",LEFT(E10,6)="cố vấn",LEFT(E10,4)="cvht",LEFT(E10,4)="CVHT",LEFT(E10,4)="shcn",LEFT(E10,4)="SHCN"),0,(IF(AND(H10>0,J10>0),IF(J10>60,1.3,IF(J10>35,1.2,1)),0))) -> 0 | L10: =IF(OR(LEFT(E10,2)="ĐA",LEFT(E10,2)="DA",LEFT(E10,5)="Đồ án",LEFT(E10,5)="Đồán "),0,IF(AND(J10>0,I10>0),IF(AND(OR(LEFT(E10,4)="GDQP",LEFT(E10,4)="gdqp",LEFT(E10,19)="Giáo dục quốc phòng"),J10>50),1.3,IF(J10>35,1.2,IF(J10>29,1.1,1))),0)) -> 0 | M10: =ROUND(IF(OR(LEFT(E10,2)="ĐA",LEFT(E10,2)="DA",LEFT(E10,5)="Đồ án",LEFT(E10,5)="Đồán "),J10*0.5,(IF(H10>0,H10*K10,"0")+IF(I10>0,(I10*0.75)*L10,"0"))),1) -> 0 | N10: (11) | O10: (12) | P10: (13) | Q10: (14) | R10: (15) | T10: (16) | V10: (17) | X10: (18) | Y10: (19) | Z10: (20) | AA10: (21) | AB10: (22) | AC10: (23)
K11: =IF(OR(LEFT(E11,2)="ĐA",LEFT(E11,2)="DA",LEFT(E11,5)="Đồ án",LEFT(E11,5)="Đồán ",LEFT(E11,9)="Sinh hoạt",LEFT(E11,9)="sinh hoạt",LEFT(E11,6)="Cố vấn",LEFT(E11,6)="cố vấn",LEFT(E11,4)="cvht",LEFT(E11,4)="CVHT",LEFT(E11,4)="shcn",LEFT(E11,4)="SHCN"),0,(IF(AND(H11>0,J11>0),IF(J11>60,1.3,IF(J11>35,1.2,1)),0))) -> 0 | L11: =IF(OR(LEFT(E11,2)="ĐA",LEFT(E11,2)="DA",LEFT(E11,5)="Đồ án",LEFT(E11,5)="Đồán "),0,IF(AND(J11>0,I11>0),IF(AND(OR(LEFT(E11,4)="GDQP",LEFT(E11,4)="gdqp",LEFT(E11,19)="Giáo dục quốc phòng"),J11>50),1.3,IF(J11>35,1.2,IF(J11>29,1.1,1))),0)) -> 0 | M11: =ROUND(IF(OR(LEFT(E11,2)="ĐA",LEFT(E11,2)="DA",LEFT(E11,5)="Đồ án",LEFT(E11,5)="Đồán "),J11*0.5,(IF(H11>0,H11*K11,"0")+IF(I11>0,(I11*0.75)*L11,"0"))),1) -> 0
K12: =IF(OR(LEFT(E12,2)="ĐA",LEFT(E12,2)="DA",LEFT(E12,5)="Đồ án",LEFT(E12,5)="Đồán ",LEFT(E12,9)="Sinh hoạt",LEFT(E12,9)="sinh hoạt",LEFT(E12,6)="Cố vấn",LEFT(E12,6)="cố vấn",LEFT(E12,4)="cvht",LEFT(E12,4)="CVHT",LEFT(E12,4)="shcn",LEFT(E12,4)="SHCN"),0,(IF(AND(H12>0,J12>0),IF(J12>60,1.3,IF(J12>35,1.2,1)),0))) -> 0 | L12: =IF(OR(LEFT(E12,2)="ĐA",LEFT(E12,2)="DA",LEFT(E12,5)="Đồ án",LEFT(E12,5)="Đồán "),0,IF(AND(J12>0,I12>0),IF(AND(OR(LEFT(E12,4)="GDQP",LEFT(E12,4)="gdqp",LEFT(E12,19)="Giáo dục quốc phòng"),J12>50),1.3,IF(J12>35,1.2,IF(J12>29,1.1,1))),0)) -> 0 | M12: =ROUND(IF(OR(LEFT(E12,2)="ĐA",LEFT(E12,2)="DA",LEFT(E12,5)="Đồ án",LEFT(E12,5)="Đồán "),J12*0.5,(IF(H12>0,H12*K12,"0")+IF(I12>0,(I12*0.75)*L12,"0"))),1) -> 0
K13: =IF(OR(LEFT(E13,2)="ĐA",LEFT(E13,2)="DA",LEFT(E13,5)="Đồ án",LEFT(E13,5)="Đồán ",LEFT(E13,9)="Sinh hoạt",LEFT(E13,9)="sinh hoạt",LEFT(E13,6)="Cố vấn",LEFT(E13,6)="cố vấn",LEFT(E13,4)="cvht",LEFT(E13,4)="CVHT",LEFT(E13,4)="shcn",LEFT(E13,4)="SHCN"),0,(IF(AND(H13>0,J13>0),IF(J13>60,1.3,IF(J13>35,1.2,1)),0))) -> 0 | L13: =IF(OR(LEFT(E13,2)="ĐA",LEFT(E13,2)="DA",LEFT(E13,5)="Đồ án",LEFT(E13,5)="Đồán "),0,IF(AND(J13>0,I13>0),IF(AND(OR(LEFT(E13,4)="GDQP",LEFT(E13,4)="gdqp",LEFT(E13,19)="Giáo dục quốc phòng"),J13>50),1.3,IF(J13>35,1.2,IF(J13>29,1.1,1))),0)) -> 0 | M13: =ROUND(IF(OR(LEFT(E13,2)="ĐA",LEFT(E13,2)="DA",LEFT(E13,5)="Đồ án",LEFT(E13,5)="Đồán "),J13*0.5,(IF(H13>0,H13*K13,"0")+IF(I13>0,(I13*0.75)*L13,"0"))),1) -> 0
K14: =IF(OR(LEFT(E14,2)="ĐA",LEFT(E14,2)="DA",LEFT(E14,5)="Đồ án",LEFT(E14,5)="Đồán ",LEFT(E14,9)="Sinh hoạt",LEFT(E14,9)="sinh hoạt",LEFT(E14,6)="Cố vấn",LEFT(E14,6)="cố vấn",LEFT(E14,4)="cvht",LEFT(E14,4)="CVHT",LEFT(E14,4)="shcn",LEFT(E14,4)="SHCN"),0,(IF(AND(H14>0,J14>0),IF(J14>60,1.3,IF(J14>35,1.2,1)),0))) -> 0 | L14: =IF(OR(LEFT(E14,2)="ĐA",LEFT(E14,2)="DA",LEFT(E14,5)="Đồ án",LEFT(E14,5)="Đồán "),0,IF(AND(J14>0,I14>0),IF(AND(OR(LEFT(E14,4)="GDQP",LEFT(E14,4)="gdqp",LEFT(E14,19)="Giáo dục quốc phòng"),J14>50),1.3,IF(J14>35,1.2,IF(J14>29,1.1,1))),0)) -> 0 | M14: =ROUND(IF(OR(LEFT(E14,2)="ĐA",LEFT(E14,2)="DA",LEFT(E14,5)="Đồ án",LEFT(E14,5)="Đồán "),J14*0.5,(IF(H14>0,H14*K14,"0")+IF(I14>0,(I14*0.75)*L14,"0"))),1) -> 0
A15: 17 | B15: Trần Vĩnh | C15: Xuyên | D15: 020200009701 | E15: Lập trình php | F15: 16CD-TP1 | G15: 1 | H15: 45 | I15: 0 | J15: 65 | K15: =IF(OR(LEFT(E15,2)="ĐA",LEFT(E15,2)="DA",LEFT(E15,5)="Đồ án",LEFT(E15,5)="Đồán ",LEFT(E15,9)="Sinh hoạt",LEFT(E15,9)="sinh hoạt",LEFT(E15,6)="Cố vấn",LEFT(E15,6)="cố vấn",LEFT(E15,4)="cvht",LEFT(E15,4)="CVHT",LEFT(E15,4)="shcn",LEFT(E15,4)="SHCN"),0,(IF(AND(H15>0,J15>0),IF(J15>60,1.3,IF(J15>35,1.2,1)),0))) -> 1.3 | L15: =IF(OR(LEFT(E15,2)="ĐA",LEFT(E15,2)="DA",LEFT(E15,5)="Đồ án",LEFT(E15,5)="Đồán "),0,IF(AND(J15>0,I15>0),IF(AND(OR(LEFT(E15,4)="GDQP",LEFT(E15,4)="gdqp",LEFT(E15,19)="Giáo dục quốc phòng"),J15>50),1.3,IF(J15>35,1.2,IF(J15>29,1.1,1))),0)) -> 0 | M15: =ROUND(IF(OR(LEFT(E15,2)="ĐA",LEFT(E15,2)="DA",LEFT(E15,5)="Đồ án",LEFT(E15,5)="Đồán "),J15*0.5,(IF(H15>0,H15*K15,"0")+IF(I15>0,(I15*0.75)*L15,"0"))),1) -> 58.5 | N15: 67.5 | O15: 0 | P15: =SUM(M15:M34)+N15+O15 -> 1112.5 | Q15: 0 | R15: 52 | S15: 450 | T15: 450 | U15: 112 | V15: 112 | W15: 56 | X15: 56 | Y15: =ROUND((P15-T15),1) -> 662.5 | Z15: =IF(OR(SUM(V15:V34)="",SUM(Q15:Q34)=""),0,IF(OR(SUM(U15:U34)=320,SUM(V15:V34)>0),ROUND((SUM(Q15:Q34)-SUM(V15:V34)),1),0)) -> -112 | AA15: =IF(OR(SUM(X15:X34)="",SUM(R15:R34)=""),0,IF(OR(SUM(W15:W34)=160,SUM(X15:X34)>0),ROUND((SUM(R15:R34)-SUM(X15:X34)),1),0)) -> -4 | AC15: =SUM(Y15:AA34) -> 546.5
D16: 020200009701 | E16: Lập trình php | F16: 16CD-TP1(N1) | G16: 1 | H16: 0 | I16: 60 | J16: 33 | K16: =IF(OR(LEFT(E16,2)="ĐA",LEFT(E16,2)="DA",LEFT(E16,5)="Đồ án",LEFT(E16,5)="Đồán ",LEFT(E16,9)="Sinh hoạt",LEFT(E16,9)="sinh hoạt",LEFT(E16,6)="Cố vấn",LEFT(E16,6)="cố vấn",LEFT(E16,4)="cvht",LEFT(E16,4)="CVHT",LEFT(E16,4)="shcn",LEFT(E16,4)="SHCN"),0,(IF(AND(H16>0,J16>0),IF(J16>60,1.3,IF(J16>35,1.2,1)),0))) -> 0 | L16: =IF(OR(LEFT(E16,2)="ĐA",LEFT(E16,2)="DA",LEFT(E16,5)="Đồ án",LEFT(E16,5)="Đồán "),0,IF(AND(J16>0,I16>0),IF(AND(OR(LEFT(E16,4)="GDQP",LEFT(E16,4)="gdqp",LEFT(E16,19)="Giáo dục quốc phòng"),J16>50),1.3,IF(J16>35,1.2,IF(J16>29,1.1,1))),0)) -> 1.1 | M16: =ROUND(IF(OR(LEFT(E16,2)="ĐA",LEFT(E16,2)="DA",LEFT(E16,5)="Đồ án",LEFT(E16,5)="Đồán "),J16*0.5,(IF(H16>0,H16*K16,"0")+IF(I16>0,(I16*0.75)*L16,"0"))),1) -> 49.5
D17: 020200009701 | E17: Lập trình php | F17: 16CD-TP1(N2) | G17: 1 | H17: 0 | I17: 60 | J17: 32 | K17: =IF(OR(LEFT(E17,2)="ĐA",LEFT(E17,2)="DA",LEFT(E17,5)="Đồ án",LEFT(E17,5)="Đồán ",LEFT(E17,9)="Sinh hoạt",LEFT(E17,9)="sinh hoạt",LEFT(E17,6)="Cố vấn",LEFT(E17,6)="cố vấn",LEFT(E17,4)="cvht",LEFT(E17,4)="CVHT",LEFT(E17,4)="shcn",LEFT(E17,4)="SHCN"),0,(IF(AND(H17>0,J17>0),IF(J17>60,1.3,IF(J17>35,1.2,1)),0))) -> 0 | L17: =IF(OR(LEFT(E17,2)="ĐA",LEFT(E17,2)="DA",LEFT(E17,5)="Đồ án",LEFT(E17,5)="Đồán "),0,IF(AND(J17>0,I17>0),IF(AND(OR(LEFT(E17,4)="GDQP",LEFT(E17,4)="gdqp",LEFT(E17,19)="Giáo dục quốc phòng"),J17>50),1.3,IF(J17>35,1.2,IF(J17>29,1.1,1))),0)) -> 1.1 | M17: =ROUND(IF(OR(LEFT(E17,2)="ĐA",LEFT(E17,2)="DA",LEFT(E17,5)="Đồ án",LEFT(E17,5)="Đồán "),J17*0.5,(IF(H17>0,H17*K17,"0")+IF(I17>0,(I17*0.75)*L17,"0"))),1) -> 49.5
D18: 021100149202 | E18: Lập trình web | F18: 17C1-LMT2 | G18: 1 | H18: 60 | I18: 30 | J18: 43 | K18: =IF(OR(LEFT(E18,2)="ĐA",LEFT(E18,2)="DA",LEFT(E18,5)="Đồ án",LEFT(E18,5)="Đồán ",LEFT(E18,9)="Sinh hoạt",LEFT(E18,9)="sinh hoạt",LEFT(E18,6)="Cố vấn",LEFT(E18,6)="cố vấn",LEFT(E18,4)="cvht",LEFT(E18,4)="CVHT",LEFT(E18,4)="shcn",LEFT(E18,4)="SHCN"),0,(IF(AND(H18>0,J18>0),IF(J18>60,1.3,IF(J18>35,1.2,1)),0))) -> 1.2 | L18: =IF(OR(LEFT(E18,2)="ĐA",LEFT(E18,2)="DA",LEFT(E18,5)="Đồ án",LEFT(E18,5)="Đồán "),0,IF(AND(J18>0,I18>0),IF(AND(OR(LEFT(E18,4)="GDQP",LEFT(E18,4)="gdqp",LEFT(E18,19)="Giáo dục quốc phòng"),J18>50),1.3,IF(J18>35,1.2,IF(J18>29,1.1,1))),0)) -> 1.2 | M18: =ROUND(IF(OR(LEFT(E18,2)="ĐA",LEFT(E18,2)="DA",LEFT(E18,5)="Đồ án",LEFT(E18,5)="Đồán "),J18*0.5,(IF(H18>0,H18*K18,"0")+IF(I18>0,(I18*0.75)*L18,"0"))),1) -> 99
E19: Đồ án 1 | F19: 17C1-LMT2 | G19: 1 | J19: 43 | K19: =IF(OR(LEFT(E19,2)="ĐA",LEFT(E19,2)="DA",LEFT(E19,5)="Đồ án",LEFT(E19,5)="Đồán ",LEFT(E19,9)="Sinh hoạt",LEFT(E19,9)="sinh hoạt",LEFT(E19,6)="Cố vấn",LEFT(E19,6)="cố vấn",LEFT(E19,4)="cvht",LEFT(E19,4)="CVHT",LEFT(E19,4)="shcn",LEFT(E19,4)="SHCN"),0,(IF(AND(H19>0,J19>0),IF(J19>60,1.3,IF(J19>35,1.2,1)),0))) -> 0 | L19: =IF(OR(LEFT(E19,2)="ĐA",LEFT(E19,2)="DA",LEFT(E19,5)="Đồ án",LEFT(E19,5)="Đồán "),0,IF(AND(J19>0,I19>0),IF(AND(OR(LEFT(E19,4)="GDQP",LEFT(E19,4)="gdqp",LEFT(E19,19)="Giáo dục quốc phòng"),J19>50),1.3,IF(J19>35,1.2,IF(J19>29,1.1,1))),0)) -> 0 | M19: =ROUND(IF(OR(LEFT(E19,2)="ĐA",LEFT(E19,2)="DA",LEFT(E19,5)="Đồ án",LEFT(E19,5)="Đồán "),J19*0.5,(IF(H19>0,H19*K19,"0")+IF(I19>0,(I19*0.75)*L19,"0"))),1) -> 21.5
D20: 021100015202 | E20: Thiết kế web | F20: 17C1-CMT1 | G20: 1 | H20: 45 | I20: 30 | J20: 37 | K20: =IF(OR(LEFT(E20,2)="ĐA",LEFT(E20,2)="DA",LEFT(E20,5)="Đồ án",LEFT(E20,5)="Đồán ",LEFT(E20,9)="Sinh hoạt",LEFT(E20,9)="sinh hoạt",LEFT(E20,6)="Cố vấn",LEFT(E20,6)="cố vấn",LEFT(E20,4)="cvht",LEFT(E20,4)="CVHT",LEFT(E20,4)="shcn",LEFT(E20,4)="SHCN"),0,(IF(AND(H20>0,J20>0),IF(J20>60,1.3,IF(J20>35,1.2,1)),0))) -> 1.2 | L20: =IF(OR(LEFT(E20,2)="ĐA",LEFT(E20,2)="DA",LEFT(E20,5)="Đồ án",LEFT(E20,5)="Đồán "),0,IF(AND(J20>0,I20>0),IF(AND(OR(LEFT(E20,4)="GDQP",LEFT(E20,4)="gdqp",LEFT(E20,19)="Giáo dục quốc phòng"),J20>50),1.3,IF(J20>35,1.2,IF(J20>29,1.1,1))),0)) -> 1.2 | M20: =ROUND(IF(OR(LEFT(E20,2)="ĐA",LEFT(E20,2)="DA",LEFT(E20,5)="Đồ án",LEFT(E20,5)="Đồán "),J20*0.5,(IF(H20>0,H20*K20,"0")+IF(I20>0,(I20*0.75)*L20,"0"))),1) -> 81
D21: 021100119801 | E21: Tin học | F21: 18C1-CMT1 | G21: 1 | H21: 30 | I21: 60 | J21: 39 | K21: =IF(OR(LEFT(E21,2)="ĐA",LEFT(E21,2)="DA",LEFT(E21,5)="Đồ án",LEFT(E21,5)="Đồán ",LEFT(E21,9)="Sinh hoạt",LEFT(E21,9)="sinh hoạt",LEFT(E21,6)="Cố vấn",LEFT(E21,6)="cố vấn",LEFT(E21,4)="cvht",LEFT(E21,4)="CVHT",LEFT(E21,4)="shcn",LEFT(E21,4)="SHCN"),0,(IF(AND(H21>0,J21>0),IF(J21>60,1.3,IF(J21>35,1.2,1)),0))) -> 1.2 | L21: =IF(OR(LEFT(E21,2)="ĐA",LEFT(E21,2)="DA",LEFT(E21,5)="Đồ án",LEFT(E21,5)="Đồán "),0,IF(AND(J21>0,I21>0),IF(AND(OR(LEFT(E21,4)="GDQP",LEFT(E21,4)="gdqp",LEFT(E21,19)="Giáo dục quốc phòng"),J21>50),1.3,IF(J21>35,1.2,IF(J21>29,1.1,1))),0)) -> 1.2 | M21: =ROUND(IF(OR(LEFT(E21,2)="ĐA",LEFT(E21,2)="DA",LEFT(E21,5)="Đồ án",LEFT(E21,5)="Đồán "),J21*0.5,(IF(H21>0,H21*K21,"0")+IF(I21>0,(I21*0.75)*L21,"0"))),1) -> 90
E22: Sinh hoạt chủ nhiệm | F22: 18C1-CMT1 | K22: =IF(OR(LEFT(E22,2)="ĐA",LEFT(E22,2)="DA",LEFT(E22,5)="Đồ án",LEFT(E22,5)="Đồán ",LEFT(E22,9)="Sinh hoạt",LEFT(E22,9)="sinh hoạt",LEFT(E22,6)="Cố vấn",LEFT(E22,6)="cố vấn",LEFT(E22,4)="cvht",LEFT(E22,4)="CVHT",LEFT(E22,4)="shcn",LEFT(E22,4)="SHCN"),0,(IF(AND(H22>0,J22>0),IF(J22>60,1.3,IF(J22>35,1.2,1)),0))) -> 0 | L22: =IF(OR(LEFT(E22,2)="ĐA",LEFT(E22,2)="DA",LEFT(E22,5)="Đồ án",LEFT(E22,5)="Đồán "),0,IF(AND(J22>0,I22>0),IF(AND(OR(LEFT(E22,4)="GDQP",LEFT(E22,4)="gdqp",LEFT(E22,19)="Giáo dục quốc phòng"),J22>50),1.3,IF(J22>35,1.2,IF(J22>29,1.1,1))),0)) -> 0 | M22: =ROUND(IF(OR(LEFT(E22,2)="ĐA",LEFT(E22,2)="DA",LEFT(E22,5)="Đồ án",LEFT(E22,5)="Đồán "),J22*0.5,(IF(H22>0,H22*K22,"0")+IF(I22>0,(I22*0.75)*L22,"0"))),1) -> 0
E23: Đồ án 2 | F23: 17C1-TKW | G23: 2 | J23: 40 | K23: =IF(OR(LEFT(E23,2)="ĐA",LEFT(E23,2)="DA",LEFT(E23,5)="Đồ án",LEFT(E23,5)="Đồán ",LEFT(E23,9)="Sinh hoạt",LEFT(E23,9)="sinh hoạt",LEFT(E23,6)="Cố vấn",LEFT(E23,6)="cố vấn",LEFT(E23,4)="cvht",LEFT(E23,4)="CVHT",LEFT(E23,4)="shcn",LEFT(E23,4)="SHCN"),0,(IF(AND(H23>0,J23>0),IF(J23>60,1.3,IF(J23>35,1.2,1)),0))) -> 0 | L23: =IF(OR(LEFT(E23,2)="ĐA",LEFT(E23,2)="DA",LEFT(E23,5)="Đồ án",LEFT(E23,5)="Đồán "),0,IF(AND(J23>0,I23>0),IF(AND(OR(LEFT(E23,4)="GDQP",LEFT(E23,4)="gdqp",LEFT(E23,19)="Giáo dục quốc phòng"),J23>50),1.3,IF(J23>35,1.2,IF(J23>29,1.1,1))),0)) -> 0 | M23: =ROUND(IF(OR(LEFT(E23,2)="ĐA",LEFT(E23,2)="DA",LEFT(E23,5)="Đồ án",LEFT(E23,5)="Đồán "),J23*0.5,(IF(H23>0,H23*K23,"0")+IF(I23>0,(I23*0.75)*L23,"0"))),1) -> 20
E24: Lap trình PHP2 | F24: 17C1-TKW | G24: 2 | H24: 45 | I24: 30 | J24: 40 | K24: =IF(OR(LEFT(E24,2)="ĐA",LEFT(E24,2)="DA",LEFT(E24,5)="Đồ án",LEFT(E24,5)="Đồán ",LEFT(E24,9)="Sinh hoạt",LEFT(E24,9)="sinh hoạt",LEFT(E24,6)="Cố vấn",LEFT(E24,6)="cố vấn",LEFT(E24,4)="cvht",LEFT(E24,4)="CVHT",LEFT(E24,4)="shcn",LEFT(E24,4)="SHCN"),0,(IF(AND(H24>0,J24>0),IF(J24>60,1.3,IF(J24>35,1.2,1)),0))) -> 1.2 | L24: =IF(OR(LEFT(E24,2)="ĐA",LEFT(E24,2)="DA",LEFT(E24,5)="Đồ án",LEFT(E24,5)="Đồán "),0,IF(AND(J24>0,I24>0),IF(AND(OR(LEFT(E24,4)="GDQP",LEFT(E24,4)="gdqp",LEFT(E24,19)="Giáo dục quốc phòng"),J24>50),1.3,IF(J24>35,1.2,IF(J24>29,1.1,1))),0)) -> 1.2 | M24: =ROUND(IF(OR(LEFT(E24,2)="ĐA",LEFT(E24,2)="DA",LEFT(E24,5)="Đồ án",LEFT(E24,5)="Đồán "),J24*0.5,(IF(H24>0,H24*K24,"0")+IF(I24>0,(I24*0.75)*L24,"0"))),1) -> 81
E25: Lập trình PHP | F25: 16CĐ-TM1 | G25: 2 | H25: 45 | I25: 30 | J25: 40 | K25: =IF(OR(LEFT(E25,2)="ĐA",LEFT(E25,2)="DA",LEFT(E25,5)="Đồ án",LEFT(E25,5)="Đồán ",LEFT(E25,9)="Sinh hoạt",LEFT(E25,9)="sinh hoạt",LEFT(E25,6)="Cố vấn",LEFT(E25,6)="cố vấn",LEFT(E25,4)="cvht",LEFT(E25,4)="CVHT",LEFT(E25,4)="shcn",LEFT(E25,4)="SHCN"),0,(IF(AND(H25>0,J25>0),IF(J25>60,1.3,IF(J25>35,1.2,1)),0))) -> 1.2 | L25: =IF(OR(LEFT(E25,2)="ĐA",LEFT(E25,2)="DA",LEFT(E25,5)="Đồ án",LEFT(E25,5)="Đồán "),0,IF(AND(J25>0,I25>0),IF(AND(OR(LEFT(E25,4)="GDQP",LEFT(E25,4)="gdqp",LEFT(E25,19)="Giáo dục quốc phòng"),J25>50),1.3,IF(J25>35,1.2,IF(J25>29,1.1,1))),0)) -> 1.2 | M25: =ROUND(IF(OR(LEFT(E25,2)="ĐA",LEFT(E25,2)="DA",LEFT(E25,5)="Đồ án",LEFT(E25,5)="Đồán "),J25*0.5,(IF(H25>0,H25*K25,"0")+IF(I25>0,(I25*0.75)*L25,"0"))),1) -> 81
E26: Lập trình PHP | F26: 16CĐ-TM2 | G26: 2 | H26: 45 | I26: 30 | J26: 40 | K26: =IF(OR(LEFT(E26,2)="ĐA",LEFT(E26,2)="DA",LEFT(E26,5)="Đồ án",LEFT(E26,5)="Đồán ",LEFT(E26,9)="Sinh hoạt",LEFT(E26,9)="sinh hoạt",LEFT(E26,6)="Cố vấn",LEFT(E26,6)="cố vấn",LEFT(E26,4)="cvht",LEFT(E26,4)="CVHT",LEFT(E26,4)="shcn",LEFT(E26,4)="SHCN"),0,(IF(AND(H26>0,J26>0),IF(J26>60,1.3,IF(J26>35,1.2,1)),0))) -> 1.2 | L26: =IF(OR(LEFT(E26,2)="ĐA",LEFT(E26,2)="DA",LEFT(E26,5)="Đồ án",LEFT(E26,5)="Đồán "),0,IF(AND(J26>0,I26>0),IF(AND(OR(LEFT(E26,4)="GDQP",LEFT(E26,4)="gdqp",LEFT(E26,19)="Giáo dục quốc phòng"),J26>50),1.3,IF(J26>35,1.2,IF(J26>29,1.1,1))),0)) -> 1.2 | M26: =ROUND(IF(OR(LEFT(E26,2)="ĐA",LEFT(E26,2)="DA",LEFT(E26,5)="Đồ án",LEFT(E26,5)="Đồán "),J26*0.5,(IF(H26>0,H26*K26,"0")+IF(I26>0,(I26*0.75)*L26,"0"))),1) -> 81
E27: Lập trình PHP | F27: 17C1-THU | G27: 2 | H27: 45 | I27: 30 | J27: 40 | K27: =IF(OR(LEFT(E27,2)="ĐA",LEFT(E27,2)="DA",LEFT(E27,5)="Đồ án",LEFT(E27,5)="Đồán ",LEFT(E27,9)="Sinh hoạt",LEFT(E27,9)="sinh hoạt",LEFT(E27,6)="Cố vấn",LEFT(E27,6)="cố vấn",LEFT(E27,4)="cvht",LEFT(E27,4)="CVHT",LEFT(E27,4)="shcn",LEFT(E27,4)="SHCN"),0,(IF(AND(H27>0,J27>0),IF(J27>60,1.3,IF(J27>35,1.2,1)),0))) -> 1.2 | L27: =IF(OR(LEFT(E27,2)="ĐA",LEFT(E27,2)="DA",LEFT(E27,5)="Đồ án",LEFT(E27,5)="Đồán "),0,IF(AND(J27>0,I27>0),IF(AND(OR(LEFT(E27,4)="GDQP",LEFT(E27,4)="gdqp",LEFT(E27,19)="Giáo dục quốc phòng"),J27>50),1.3,IF(J27>35,1.2,IF(J27>29,1.1,1))),0)) -> 1.2 | M27: =ROUND(IF(OR(LEFT(E27,2)="ĐA",LEFT(E27,2)="DA",LEFT(E27,5)="Đồ án",LEFT(E27,5)="Đồán "),J27*0.5,(IF(H27>0,H27*K27,"0")+IF(I27>0,(I27*0.75)*L27,"0"))),1) -> 81
E28: Đồ án lập trình web | F28: 16CĐ-TW1 | G28: 2 | H28: 15 | J28: 40 | K28: =IF(OR(LEFT(E28,2)="ĐA",LEFT(E28,2)="DA",LEFT(E28,5)="Đồ án",LEFT(E28,5)="Đồán ",LEFT(E28,9)="Sinh hoạt",LEFT(E28,9)="sinh hoạt",LEFT(E28,6)="Cố vấn",LEFT(E28,6)="cố vấn",LEFT(E28,4)="cvht",LEFT(E28,4)="CVHT",LEFT(E28,4)="shcn",LEFT(E28,4)="SHCN"),0,(IF(AND(H28>0,J28>0),IF(J28>60,1.3,IF(J28>35,1.2,1)),0))) -> 1.2 | L28: =IF(OR(LEFT(E28,2)="ĐA",LEFT(E28,2)="DA",LEFT(E28,5)="Đồ án",LEFT(E28,5)="Đồán "),0,IF(AND(J28>0,I28>0),IF(AND(OR(LEFT(E28,4)="GDQP",LEFT(E28,4)="gdqp",LEFT(E28,19)="Giáo dục quốc phòng"),J28>50),1.3,IF(J28>35,1.2,IF(J28>29,1.1,1))),0)) -> 0 | M28: =ROUND(IF(OR(LEFT(E28,2)="ĐA",LEFT(E28,2)="DA",LEFT(E28,5)="Đồ án",LEFT(E28,5)="Đồán "),J28*0.5,(IF(H28>0,H28*K28,"0")+IF(I28>0,(I28*0.75)*L28,"0"))),1) -> 18
E29: Đồ án lập trình web-N1 | F29: 16CĐ-TW1 | G29: 2 | I29: 30 | J29: 40 | K29: =IF(OR(LEFT(E29,2)="ĐA",LEFT(E29,2)="DA",LEFT(E29,5)="Đồ án",LEFT(E29,5)="Đồán ",LEFT(E29,9)="Sinh hoạt",LEFT(E29,9)="sinh hoạt",LEFT(E29,6)="Cố vấn",LEFT(E29,6)="cố vấn",LEFT(E29,4)="cvht",LEFT(E29,4)="CVHT",LEFT(E29,4)="shcn",LEFT(E29,4)="SHCN"),0,(IF(AND(H29>0,J29>0),IF(J29>60,1.3,IF(J29>35,1.2,1)),0))) -> 0 | L29: =IF(OR(LEFT(E29,2)="ĐA",LEFT(E29,2)="DA",LEFT(E29,5)="Đồ án",LEFT(E29,5)="Đồán "),0,IF(AND(J29>0,I29>0),IF(AND(OR(LEFT(E29,4)="GDQP",LEFT(E29,4)="gdqp",LEFT(E29,19)="Giáo dục quốc phòng"),J29>50),1.3,IF(J29>35,1.2,IF(J29>29,1.1,1))),0)) -> 1.2 | M29: =ROUND(IF(OR(LEFT(E29,2)="ĐA",LEFT(E29,2)="DA",LEFT(E29,5)="Đồ án",LEFT(E29,5)="Đồán "),J29*0.5,(IF(H29>0,H29*K29,"0")+IF(I29>0,(I29*0.75)*L29,"0"))),1) -> 27
E30: Đồ án lập trình web-N2 | F30: 16CĐ-TW1 | G30: 2 | I30: 30 | J30: 40 | K30: =IF(OR(LEFT(E30,2)="ĐA",LEFT(E30,2)="DA",LEFT(E30,5)="Đồ án",LEFT(E30,5)="Đồán ",LEFT(E30,9)="Sinh hoạt",LEFT(E30,9)="sinh hoạt",LEFT(E30,6)="Cố vấn",LEFT(E30,6)="cố vấn",LEFT(E30,4)="cvht",LEFT(E30,4)="CVHT",LEFT(E30,4)="shcn",LEFT(E30,4)="SHCN"),0,(IF(AND(H30>0,J30>0),IF(J30>60,1.3,IF(J30>35,1.2,1)),0))) -> 0 | L30: =IF(OR(LEFT(E30,2)="ĐA",LEFT(E30,2)="DA",LEFT(E30,5)="Đồ án",LEFT(E30,5)="Đồán "),0,IF(AND(J30>0,I30>0),IF(AND(OR(LEFT(E30,4)="GDQP",LEFT(E30,4)="gdqp",LEFT(E30,19)="Giáo dục quốc phòng"),J30>50),1.3,IF(J30>35,1.2,IF(J30>29,1.1,1))),0)) -> 1.2 | M30: =ROUND(IF(OR(LEFT(E30,2)="ĐA",LEFT(E30,2)="DA",LEFT(E30,5)="Đồ án",LEFT(E30,5)="Đồán "),J30*0.5,(IF(H30>0,H30*K30,"0")+IF(I30>0,(I30*0.75)*L30,"0"))),1) -> 27
E31: Tin học | F31: CĐ20 | G31: 2 | H31: 30 | I31: 60 | J31: 40 | K31: =IF(OR(LEFT(E31,2)="ĐA",LEFT(E31,2)="DA",LEFT(E31,5)="Đồ án",LEFT(E31,5)="Đồán ",LEFT(E31,9)="Sinh hoạt",LEFT(E31,9)="sinh hoạt",LEFT(E31,6)="Cố vấn",LEFT(E31,6)="cố vấn",LEFT(E31,4)="cvht",LEFT(E31,4)="CVHT",LEFT(E31,4)="shcn",LEFT(E31,4)="SHCN"),0,(IF(AND(H31>0,J31>0),IF(J31>60,1.3,IF(J31>35,1.2,1)),0))) -> 1.2 | L31: =IF(OR(LEFT(E31,2)="ĐA",LEFT(E31,2)="DA",LEFT(E31,5)="Đồ án",LEFT(E31,5)="Đồán "),0,IF(AND(J31>0,I31>0),IF(AND(OR(LEFT(E31,4)="GDQP",LEFT(E31,4)="gdqp",LEFT(E31,19)="Giáo dục quốc phòng"),J31>50),1.3,IF(J31>35,1.2,IF(J31>29,1.1,1))),0)) -> 1.2 | M31: =ROUND(IF(OR(LEFT(E31,2)="ĐA",LEFT(E31,2)="DA",LEFT(E31,5)="Đồ án",LEFT(E31,5)="Đồán "),J31*0.5,(IF(H31>0,H31*K31,"0")+IF(I31>0,(I31*0.75)*L31,"0"))),1) -> 90
E32: Tin học | F32: CĐ21 | G32: 2 | H32: 30 | I32: 60 | J32: 40 | K32: =IF(OR(LEFT(E32,2)="ĐA",LEFT(E32,2)="DA",LEFT(E32,5)="Đồ án",LEFT(E32,5)="Đồán ",LEFT(E32,9)="Sinh hoạt",LEFT(E32,9)="sinh hoạt",LEFT(E32,6)="Cố vấn",LEFT(E32,6)="cố vấn",LEFT(E32,4)="cvht",LEFT(E32,4)="CVHT",LEFT(E32,4)="shcn",LEFT(E32,4)="SHCN"),0,(IF(AND(H32>0,J32>0),IF(J32>60,1.3,IF(J32>35,1.2,1)),0))) -> 1.2 | L32: =IF(OR(LEFT(E32,2)="ĐA",LEFT(E32,2)="DA",LEFT(E32,5)="Đồ án",LEFT(E32,5)="Đồán "),0,IF(AND(J32>0,I32>0),IF(AND(OR(LEFT(E32,4)="GDQP",LEFT(E32,4)="gdqp",LEFT(E32,19)="Giáo dục quốc phòng"),J32>50),1.3,IF(J32>35,1.2,IF(J32>29,1.1,1))),0)) -> 1.2 | M32: =ROUND(IF(OR(LEFT(E32,2)="ĐA",LEFT(E32,2)="DA",LEFT(E32,5)="Đồ án",LEFT(E32,5)="Đồán "),J32*0.5,(IF(H32>0,H32*K32,"0")+IF(I32>0,(I32*0.75)*L32,"0"))),1) -> 90
K33: =IF(OR(LEFT(E33,2)="ĐA",LEFT(E33,2)="DA",LEFT(E33,5)="Đồ án",LEFT(E33,5)="Đồán ",LEFT(E33,9)="Sinh hoạt",LEFT(E33,9)="sinh hoạt",LEFT(E33,6)="Cố vấn",LEFT(E33,6)="cố vấn",LEFT(E33,4)="cvht",LEFT(E33,4)="CVHT",LEFT(E33,4)="shcn",LEFT(E33,4)="SHCN"),0,(IF(AND(H33>0,J33>0),IF(J33>60,1.3,IF(J33>35,1.2,1)),0))) -> 0 | L33: =IF(OR(LEFT(E33,2)="ĐA",LEFT(E33,2)="DA",LEFT(E33,5)="Đồ án",LEFT(E33,5)="Đồán "),0,IF(AND(J33>0,I33>0),IF(AND(OR(LEFT(E33,4)="GDQP",LEFT(E33,4)="gdqp",LEFT(E33,19)="Giáo dục quốc phòng"),J33>50),1.3,IF(J33>35,1.2,IF(J33>29,1.1,1))),0)) -> 0 | M33: =ROUND(IF(OR(LEFT(E33,2)="ĐA",LEFT(E33,2)="DA",LEFT(E33,5)="Đồ án",LEFT(E33,5)="Đồán "),J33*0.5,(IF(H33>0,H33*K33,"0")+IF(I33>0,(I33*0.75)*L33,"0"))),1) -> 0
K34: =IF(OR(LEFT(E34,2)="ĐA",LEFT(E34,2)="DA",LEFT(E34,5)="Đồ án",LEFT(E34,5)="Đồán ",LEFT(E34,9)="Sinh hoạt",LEFT(E34,9)="sinh hoạt",LEFT(E34,6)="Cố vấn",LEFT(E34,6)="cố vấn",LEFT(E34,4)="cvht",LEFT(E34,4)="CVHT",LEFT(E34,4)="shcn",LEFT(E34,4)="SHCN"),0,(IF(AND(H34>0,J34>0),IF(J34>60,1.3,IF(J34>35,1.2,1)),0))) -> 0 | L34: =IF(OR(LEFT(E34,2)="ĐA",LEFT(E34,2)="DA",LEFT(E34,5)="Đồ án",LEFT(E34,5)="Đồán "),0,IF(AND(J34>0,I34>0),IF(AND(OR(LEFT(E34,4)="GDQP",LEFT(E34,4)="gdqp",LEFT(E34,19)="Giáo dục quốc phòng"),J34>50),1.3,IF(J34>35,1.2,IF(J34>29,1.1,1))),0)) -> 0 | M34: =ROUND(IF(OR(LEFT(E34,2)="ĐA",LEFT(E34,2)="DA",LEFT(E34,5)="Đồ án",LEFT(E34,5)="Đồán "),J34*0.5,(IF(H34>0,H34*K34,"0")+IF(I34>0,(I34*0.75)*L34,"0"))),1) -> 0
A35: 18 | B35: Nguyễn Cao | C35: Phong | D35: 20200090201 | E35: Lập trình PHP 1 (LT) | F35: 16CĐ-TW1 | G35: 1 | H35: 45 | J35: 58 | K35: =IF(OR(LEFT(E35,2)="ĐA",LEFT(E35,2)="DA",LEFT(E35,5)="Đồ án",LEFT(E35,5)="Đồán ",LEFT(E35,9)="Sinh hoạt",LEFT(E35,9)="sinh hoạt",LEFT(E35,6)="Cố vấn",LEFT(E35,6)="cố vấn",LEFT(E35,4)="cvht",LEFT(E35,4)="CVHT",LEFT(E35,4)="shcn",LEFT(E35,4)="SHCN"),0,(IF(AND(H35>0,J35>0),IF(J35>60,1.3,IF(J35>35,1.2,1)),0))) -> 1.2 | L35: =IF(OR(LEFT(E35,2)="ĐA",LEFT(E35,2)="DA",LEFT(E35,5)="Đồ án",LEFT(E35,5)="Đồán "),0,IF(AND(J35>0,I35>0),IF(AND(OR(LEFT(E35,4)="GDQP",LEFT(E35,4)="gdqp",LEFT(E35,19)="Giáo dục quốc phòng"),J35>50),1.3,IF(J35>35,1.2,IF(J35>29,1.1,1))),0)) -> 0 | M35: =ROUND(IF(OR(LEFT(E35,2)="ĐA",LEFT(E35,2)="DA",LEFT(E35,5)="Đồ án",LEFT(E35,5)="Đồán "),J35*0.5,(IF(H35>0,H35*K35,"0")+IF(I35>0,(I35*0.75)*L35,"0"))),1) -> 54 | N35: 89.5 | P35: =SUM(M35:M57)+N35+O35 -> 1187 | Q35: 0 | R35: 35 | S35: 450 | T35: 450 | U35: 112 | V35: 112 | W35: 56 | X35: 56 | Y35: =ROUND((P35-T35),1) -> 737 | Z35: -112 | AA35: -21 | AC35: =SUM(Y35:AA57) -> 604
D36: 20200090201 | E36: Lập trình PHP 1 (TH) | F36: 16CĐ-TW1 | G36: 1 | I36: 60 | J36: 29 | K36: =IF(OR(LEFT(E36,2)="ĐA",LEFT(E36,2)="DA",LEFT(E36,5)="Đồ án",LEFT(E36,5)="Đồán ",LEFT(E36,9)="Sinh hoạt",LEFT(E36,9)="sinh hoạt",LEFT(E36,6)="Cố vấn",LEFT(E36,6)="cố vấn",LEFT(E36,4)="cvht",LEFT(E36,4)="CVHT",LEFT(E36,4)="shcn",LEFT(E36,4)="SHCN"),0,(IF(AND(H36>0,J36>0),IF(J36>60,1.3,IF(J36>35,1.2,1)),0))) -> 0 | L36: =IF(OR(LEFT(E36,2)="ĐA",LEFT(E36,2)="DA",LEFT(E36,5)="Đồ án",LEFT(E36,5)="Đồán "),0,IF(AND(J36>0,I36>0),IF(AND(OR(LEFT(E36,4)="GDQP",LEFT(E36,4)="gdqp",LEFT(E36,19)="Giáo dục quốc phòng"),J36>50),1.3,IF(J36>35,1.2,IF(J36>29,1.1,1))),0)) -> 1 | M36: =ROUND(IF(OR(LEFT(E36,2)="ĐA",LEFT(E36,2)="DA",LEFT(E36,5)="Đồ án",LEFT(E36,5)="Đồán "),J36*0.5,(IF(H36>0,H36*K36,"0")+IF(I36>0,(I36*0.75)*L36,"0"))),1) -> 45
D37: 20200090201 | E37: Lập trình PHP 1 (TH) | F37: 16CĐ-TW1 | G37: 1 | I37: 60 | J37: 29 | K37: =IF(OR(LEFT(E37,2)="ĐA",LEFT(E37,2)="DA",LEFT(E37,5)="Đồ án",LEFT(E37,5)="Đồán ",LEFT(E37,9)="Sinh hoạt",LEFT(E37,9)="sinh hoạt",LEFT(E37,6)="Cố vấn",LEFT(E37,6)="cố vấn",LEFT(E37,4)="cvht",LEFT(E37,4)="CVHT",LEFT(E37,4)="shcn",LEFT(E37,4)="SHCN"),0,(IF(AND(H37>0,J37>0),IF(J37>60,1.3,IF(J37>35,1.2,1)),0))) -> 0 | L37: =IF(OR(LEFT(E37,2)="ĐA",LEFT(E37,2)="DA",LEFT(E37,5)="Đồ án",LEFT(E37,5)="Đồán "),0,IF(AND(J37>0,I37>0),IF(AND(OR(LEFT(E37,4)="GDQP",LEFT(E37,4)="gdqp",LEFT(E37,19)="Giáo dục quốc phòng"),J37>50),1.3,IF(J37>35,1.2,IF(J37>29,1.1,1))),0)) -> 1 | M37: =ROUND(IF(OR(LEFT(E37,2)="ĐA",LEFT(E37,2)="DA",LEFT(E37,5)="Đồ án",LEFT(E37,5)="Đồán "),J37*0.5,(IF(H37>0,H37*K37,"0")+IF(I37>0,(I37*0.75)*L37,"0"))),1) -> 45
D38: 71400119916 | E38: Tin học | F38: 17T4-KTD1 | G38: 1 | H38: 30 | I38: 60 | J38: 52 | K38: =IF(OR(LEFT(E38,2)="ĐA",LEFT(E38,2)="DA",LEFT(E38,5)="Đồ án",LEFT(E38,5)="Đồán ",LEFT(E38,9)="Sinh hoạt",LEFT(E38,9)="sinh hoạt",LEFT(E38,6)="Cố vấn",LEFT(E38,6)="cố vấn",LEFT(E38,4)="cvht",LEFT(E38,4)="CVHT",LEFT(E38,4)="shcn",LEFT(E38,4)="SHCN"),0,(IF(AND(H38>0,J38>0),IF(J38>60,1.3,IF(J38>35,1.2,1)),0))) -> 1.2 | L38: =IF(OR(LEFT(E38,2)="ĐA",LEFT(E38,2)="DA",LEFT(E38,5)="Đồ án",LEFT(E38,5)="Đồán "),0,IF(AND(J38>0,I38>0),IF(AND(OR(LEFT(E38,4)="GDQP",LEFT(E38,4)="gdqp",LEFT(E38,19)="Giáo dục quốc phòng"),J38>50),1.3,IF(J38>35,1.2,IF(J38>29,1.1,1))),0)) -> 1.2 | M38: =ROUND(IF(OR(LEFT(E38,2)="ĐA",LEFT(E38,2)="DA",LEFT(E38,5)="Đồ án",LEFT(E38,5)="Đồán "),J38*0.5,(IF(H38>0,H38*K38,"0")+IF(I38>0,(I38*0.75)*L38,"0"))),1) -> 90
D39: 71400119910 | E39: Tin học | F39: 17T4-CNÔ3 | G39: 1 | H39: 30 | I39: 60 | J39: 52 | K39: =IF(OR(LEFT(E39,2)="ĐA",LEFT(E39,2)="DA",LEFT(E39,5)="Đồ án",LEFT(E39,5)="Đồán ",LEFT(E39,9)="Sinh hoạt",LEFT(E39,9)="sinh hoạt",LEFT(E39,6)="Cố vấn",LEFT(E39,6)="cố vấn",LEFT(E39,4)="cvht",LEFT(E39,4)="CVHT",LEFT(E39,4)="shcn",LEFT(E39,4)="SHCN"),0,(IF(AND(H39>0,J39>0),IF(J39>60,1.3,IF(J39>35,1.2,1)),0))) -> 1.2 | L39: =IF(OR(LEFT(E39,2)="ĐA",LEFT(E39,2)="DA",LEFT(E39,5)="Đồ án",LEFT(E39,5)="Đồán "),0,IF(AND(J39>0,I39>0),IF(AND(OR(LEFT(E39,4)="GDQP",LEFT(E39,4)="gdqp",LEFT(E39,19)="Giáo dục quốc phòng"),J39>50),1.3,IF(J39>35,1.2,IF(J39>29,1.1,1))),0)) -> 1.2 | M39: =ROUND(IF(OR(LEFT(E39,2)="ĐA",LEFT(E39,2)="DA",LEFT(E39,5)="Đồ án",LEFT(E39,5)="Đồán "),J39*0.5,(IF(H39>0,H39*K39,"0")+IF(I39>0,(I39*0.75)*L39,"0"))),1) -> 90
D40: 20200015201 | E40: Thiết kế Web | F40: 16CĐ-TM1 | G40: 1 | H40: 45 | I40: 30 | J40: 34 | K40: =IF(OR(LEFT(E40,2)="ĐA",LEFT(E40,2)="DA",LEFT(E40,5)="Đồ án",LEFT(E40,5)="Đồán ",LEFT(E40,9)="Sinh hoạt",LEFT(E40,9)="sinh hoạt",LEFT(E40,6)="Cố vấn",LEFT(E40,6)="cố vấn",LEFT(E40,4)="cvht",LEFT(E40,4)="CVHT",LEFT(E40,4)="shcn",LEFT(E40,4)="SHCN"),0,(IF(AND(H40>0,J40>0),IF(J40>60,1.3,IF(J40>35,1.2,1)),0))) -> 1 | L40: =IF(OR(LEFT(E40,2)="ĐA",LEFT(E40,2)="DA",LEFT(E40,5)="Đồ án",LEFT(E40,5)="Đồán "),0,IF(AND(J40>0,I40>0),IF(AND(OR(LEFT(E40,4)="GDQP",LEFT(E40,4)="gdqp",LEFT(E40,19)="Giáo dục quốc phòng"),J40>50),1.3,IF(J40>35,1.2,IF(J40>29,1.1,1))),0)) -> 1.1 | M40: =ROUND(IF(OR(LEFT(E40,2)="ĐA",LEFT(E40,2)="DA",LEFT(E40,5)="Đồ án",LEFT(E40,5)="Đồán "),J40*0.5,(IF(H40>0,H40*K40,"0")+IF(I40>0,(I40*0.75)*L40,"0"))),1) -> 69.8
D41: 21100149201 | E41: Lập trình Web | F41: 17C1-LTM1 | G41: 1 | H41: 60 | I41: 30 | J41: 34 | K41: =IF(OR(LEFT(E41,2)="ĐA",LEFT(E41,2)="DA",LEFT(E41,5)="Đồ án",LEFT(E41,5)="Đồán ",LEFT(E41,9)="Sinh hoạt",LEFT(E41,9)="sinh hoạt",LEFT(E41,6)="Cố vấn",LEFT(E41,6)="cố vấn",LEFT(E41,4)="cvht",LEFT(E41,4)="CVHT",LEFT(E41,4)="shcn",LEFT(E41,4)="SHCN"),0,(IF(AND(H41>0,J41>0),IF(J41>60,1.3,IF(J41>35,1.2,1)),0))) -> 1 | L41: =IF(OR(LEFT(E41,2)="ĐA",LEFT(E41,2)="DA",LEFT(E41,5)="Đồ án",LEFT(E41,5)="Đồán "),0,IF(AND(J41>0,I41>0),IF(AND(OR(LEFT(E41,4)="GDQP",LEFT(E41,4)="gdqp",LEFT(E41,19)="Giáo dục quốc phòng"),J41>50),1.3,IF(J41>35,1.2,IF(J41>29,1.1,1))),0)) -> 1.1 | M41: =ROUND(IF(OR(LEFT(E41,2)="ĐA",LEFT(E41,2)="DA",LEFT(E41,5)="Đồ án",LEFT(E41,5)="Đồán "),J41*0.5,(IF(H41>0,H41*K41,"0")+IF(I41>0,(I41*0.75)*L41,"0"))),1) -> 84.8
D42: 21100151901 | E42: Lập trình PHP 1 | F42: 17C1-TKW1 | G42: 1 | H42: 45 | I42: 30 | J42: 28 | K42: =IF(OR(LEFT(E42,2)="ĐA",LEFT(E42,2)="DA",LEFT(E42,5)="Đồ án",LEFT(E42,5)="Đồán ",LEFT(E42,9)="Sinh hoạt",LEFT(E42,9)="sinh hoạt",LEFT(E42,6)="Cố vấn",LEFT(E42,6)="cố vấn",LEFT(E42,4)="cvht",LEFT(E42,4)="CVHT",LEFT(E42,4)="shcn",LEFT(E42,4)="SHCN"),0,(IF(AND(H42>0,J42>0),IF(J42>60,1.3,IF(J42>35,1.2,1)),0))) -> 1 | L42: =IF(OR(LEFT(E42,2)="ĐA",LEFT(E42,2)="DA",LEFT(E42,5)="Đồ án",LEFT(E42,5)="Đồán "),0,IF(AND(J42>0,I42>0),IF(AND(OR(LEFT(E42,4)="GDQP",LEFT(E42,4)="gdqp",LEFT(E42,19)="Giáo dục quốc phòng"),J42>50),1.3,IF(J42>35,1.2,IF(J42>29,1.1,1))),0)) -> 1 | M42: =ROUND(IF(OR(LEFT(E42,2)="ĐA",LEFT(E42,2)="DA",LEFT(E42,5)="Đồ án",LEFT(E42,5)="Đồán "),J42*0.5,(IF(H42>0,H42*K42,"0")+IF(I42>0,(I42*0.75)*L42,"0"))),1) -> 67.5
D43: 21100093907 | E43: Cơ sở dữ liệu | F43: 18C1-CMT2 | G43: 1 | H43: 15 | I43: 30 | J43: 42 | K43: =IF(OR(LEFT(E43,2)="ĐA",LEFT(E43,2)="DA",LEFT(E43,5)="Đồ án",LEFT(E43,5)="Đồán ",LEFT(E43,9)="Sinh hoạt",LEFT(E43,9)="sinh hoạt",LEFT(E43,6)="Cố vấn",LEFT(E43,6)="cố vấn",LEFT(E43,4)="cvht",LEFT(E43,4)="CVHT",LEFT(E43,4)="shcn",LEFT(E43,4)="SHCN"),0,(IF(AND(H43>0,J43>0),IF(J43>60,1.3,IF(J43>35,1.2,1)),0))) -> 1.2 | L43: =IF(OR(LEFT(E43,2)="ĐA",LEFT(E43,2)="DA",LEFT(E43,5)="Đồ án",LEFT(E43,5)="Đồán "),0,IF(AND(J43>0,I43>0),IF(AND(OR(LEFT(E43,4)="GDQP",LEFT(E43,4)="gdqp",LEFT(E43,19)="Giáo dục quốc phòng"),J43>50),1.3,IF(J43>35,1.2,IF(J43>29,1.1,1))),0)) -> 1.2 | M43: =ROUND(IF(OR(LEFT(E43,2)="ĐA",LEFT(E43,2)="DA",LEFT(E43,5)="Đồ án",LEFT(E43,5)="Đồán "),J43*0.5,(IF(H43>0,H43*K43,"0")+IF(I43>0,(I43*0.75)*L43,"0"))),1) -> 45
E44: Sinh hoạt chủ nhiệm | F44: 16CĐ-TM1 | K44: =IF(OR(LEFT(E44,2)="ĐA",LEFT(E44,2)="DA",LEFT(E44,5)="Đồ án",LEFT(E44,5)="Đồán ",LEFT(E44,9)="Sinh hoạt",LEFT(E44,9)="sinh hoạt",LEFT(E44,6)="Cố vấn",LEFT(E44,6)="cố vấn",LEFT(E44,4)="cvht",LEFT(E44,4)="CVHT",LEFT(E44,4)="shcn",LEFT(E44,4)="SHCN"),0,(IF(AND(H44>0,J44>0),IF(J44>60,1.3,IF(J44>35,1.2,1)),0))) -> 0 | L44: =IF(OR(LEFT(E44,2)="ĐA",LEFT(E44,2)="DA",LEFT(E44,5)="Đồ án",LEFT(E44,5)="Đồán "),0,IF(AND(J44>0,I44>0),IF(AND(OR(LEFT(E44,4)="GDQP",LEFT(E44,4)="gdqp",LEFT(E44,19)="Giáo dục quốc phòng"),J44>50),1.3,IF(J44>35,1.2,IF(J44>29,1.1,1))),0)) -> 0 | M44: =ROUND(IF(OR(LEFT(E44,2)="ĐA",LEFT(E44,2)="DA",LEFT(E44,5)="Đồ án",LEFT(E44,5)="Đồán "),J44*0.5,(IF(H44>0,H44*K44,"0")+IF(I44>0,(I44*0.75)*L44,"0"))),1) -> 0
E45: Đồ án 1 | F45: 17C1-LMT1 | G45: 1 | J45: 34 | K45: =IF(OR(LEFT(E45,2)="ĐA",LEFT(E45,2)="DA",LEFT(E45,5)="Đồ án",LEFT(E45,5)="Đồán ",LEFT(E45,9)="Sinh hoạt",LEFT(E45,9)="sinh hoạt",LEFT(E45,6)="Cố vấn",LEFT(E45,6)="cố vấn",LEFT(E45,4)="cvht",LEFT(E45,4)="CVHT",LEFT(E45,4)="shcn",LEFT(E45,4)="SHCN"),0,(IF(AND(H45>0,J45>0),IF(J45>60,1.3,IF(J45>35,1.2,1)),0))) -> 0 | L45: =IF(OR(LEFT(E45,2)="ĐA",LEFT(E45,2)="DA",LEFT(E45,5)="Đồ án",LEFT(E45,5)="Đồán "),0,IF(AND(J45>0,I45>0),IF(AND(OR(LEFT(E45,4)="GDQP",LEFT(E45,4)="gdqp",LEFT(E45,19)="Giáo dục quốc phòng"),J45>50),1.3,IF(J45>35,1.2,IF(J45>29,1.1,1))),0)) -> 0 | M45: =ROUND(IF(OR(LEFT(E45,2)="ĐA",LEFT(E45,2)="DA",LEFT(E45,5)="Đồ án",LEFT(E45,5)="Đồán "),J45*0.5,(IF(H45>0,H45*K45,"0")+IF(I45>0,(I45*0.75)*L45,"0"))),1) -> 17
E46: Đồ án 1 | F46: 17C1-TKW1 | G46: 1 | J46: 28 | K46: =IF(OR(LEFT(E46,2)="ĐA",LEFT(E46,2)="DA",LEFT(E46,5)="Đồ án",LEFT(E46,5)="Đồán ",LEFT(E46,9)="Sinh hoạt",LEFT(E46,9)="sinh hoạt",LEFT(E46,6)="Cố vấn",LEFT(E46,6)="cố vấn",LEFT(E46,4)="cvht",LEFT(E46,4)="CVHT",LEFT(E46,4)="shcn",LEFT(E46,4)="SHCN"),0,(IF(AND(H46>0,J46>0),IF(J46>60,1.3,IF(J46>35,1.2,1)),0))) -> 0 | L46: =IF(OR(LEFT(E46,2)="ĐA",LEFT(E46,2)="DA",LEFT(E46,5)="Đồ án",LEFT(E46,5)="Đồán "),0,IF(AND(J46>0,I46>0),IF(AND(OR(LEFT(E46,4)="GDQP",LEFT(E46,4)="gdqp",LEFT(E46,19)="Giáo dục quốc phòng"),J46>50),1.3,IF(J46>35,1.2,IF(J46>29,1.1,1))),0)) -> 0 | M46: =ROUND(IF(OR(LEFT(E46,2)="ĐA",LEFT(E46,2)="DA",LEFT(E46,5)="Đồ án",LEFT(E46,5)="Đồán "),J46*0.5,(IF(H46>0,H46*K46,"0")+IF(I46>0,(I46*0.75)*L46,"0"))),1) -> 14
E47: Thiết kế Web | F47: 18C1-LTM | G47: 2 | H47: 30 | I47: 60 | J47: 40 | K47: =IF(OR(LEFT(E47,2)="ĐA",LEFT(E47,2)="DA",LEFT(E47,5)="Đồ án",LEFT(E47,5)="Đồán ",LEFT(E47,9)="Sinh hoạt",LEFT(E47,9)="sinh hoạt",LEFT(E47,6)="Cố vấn",LEFT(E47,6)="cố vấn",LEFT(E47,4)="cvht",LEFT(E47,4)="CVHT",LEFT(E47,4)="shcn",LEFT(E47,4)="SHCN"),0,(IF(AND(H47>0,J47>0),IF(J47>60,1.3,IF(J47>35,1.2,1)),0))) -> 1.2 | L47: =IF(OR(LEFT(E47,2)="ĐA",LEFT(E47,2)="DA",LEFT(E47,5)="Đồ án",LEFT(E47,5)="Đồán "),0,IF(AND(J47>0,I47>0),IF(AND(OR(LEFT(E47,4)="GDQP",LEFT(E47,4)="gdqp",LEFT(E47,19)="Giáo dục quốc phòng"),J47>50),1.3,IF(J47>35,1.2,IF(J47>29,1.1,1))),0)) -> 1.2 | M47: =ROUND(IF(OR(LEFT(E47,2)="ĐA",LEFT(E47,2)="DA",LEFT(E47,5)="Đồ án",LEFT(E47,5)="Đồán "),J47*0.5,(IF(H47>0,H47*K47,"0")+IF(I47>0,(I47*0.75)*L47,"0"))),1) -> 90
E48: XML | F48: 17C1-LTM1 | G48: 2 | H48: 15 | I48: 30 | J48: 34 | K48: =IF(OR(LEFT(E48,2)="ĐA",LEFT(E48,2)="DA",LEFT(E48,5)="Đồ án",LEFT(E48,5)="Đồán ",LEFT(E48,9)="Sinh hoạt",LEFT(E48,9)="sinh hoạt",LEFT(E48,6)="Cố vấn",LEFT(E48,6)="cố vấn",LEFT(E48,4)="cvht",LEFT(E48,4)="CVHT",LEFT(E48,4)="shcn",LEFT(E48,4)="SHCN"),0,(IF(AND(H48>0,J48>0),IF(J48>60,1.3,IF(J48>35,1.2,1)),0))) -> 1 | L48: =IF(OR(LEFT(E48,2)="ĐA",LEFT(E48,2)="DA",LEFT(E48,5)="Đồ án",LEFT(E48,5)="Đồán "),0,IF(AND(J48>0,I48>0),IF(AND(OR(LEFT(E48,4)="GDQP",LEFT(E48,4)="gdqp",LEFT(E48,19)="Giáo dục quốc phòng"),J48>50),1.3,IF(J48>35,1.2,IF(J48>29,1.1,1))),0)) -> 1.1 | M48: =ROUND(IF(OR(LEFT(E48,2)="ĐA",LEFT(E48,2)="DA",LEFT(E48,5)="Đồ án",LEFT(E48,5)="Đồán "),J48*0.5,(IF(H48>0,H48*K48,"0")+IF(I48>0,(I48*0.75)*L48,"0"))),1) -> 39.8
E49: XML | F49: 17C1-LTM2 | G49: 2 | H49: 15 | I49: 30 | J49: 40 | K49: =IF(OR(LEFT(E49,2)="ĐA",LEFT(E49,2)="DA",LEFT(E49,5)="Đồ án",LEFT(E49,5)="Đồán ",LEFT(E49,9)="Sinh hoạt",LEFT(E49,9)="sinh hoạt",LEFT(E49,6)="Cố vấn",LEFT(E49,6)="cố vấn",LEFT(E49,4)="cvht",LEFT(E49,4)="CVHT",LEFT(E49,4)="shcn",LEFT(E49,4)="SHCN"),0,(IF(AND(H49>0,J49>0),IF(J49>60,1.3,IF(J49>35,1.2,1)),0))) -> 1.2 | L49: =IF(OR(LEFT(E49,2)="ĐA",LEFT(E49,2)="DA",LEFT(E49,5)="Đồ án",LEFT(E49,5)="Đồán "),0,IF(AND(J49>0,I49>0),IF(AND(OR(LEFT(E49,4)="GDQP",LEFT(E49,4)="gdqp",LEFT(E49,19)="Giáo dục quốc phòng"),J49>50),1.3,IF(J49>35,1.2,IF(J49>29,1.1,1))),0)) -> 1.2 | M49: =ROUND(IF(OR(LEFT(E49,2)="ĐA",LEFT(E49,2)="DA",LEFT(E49,5)="Đồ án",LEFT(E49,5)="Đồán "),J49*0.5,(IF(H49>0,H49*K49,"0")+IF(I49>0,(I49*0.75)*L49,"0"))),1) -> 45
E50: XML | F50: 16CĐ-TP1 | G50: 2 | H50: 15 | J50: 30 | K50: =IF(OR(LEFT(E50,2)="ĐA",LEFT(E50,2)="DA",LEFT(E50,5)="Đồ án",LEFT(E50,5)="Đồán ",LEFT(E50,9)="Sinh hoạt",LEFT(E50,9)="sinh hoạt",LEFT(E50,6)="Cố vấn",LEFT(E50,6)="cố vấn",LEFT(E50,4)="cvht",LEFT(E50,4)="CVHT",LEFT(E50,4)="shcn",LEFT(E50,4)="SHCN"),0,(IF(AND(H50>0,J50>0),IF(J50>60,1.3,IF(J50>35,1.2,1)),0))) -> 1 | L50: =IF(OR(LEFT(E50,2)="ĐA",LEFT(E50,2)="DA",LEFT(E50,5)="Đồ án",LEFT(E50,5)="Đồán "),0,IF(AND(J50>0,I50>0),IF(AND(OR(LEFT(E50,4)="GDQP",LEFT(E50,4)="gdqp",LEFT(E50,19)="Giáo dục quốc phòng"),J50>50),1.3,IF(J50>35,1.2,IF(J50>29,1.1,1))),0)) -> 0 | M50: =ROUND(IF(OR(LEFT(E50,2)="ĐA",LEFT(E50,2)="DA",LEFT(E50,5)="Đồ án",LEFT(E50,5)="Đồán "),J50*0.5,(IF(H50>0,H50*K50,"0")+IF(I50>0,(I50*0.75)*L50,"0"))),1) -> 15
E51: XML- N1 | F51: 16CĐ-TP1 | G51: 2 | I51: 30 | J51: 30 | K51: =IF(OR(LEFT(E51,2)="ĐA",LEFT(E51,2)="DA",LEFT(E51,5)="Đồ án",LEFT(E51,5)="Đồán ",LEFT(E51,9)="Sinh hoạt",LEFT(E51,9)="sinh hoạt",LEFT(E51,6)="Cố vấn",LEFT(E51,6)="cố vấn",LEFT(E51,4)="cvht",LEFT(E51,4)="CVHT",LEFT(E51,4)="shcn",LEFT(E51,4)="SHCN"),0,(IF(AND(H51>0,J51>0),IF(J51>60,1.3,IF(J51>35,1.2,1)),0))) -> 0 | L51: =IF(OR(LEFT(E51,2)="ĐA",LEFT(E51,2)="DA",LEFT(E51,5)="Đồ án",LEFT(E51,5)="Đồán "),0,IF(AND(J51>0,I51>0),IF(AND(OR(LEFT(E51,4)="GDQP",LEFT(E51,4)="gdqp",LEFT(E51,19)="Giáo dục quốc phòng"),J51>50),1.3,IF(J51>35,1.2,IF(J51>29,1.1,1))),0)) -> 1.1 | M51: =ROUND(IF(OR(LEFT(E51,2)="ĐA",LEFT(E51,2)="DA",LEFT(E51,5)="Đồ án",LEFT(E51,5)="Đồán "),J51*0.5,(IF(H51>0,H51*K51,"0")+IF(I51>0,(I51*0.75)*L51,"0"))),1) -> 24.8
E52: XML- N2 | F52: 16CĐ-TP1 | G52: 2 | I52: 30 | J52: 30 | K52: =IF(OR(LEFT(E52,2)="ĐA",LEFT(E52,2)="DA",LEFT(E52,5)="Đồ án",LEFT(E52,5)="Đồán ",LEFT(E52,9)="Sinh hoạt",LEFT(E52,9)="sinh hoạt",LEFT(E52,6)="Cố vấn",LEFT(E52,6)="cố vấn",LEFT(E52,4)="cvht",LEFT(E52,4)="CVHT",LEFT(E52,4)="shcn",LEFT(E52,4)="SHCN"),0,(IF(AND(H52>0,J52>0),IF(J52>60,1.3,IF(J52>35,1.2,1)),0))) -> 0 | L52: =IF(OR(LEFT(E52,2)="ĐA",LEFT(E52,2)="DA",LEFT(E52,5)="Đồ án",LEFT(E52,5)="Đồán "),0,IF(AND(J52>0,I52>0),IF(AND(OR(LEFT(E52,4)="GDQP",LEFT(E52,4)="gdqp",LEFT(E52,19)="Giáo dục quốc phòng"),J52>50),1.3,IF(J52>35,1.2,IF(J52>29,1.1,1))),0)) -> 1.1 | M52: =ROUND(IF(OR(LEFT(E52,2)="ĐA",LEFT(E52,2)="DA",LEFT(E52,5)="Đồ án",LEFT(E52,5)="Đồán "),J52*0.5,(IF(H52>0,H52*K52,"0")+IF(I52>0,(I52*0.75)*L52,"0"))),1) -> 24.8
E53: Lập trình PHP 1 | F53: 16CĐ-TW | G53: 2 | H53: 30 | J53: 54 | K53: =IF(OR(LEFT(E53,2)="ĐA",LEFT(E53,2)="DA",LEFT(E53,5)="Đồ án",LEFT(E53,5)="Đồán ",LEFT(E53,9)="Sinh hoạt",LEFT(E53,9)="sinh hoạt",LEFT(E53,6)="Cố vấn",LEFT(E53,6)="cố vấn",LEFT(E53,4)="cvht",LEFT(E53,4)="CVHT",LEFT(E53,4)="shcn",LEFT(E53,4)="SHCN"),0,(IF(AND(H53>0,J53>0),IF(J53>60,1.3,IF(J53>35,1.2,1)),0))) -> 1.2 | L53: =IF(OR(LEFT(E53,2)="ĐA",LEFT(E53,2)="DA",LEFT(E53,5)="Đồ án",LEFT(E53,5)="Đồán "),0,IF(AND(J53>0,I53>0),IF(AND(OR(LEFT(E53,4)="GDQP",LEFT(E53,4)="gdqp",LEFT(E53,19)="Giáo dục quốc phòng"),J53>50),1.3,IF(J53>35,1.2,IF(J53>29,1.1,1))),0)) -> 0 | M53: =ROUND(IF(OR(LEFT(E53,2)="ĐA",LEFT(E53,2)="DA",LEFT(E53,5)="Đồ án",LEFT(E53,5)="Đồán "),J53*0.5,(IF(H53>0,H53*K53,"0")+IF(I53>0,(I53*0.75)*L53,"0"))),1) -> 36
E54: Lập trình PHP 1-N1 | F54: 16CĐ-TW | G54: 2 | I54: 60 | J54: 27 | K54: =IF(OR(LEFT(E54,2)="ĐA",LEFT(E54,2)="DA",LEFT(E54,5)="Đồ án",LEFT(E54,5)="Đồán ",LEFT(E54,9)="Sinh hoạt",LEFT(E54,9)="sinh hoạt",LEFT(E54,6)="Cố vấn",LEFT(E54,6)="cố vấn",LEFT(E54,4)="cvht",LEFT(E54,4)="CVHT",LEFT(E54,4)="shcn",LEFT(E54,4)="SHCN"),0,(IF(AND(H54>0,J54>0),IF(J54>60,1.3,IF(J54>35,1.2,1)),0))) -> 0 | L54: =IF(OR(LEFT(E54,2)="ĐA",LEFT(E54,2)="DA",LEFT(E54,5)="Đồ án",LEFT(E54,5)="Đồán "),0,IF(AND(J54>0,I54>0),IF(AND(OR(LEFT(E54,4)="GDQP",LEFT(E54,4)="gdqp",LEFT(E54,19)="Giáo dục quốc phòng"),J54>50),1.3,IF(J54>35,1.2,IF(J54>29,1.1,1))),0)) -> 1 | M54: =ROUND(IF(OR(LEFT(E54,2)="ĐA",LEFT(E54,2)="DA",LEFT(E54,5)="Đồ án",LEFT(E54,5)="Đồán "),J54*0.5,(IF(H54>0,H54*K54,"0")+IF(I54>0,(I54*0.75)*L54,"0"))),1) -> 45
E55: Lập trình PHP 1-N2 | F55: 16CĐ-TW | G55: 2 | I55: 60 | J55: 27 | K55: =IF(OR(LEFT(E55,2)="ĐA",LEFT(E55,2)="DA",LEFT(E55,5)="Đồ án",LEFT(E55,5)="Đồán ",LEFT(E55,9)="Sinh hoạt",LEFT(E55,9)="sinh hoạt",LEFT(E55,6)="Cố vấn",LEFT(E55,6)="cố vấn",LEFT(E55,4)="cvht",LEFT(E55,4)="CVHT",LEFT(E55,4)="shcn",LEFT(E55,4)="SHCN"),0,(IF(AND(H55>0,J55>0),IF(J55>60,1.3,IF(J55>35,1.2,1)),0))) -> 0 | L55: =IF(OR(LEFT(E55,2)="ĐA",LEFT(E55,2)="DA",LEFT(E55,5)="Đồ án",LEFT(E55,5)="Đồán "),0,IF(AND(J55>0,I55>0),IF(AND(OR(LEFT(E55,4)="GDQP",LEFT(E55,4)="gdqp",LEFT(E55,19)="Giáo dục quốc phòng"),J55>50),1.3,IF(J55>35,1.2,IF(J55>29,1.1,1))),0)) -> 1 | M55: =ROUND(IF(OR(LEFT(E55,2)="ĐA",LEFT(E55,2)="DA",LEFT(E55,5)="Đồ án",LEFT(E55,5)="Đồán "),J55*0.5,(IF(H55>0,H55*K55,"0")+IF(I55>0,(I55*0.75)*L55,"0"))),1) -> 45
E56: Đồ án | F56: 16CĐ-TW | G56: 2 | J56: 40 | K56: =IF(OR(LEFT(E56,2)="ĐA",LEFT(E56,2)="DA",LEFT(E56,5)="Đồ án",LEFT(E56,5)="Đồán ",LEFT(E56,9)="Sinh hoạt",LEFT(E56,9)="sinh hoạt",LEFT(E56,6)="Cố vấn",LEFT(E56,6)="cố vấn",LEFT(E56,4)="cvht",LEFT(E56,4)="CVHT",LEFT(E56,4)="shcn",LEFT(E56,4)="SHCN"),0,(IF(AND(H56>0,J56>0),IF(J56>60,1.3,IF(J56>35,1.2,1)),0))) -> 0 | L56: =IF(OR(LEFT(E56,2)="ĐA",LEFT(E56,2)="DA",LEFT(E56,5)="Đồ án",LEFT(E56,5)="Đồán "),0,IF(AND(J56>0,I56>0),IF(AND(OR(LEFT(E56,4)="GDQP",LEFT(E56,4)="gdqp",LEFT(E56,19)="Giáo dục quốc phòng"),J56>50),1.3,IF(J56>35,1.2,IF(J56>29,1.1,1))),0)) -> 0 | M56: =ROUND(IF(OR(LEFT(E56,2)="ĐA",LEFT(E56,2)="DA",LEFT(E56,5)="Đồ án",LEFT(E56,5)="Đồán "),J56*0.5,(IF(H56>0,H56*K56,"0")+IF(I56>0,(I56*0.75)*L56,"0"))),1) -> 20
E57: Tin học | F57: CĐ22 | G57: 2 | H57: 30 | I57: 60 | J57: 40 | K57: =IF(OR(LEFT(E57,2)="ĐA",LEFT(E57,2)="DA",LEFT(E57,5)="Đồ án",LEFT(E57,5)="Đồán ",LEFT(E57,9)="Sinh hoạt",LEFT(E57,9)="sinh hoạt",LEFT(E57,6)="Cố vấn",LEFT(E57,6)="cố vấn",LEFT(E57,4)="cvht",LEFT(E57,4)="CVHT",LEFT(E57,4)="shcn",LEFT(E57,4)="SHCN"),0,(IF(AND(H57>0,J57>0),IF(J57>60,1.3,IF(J57>35,1.2,1)),0))) -> 1.2 | L57: =IF(OR(LEFT(E57,2)="ĐA",LEFT(E57,2)="DA",LEFT(E57,5)="Đồ án",LEFT(E57,5)="Đồán "),0,IF(AND(J57>0,I57>0),IF(AND(OR(LEFT(E57,4)="GDQP",LEFT(E57,4)="gdqp",LEFT(E57,19)="Giáo dục quốc phòng"),J57>50),1.3,IF(J57>35,1.2,IF(J57>29,1.1,1))),0)) -> 1.2 | M57: =ROUND(IF(OR(LEFT(E57,2)="ĐA",LEFT(E57,2)="DA",LEFT(E57,5)="Đồ án",LEFT(E57,5)="Đồán "),J57*0.5,(IF(H57>0,H57*K57,"0")+IF(I57>0,(I57*0.75)*L57,"0"))),1) -> 90
K58: =IF(OR(LEFT(E58,2)="ĐA",LEFT(E58,2)="DA",LEFT(E58,5)="Đồ án",LEFT(E58,5)="Đồán ",LEFT(E58,9)="Sinh hoạt",LEFT(E58,9)="sinh hoạt",LEFT(E58,6)="Cố vấn",LEFT(E58,6)="cố vấn",LEFT(E58,4)="cvht",LEFT(E58,4)="CVHT",LEFT(E58,4)="shcn",LEFT(E58,4)="SHCN"),0,(IF(AND(H58>0,J58>0),IF(J58>60,1.3,IF(J58>35,1.2,1)),0))) -> 0 | L58: =IF(OR(LEFT(E58,2)="ĐA",LEFT(E58,2)="DA",LEFT(E58,5)="Đồ án",LEFT(E58,5)="Đồán "),0,IF(AND(J58>0,I58>0),IF(AND(OR(LEFT(E58,4)="GDQP",LEFT(E58,4)="gdqp",LEFT(E58,19)="Giáo dục quốc phòng"),J58>50),1.3,IF(J58>35,1.2,IF(J58>29,1.1,1))),0)) -> 0 | M58: =ROUND(IF(OR(LEFT(E58,2)="ĐA",LEFT(E58,2)="DA",LEFT(E58,5)="Đồ án",LEFT(E58,5)="Đồán "),J58*0.5,(IF(H58>0,H58*K58,"0")+IF(I58>0,(I58*0.75)*L58,"0"))),1) -> 0
K59: =IF(OR(LEFT(E59,2)="ĐA",LEFT(E59,2)="DA",LEFT(E59,5)="Đồ án",LEFT(E59,5)="Đồán ",LEFT(E59,9)="Sinh hoạt",LEFT(E59,9)="sinh hoạt",LEFT(E59,6)="Cố vấn",LEFT(E59,6)="cố vấn",LEFT(E59,4)="cvht",LEFT(E59,4)="CVHT",LEFT(E59,4)="shcn",LEFT(E59,4)="SHCN"),0,(IF(AND(H59>0,J59>0),IF(J59>60,1.3,IF(J59>35,1.2,1)),0))) -> 0 | L59: =IF(OR(LEFT(E59,2)="ĐA",LEFT(E59,2)="DA",LEFT(E59,5)="Đồ án",LEFT(E59,5)="Đồán "),0,IF(AND(J59>0,I59>0),IF(AND(OR(LEFT(E59,4)="GDQP",LEFT(E59,4)="gdqp",LEFT(E59,19)="Giáo dục quốc phòng"),J59>50),1.3,IF(J59>35,1.2,IF(J59>29,1.1,1))),0)) -> 0 | M59: =ROUND(IF(OR(LEFT(E59,2)="ĐA",LEFT(E59,2)="DA",LEFT(E59,5)="Đồ án",LEFT(E59,5)="Đồán "),J59*0.5,(IF(H59>0,H59*K59,"0")+IF(I59>0,(I59*0.75)*L59,"0"))),1) -> 0
K60: =IF(OR(LEFT(E60,2)="ĐA",LEFT(E60,2)="DA",LEFT(E60,5)="Đồ án",LEFT(E60,5)="Đồán ",LEFT(E60,9)="Sinh hoạt",LEFT(E60,9)="sinh hoạt",LEFT(E60,6)="Cố vấn",LEFT(E60,6)="cố vấn",LEFT(E60,4)="cvht",LEFT(E60,4)="CVHT",LEFT(E60,4)="shcn",LEFT(E60,4)="SHCN"),0,(IF(AND(H60>0,J60>0),IF(J60>60,1.3,IF(J60>35,1.2,1)),0))) -> 0 | L60: =IF(OR(LEFT(E60,2)="ĐA",LEFT(E60,2)="DA",LEFT(E60,5)="Đồ án",LEFT(E60,5)="Đồán "),0,IF(AND(J60>0,I60>0),IF(AND(OR(LEFT(E60,4)="GDQP",LEFT(E60,4)="gdqp",LEFT(E60,19)="Giáo dục quốc phòng"),J60>50),1.3,IF(J60>35,1.2,IF(J60>29,1.1,1))),0)) -> 0 | M60: =ROUND(IF(OR(LEFT(E60,2)="ĐA",LEFT(E60,2)="DA",LEFT(E60,5)="Đồ án",LEFT(E60,5)="Đồán "),J60*0.5,(IF(H60>0,H60*K60,"0")+IF(I60>0,(I60*0.75)*L60,"0"))),1) -> 0
A61: TỔNG CỘNG | H61: =SUM(H11:H60) -> 840 | I61: =SUM(I11:I60) -> 1260 | M61: =SUM(M11:M60) -> 2142.5 | N61: =SUM(N11:N60) -> 157 | O61: =SUM(O11:O60) -> 0 | P61: =SUM(P11:P60) -> 2299.5 | Q61: =SUM(Q11:Q60) -> 0 | R61: =SUM(R11:R60) -> 87 | S61: =SUM(S11:S60) -> 900 | T61: =SUM(T11:T60) -> 900 | ... AC61: =SUM(AC11:AC60) -> 1150.5
B62: Cách tính: Cột (10) = cột (6) x cột (8) + (cột (7) x cột (9)) X 0.75 | K62: Cột (13) = cột (10) + cột (11) + cột (12). | S62: Cột (19) = cột (13) - cột (16).
B63: Cột (20) = cột (14) - cột (17) | K63: Cột (21) = cột (15) - cột (18) | S63: Cột (23) = cột (19) + cột (20) + cột (21).
B65: Lưu ý: Cột (8), cột (9), Cột (10) , cột (13), cột (19), cột (20), cột (21), cột (23) : Không nhập dữ liệu vì đã cài sẵn công thức tính.
Y67: Thành phố Hồ Chí Minh, ngày tháng năm 2018
C68: TRƯỞNG P. TS-ĐT | H68: TRƯỞNG TỔ THANH TRA - PHÁP CHẾ | Q68: TRƯỞNG PHÒNG KT&ĐBCL | Y68: TRƯỞNG KHOA

Sheet Sheet1
A1: 18T4-QTM | B1: 60
A2: 18C1-TKĐ1 | B2: 70
A3: 18C1-QTM | B3: 62
A4: 16CĐTP | B4: 65
A5: 16CĐ-TW | B5: 54
A6: 16TCN
